BEGIN:VCALENDAR
PRODID:-//WikiCFP//rosni_lt 1.0//EN
VERSION:2.0
CALSCALE:GREGORIAN
BEGIN:VEVENT
DTSTAMP:20260420T063930Z
DTSTART;VALUE=DATE:20171118
DTEND;VALUE=DATE:20171122
SUMMARY:ICDM 2017
DESCRIPTION:IEEE International Conference on Data Mining 2017
URL:http://www.wikicfp.com/cfp/servlet/event.showcfp?eventid=60171&copyow
 nerid=99612
UID:cfp669107-E@wikicfp.com
END:VEVENT
BEGIN:VEVENT
DTSTAMP:20260420T063930Z
DTSTART;VALUE=DATE:20170605
SUMMARY:ICDM 2017 Deadline
DESCRIPTION:IEEE International Conference on Data Mining 2017
URL:http://www.wikicfp.com/cfp/servlet/event.showcfp?eventid=60171&copyow
 nerid=99612
UID:cfp669107-D@wikicfp.com
END:VEVENT
BEGIN:VEVENT
DTSTAMP:20260420T063930Z
DTSTART;VALUE=DATE:20170815
SUMMARY:ICDM 2017 Notification Due
DESCRIPTION:IEEE International Conference on Data Mining 2017
URL:http://www.wikicfp.com/cfp/servlet/event.showcfp?eventid=60171&copyow
 nerid=99612
UID:cfp669107-N@wikicfp.com
END:VEVENT
BEGIN:VEVENT
DTSTAMP:20260420T063930Z
DTSTART;VALUE=DATE:20181022
DTEND;VALUE=DATE:20181027
SUMMARY:CIKM 2018
DESCRIPTION:International Conference on Information and Knowledge Managem
 ent
URL:http://www.wikicfp.com/cfp/servlet/event.showcfp?eventid=71574&copyow
 nerid=99612
UID:cfp716388-E@wikicfp.com
END:VEVENT
BEGIN:VEVENT
DTSTAMP:20260420T063930Z
DTSTART;VALUE=DATE:20180515
SUMMARY:CIKM 2018 Abstract Due
DESCRIPTION:International Conference on Information and Knowledge Managem
 ent
URL:http://www.wikicfp.com/cfp/servlet/event.showcfp?eventid=71574&copyow
 nerid=99612
UID:cfp716388-A@wikicfp.com
END:VEVENT
BEGIN:VEVENT
DTSTAMP:20260420T063930Z
DTSTART;VALUE=DATE:20180522
SUMMARY:CIKM 2018 Deadline
DESCRIPTION:International Conference on Information and Knowledge Managem
 ent
URL:http://www.wikicfp.com/cfp/servlet/event.showcfp?eventid=71574&copyow
 nerid=99612
UID:cfp716388-D@wikicfp.com
END:VEVENT
END:VCALENDAR
