BEGIN:VCALENDAR
PRODID:-//WikiCFP//adampolak 1.0//EN
VERSION:2.0
CALSCALE:GREGORIAN
BEGIN:VEVENT
DTSTAMP:20260425T121638Z
DTSTART;VALUE=DATE:20170911
DTEND;VALUE=DATE:20170914
SUMMARY:FCT 2017
DESCRIPTION:Fundamentals of Computation Theory
URL:http://www.wikicfp.com/cfp/servlet/event.showcfp?eventid=57579&copyow
 nerid=99407
UID:cfp666999-E@wikicfp.com
END:VEVENT
BEGIN:VEVENT
DTSTAMP:20260425T121638Z
DTSTART;VALUE=DATE:20180107
DTEND;VALUE=DATE:20180109
SUMMARY:SODA 2018
DESCRIPTION:ACM-SIAM Symposium on Discrete Algorithms
URL:http://www.wikicfp.com/cfp/servlet/event.showcfp?eventid=60043&copyow
 nerid=99407
UID:cfp666990-E@wikicfp.com
END:VEVENT
BEGIN:VEVENT
DTSTAMP:20260425T121638Z
DTSTART;VALUE=DATE:20170117
DTEND;VALUE=DATE:20170119
SUMMARY:ALENEX 2017
DESCRIPTION:Algorithm Engineering and Experiments
URL:http://www.wikicfp.com/cfp/servlet/event.showcfp?eventid=55678&copyow
 nerid=99407
UID:cfp667000-E@wikicfp.com
END:VEVENT
BEGIN:VEVENT
DTSTAMP:20260425T121638Z
DTSTART;VALUE=DATE:20160810
SUMMARY:ALENEX 2017 Abstract Due
DESCRIPTION:Algorithm Engineering and Experiments
URL:http://www.wikicfp.com/cfp/servlet/event.showcfp?eventid=55678&copyow
 nerid=99407
UID:cfp667000-A@wikicfp.com
END:VEVENT
BEGIN:VEVENT
DTSTAMP:20260425T121638Z
DTSTART;VALUE=DATE:20160815
SUMMARY:ALENEX 2017 Deadline
DESCRIPTION:Algorithm Engineering and Experiments
URL:http://www.wikicfp.com/cfp/servlet/event.showcfp?eventid=55678&copyow
 nerid=99407
UID:cfp667000-D@wikicfp.com
END:VEVENT
BEGIN:VEVENT
DTSTAMP:20260425T121638Z
DTSTART;VALUE=DATE:20170617
DTEND;VALUE=DATE:20170624
SUMMARY:STOC 2017
DESCRIPTION:Symposium on the Theory of Computing
URL:http://www.wikicfp.com/cfp/servlet/event.showcfp?eventid=58144&copyow
 nerid=99407
UID:cfp666991-E@wikicfp.com
END:VEVENT
BEGIN:VEVENT
DTSTAMP:20260425T121638Z
DTSTART;VALUE=DATE:20161102
SUMMARY:STOC 2017 Deadline
DESCRIPTION:Symposium on the Theory of Computing
URL:http://www.wikicfp.com/cfp/servlet/event.showcfp?eventid=58144&copyow
 nerid=99407
UID:cfp666991-D@wikicfp.com
END:VEVENT
BEGIN:VEVENT
DTSTAMP:20260425T121638Z
DTSTART;VALUE=DATE:20170208
SUMMARY:STOC 2017 Notification Due
DESCRIPTION:Symposium on the Theory of Computing
URL:http://www.wikicfp.com/cfp/servlet/event.showcfp?eventid=58144&copyow
 nerid=99407
UID:cfp666991-N@wikicfp.com
END:VEVENT
BEGIN:VEVENT
DTSTAMP:20260425T121638Z
DTSTART;VALUE=DATE:20170316
SUMMARY:STOC 2017 Final Version Due
DESCRIPTION:Symposium on the Theory of Computing
URL:http://www.wikicfp.com/cfp/servlet/event.showcfp?eventid=58144&copyow
 nerid=99407
UID:cfp666991-N@wikicfp.com
END:VEVENT
BEGIN:VEVENT
DTSTAMP:20260425T121638Z
DTSTART;VALUE=DATE:20170710
DTEND;VALUE=DATE:20170715
SUMMARY:ICALP 2017
DESCRIPTION:44th International Colloquium on Automata\, Languages\, and P
 rogramming
URL:http://www.wikicfp.com/cfp/servlet/event.showcfp?eventid=59138&copyow
 nerid=99407
UID:cfp666992-E@wikicfp.com
END:VEVENT
BEGIN:VEVENT
DTSTAMP:20260425T121638Z
DTSTART;VALUE=DATE:20170217
SUMMARY:ICALP 2017 Deadline
DESCRIPTION:44th International Colloquium on Automata\, Languages\, and P
 rogramming
URL:http://www.wikicfp.com/cfp/servlet/event.showcfp?eventid=59138&copyow
 nerid=99407
UID:cfp666992-D@wikicfp.com
END:VEVENT
BEGIN:VEVENT
DTSTAMP:20260425T121638Z
DTSTART;VALUE=DATE:20170414
SUMMARY:ICALP 2017 Notification Due
DESCRIPTION:44th International Colloquium on Automata\, Languages\, and P
 rogramming
URL:http://www.wikicfp.com/cfp/servlet/event.showcfp?eventid=59138&copyow
 nerid=99407
UID:cfp666992-N@wikicfp.com
END:VEVENT
BEGIN:VEVENT
DTSTAMP:20260425T121638Z
DTSTART;VALUE=DATE:20170430
SUMMARY:ICALP 2017 Final Version Due
DESCRIPTION:44th International Colloquium on Automata\, Languages\, and P
 rogramming
URL:http://www.wikicfp.com/cfp/servlet/event.showcfp?eventid=59138&copyow
 nerid=99407
UID:cfp666992-N@wikicfp.com
END:VEVENT
BEGIN:VEVENT
DTSTAMP:20260425T121638Z
DTSTART;VALUE=DATE:20170803
DTEND;VALUE=DATE:20170806
SUMMARY:COCOON 2017
DESCRIPTION:Computing and Combinatorics Conference
URL:http://www.wikicfp.com/cfp/servlet/event.showcfp?eventid=59841&copyow
 nerid=99407
UID:cfp666993-E@wikicfp.com
END:VEVENT
BEGIN:VEVENT
DTSTAMP:20260425T121638Z
DTSTART;VALUE=DATE:20170320
SUMMARY:COCOON 2017 Deadline
DESCRIPTION:Computing and Combinatorics Conference
URL:http://www.wikicfp.com/cfp/servlet/event.showcfp?eventid=59841&copyow
 nerid=99407
UID:cfp666993-D@wikicfp.com
END:VEVENT
BEGIN:VEVENT
DTSTAMP:20260425T121638Z
DTSTART;VALUE=DATE:20170520
SUMMARY:COCOON 2017 Notification Due
DESCRIPTION:Computing and Combinatorics Conference
URL:http://www.wikicfp.com/cfp/servlet/event.showcfp?eventid=59841&copyow
 nerid=99407
UID:cfp666993-N@wikicfp.com
END:VEVENT
BEGIN:VEVENT
DTSTAMP:20260425T121638Z
DTSTART;VALUE=DATE:20170601
SUMMARY:COCOON 2017 Final Version Due
DESCRIPTION:Computing and Combinatorics Conference
URL:http://www.wikicfp.com/cfp/servlet/event.showcfp?eventid=59841&copyow
 nerid=99407
UID:cfp666993-N@wikicfp.com
END:VEVENT
BEGIN:VEVENT
DTSTAMP:20260425T121638Z
DTSTART;VALUE=DATE:20171015
DTEND;VALUE=DATE:20171031
SUMMARY:FOCS 2017
DESCRIPTION:IEEE Symposium on Foundations of Computer Science 
URL:http://www.wikicfp.com/cfp/servlet/event.showcfp?eventid=60044&copyow
 nerid=99407
UID:cfp666995-E@wikicfp.com
END:VEVENT
BEGIN:VEVENT
DTSTAMP:20260425T121638Z
DTSTART;VALUE=DATE:20170406
SUMMARY:FOCS 2017 Deadline
DESCRIPTION:IEEE Symposium on Foundations of Computer Science 
URL:http://www.wikicfp.com/cfp/servlet/event.showcfp?eventid=60044&copyow
 nerid=99407
UID:cfp666995-D@wikicfp.com
END:VEVENT
BEGIN:VEVENT
DTSTAMP:20260425T121638Z
DTSTART;VALUE=DATE:20170701
SUMMARY:FOCS 2017 Notification Due
DESCRIPTION:IEEE Symposium on Foundations of Computer Science 
URL:http://www.wikicfp.com/cfp/servlet/event.showcfp?eventid=60044&copyow
 nerid=99407
UID:cfp666995-N@wikicfp.com
END:VEVENT
BEGIN:VEVENT
DTSTAMP:20260425T121638Z
DTSTART;VALUE=DATE:20170720
SUMMARY:FOCS 2017 Final Version Due
DESCRIPTION:IEEE Symposium on Foundations of Computer Science 
URL:http://www.wikicfp.com/cfp/servlet/event.showcfp?eventid=60044&copyow
 nerid=99407
UID:cfp666995-N@wikicfp.com
END:VEVENT
BEGIN:VEVENT
DTSTAMP:20260425T121638Z
DTSTART;VALUE=DATE:20170904
DTEND;VALUE=DATE:20170907
SUMMARY:ESA 2017
DESCRIPTION:European Symposium on Algorithms
URL:http://www.wikicfp.com/cfp/servlet/event.showcfp?eventid=60042&copyow
 nerid=99407
UID:cfp666994-E@wikicfp.com
END:VEVENT
BEGIN:VEVENT
DTSTAMP:20260425T121638Z
DTSTART;VALUE=DATE:20170421
SUMMARY:ESA 2017 Deadline
DESCRIPTION:European Symposium on Algorithms
URL:http://www.wikicfp.com/cfp/servlet/event.showcfp?eventid=60042&copyow
 nerid=99407
UID:cfp666994-D@wikicfp.com
END:VEVENT
BEGIN:VEVENT
DTSTAMP:20260425T121638Z
DTSTART;VALUE=DATE:20170619
SUMMARY:ESA 2017 Notification Due
DESCRIPTION:European Symposium on Algorithms
URL:http://www.wikicfp.com/cfp/servlet/event.showcfp?eventid=60042&copyow
 nerid=99407
UID:cfp666994-N@wikicfp.com
END:VEVENT
BEGIN:VEVENT
DTSTAMP:20260425T121638Z
DTSTART;VALUE=DATE:20170630
SUMMARY:ESA 2017 Final Version Due
DESCRIPTION:European Symposium on Algorithms
URL:http://www.wikicfp.com/cfp/servlet/event.showcfp?eventid=60042&copyow
 nerid=99407
UID:cfp666994-N@wikicfp.com
END:VEVENT
BEGIN:VEVENT
DTSTAMP:20260425T121638Z
DTSTART;VALUE=DATE:20170821
DTEND;VALUE=DATE:20170826
SUMMARY:MFCS 2017
DESCRIPTION:42nd International Symposium on  Mathematical Foundations of 
 Computer Science
URL:http://www.wikicfp.com/cfp/servlet/event.showcfp?eventid=63283&copyow
 nerid=99407
UID:cfp666996-E@wikicfp.com
END:VEVENT
BEGIN:VEVENT
DTSTAMP:20260425T121638Z
DTSTART;VALUE=DATE:20170420
SUMMARY:MFCS 2017 Abstract Due
DESCRIPTION:42nd International Symposium on  Mathematical Foundations of 
 Computer Science
URL:http://www.wikicfp.com/cfp/servlet/event.showcfp?eventid=63283&copyow
 nerid=99407
UID:cfp666996-A@wikicfp.com
END:VEVENT
BEGIN:VEVENT
DTSTAMP:20260425T121638Z
DTSTART;VALUE=DATE:20170424
SUMMARY:MFCS 2017 Deadline
DESCRIPTION:42nd International Symposium on  Mathematical Foundations of 
 Computer Science
URL:http://www.wikicfp.com/cfp/servlet/event.showcfp?eventid=63283&copyow
 nerid=99407
UID:cfp666996-D@wikicfp.com
END:VEVENT
BEGIN:VEVENT
DTSTAMP:20260425T121638Z
DTSTART;VALUE=DATE:20170612
SUMMARY:MFCS 2017 Notification Due
DESCRIPTION:42nd International Symposium on  Mathematical Foundations of 
 Computer Science
URL:http://www.wikicfp.com/cfp/servlet/event.showcfp?eventid=63283&copyow
 nerid=99407
UID:cfp666996-N@wikicfp.com
END:VEVENT
BEGIN:VEVENT
DTSTAMP:20260425T121638Z
DTSTART;VALUE=DATE:20170622
SUMMARY:MFCS 2017 Final Version Due
DESCRIPTION:42nd International Symposium on  Mathematical Foundations of 
 Computer Science
URL:http://www.wikicfp.com/cfp/servlet/event.showcfp?eventid=63283&copyow
 nerid=99407
UID:cfp666996-N@wikicfp.com
END:VEVENT
BEGIN:VEVENT
DTSTAMP:20260425T121638Z
DTSTART;VALUE=DATE:20171209
DTEND;VALUE=DATE:20171213
SUMMARY:ISAAC 2017
DESCRIPTION:International Symposium on Algorithms and Computation
URL:http://www.wikicfp.com/cfp/servlet/event.showcfp?eventid=64009&copyow
 nerid=99407
UID:cfp666998-E@wikicfp.com
END:VEVENT
BEGIN:VEVENT
DTSTAMP:20260425T121638Z
DTSTART;VALUE=DATE:20170629
SUMMARY:ISAAC 2017 Deadline
DESCRIPTION:International Symposium on Algorithms and Computation
URL:http://www.wikicfp.com/cfp/servlet/event.showcfp?eventid=64009&copyow
 nerid=99407
UID:cfp666998-D@wikicfp.com
END:VEVENT
BEGIN:VEVENT
DTSTAMP:20260425T121638Z
DTSTART;VALUE=DATE:20170831
SUMMARY:ISAAC 2017 Notification Due
DESCRIPTION:International Symposium on Algorithms and Computation
URL:http://www.wikicfp.com/cfp/servlet/event.showcfp?eventid=64009&copyow
 nerid=99407
UID:cfp666998-N@wikicfp.com
END:VEVENT
BEGIN:VEVENT
DTSTAMP:20260425T121638Z
DTSTART;VALUE=DATE:20171003
SUMMARY:ISAAC 2017 Final Version Due
DESCRIPTION:International Symposium on Algorithms and Computation
URL:http://www.wikicfp.com/cfp/servlet/event.showcfp?eventid=64009&copyow
 nerid=99407
UID:cfp666998-N@wikicfp.com
END:VEVENT
END:VCALENDAR
