BEGIN:VCALENDAR
PRODID:-//WikiCFP//anamika 1.0//EN
VERSION:2.0
CALSCALE:GREGORIAN
BEGIN:VEVENT
DTSTAMP:20260423T143230Z
DTSTART;VALUE=DATE:20101208
DTEND;VALUE=DATE:20101211
SUMMARY:ICMiA 2010
DESCRIPTION:2nd International Conference on Data Mining and Intelligent I
 nformation Technology Applications
URL:http://www.wikicfp.com/cfp/servlet/event.showcfp?eventid=8609&copyown
 erid=9883
UID:cfp74382-E@wikicfp.com
END:VEVENT
BEGIN:VEVENT
DTSTAMP:20260423T143230Z
DTSTART;VALUE=DATE:20100730
SUMMARY:ICMiA 2010 Deadline
DESCRIPTION:2nd International Conference on Data Mining and Intelligent I
 nformation Technology Applications
URL:http://www.wikicfp.com/cfp/servlet/event.showcfp?eventid=8609&copyown
 erid=9883
UID:cfp74382-D@wikicfp.com
END:VEVENT
BEGIN:VEVENT
DTSTAMP:20260423T143230Z
DTSTART;VALUE=DATE:20100830
SUMMARY:ICMiA 2010 Notification Due
DESCRIPTION:2nd International Conference on Data Mining and Intelligent I
 nformation Technology Applications
URL:http://www.wikicfp.com/cfp/servlet/event.showcfp?eventid=8609&copyown
 erid=9883
UID:cfp74382-N@wikicfp.com
END:VEVENT
BEGIN:VEVENT
DTSTAMP:20260423T143230Z
DTSTART;VALUE=DATE:20100910
SUMMARY:ICMiA 2010 Final Version Due
DESCRIPTION:2nd International Conference on Data Mining and Intelligent I
 nformation Technology Applications
URL:http://www.wikicfp.com/cfp/servlet/event.showcfp?eventid=8609&copyown
 erid=9883
UID:cfp74382-N@wikicfp.com
END:VEVENT
END:VCALENDAR
