BEGIN:VCALENDAR
PRODID:-//WikiCFP//matthiasweidlich 1.0//EN
VERSION:2.0
CALSCALE:GREGORIAN
BEGIN:VEVENT
DTSTAMP:20260419T151934Z
DTSTART;VALUE=DATE:20101013
DTEND;VALUE=DATE:20101015
SUMMARY:BPMN 2010
DESCRIPTION:2nd International Workshop on BPMN
URL:http://www.wikicfp.com/cfp/servlet/event.showcfp?eventid=9130&copyown
 erid=9844
UID:cfp87976-E@wikicfp.com
END:VEVENT
BEGIN:VEVENT
DTSTAMP:20260419T151934Z
DTSTART;VALUE=DATE:20100607
SUMMARY:BPMN 2010 Deadline
DESCRIPTION:2nd International Workshop on BPMN
URL:http://www.wikicfp.com/cfp/servlet/event.showcfp?eventid=9130&copyown
 erid=9844
UID:cfp87976-D@wikicfp.com
END:VEVENT
BEGIN:VEVENT
DTSTAMP:20260419T151934Z
DTSTART;VALUE=DATE:20101207
DTEND;VALUE=DATE:20101211
SUMMARY:ICSOC 2010
DESCRIPTION:8th International Conference on Service Oriented Computing
URL:http://www.wikicfp.com/cfp/servlet/event.showcfp?eventid=8773&copyown
 erid=9844
UID:cfp74213-E@wikicfp.com
END:VEVENT
BEGIN:VEVENT
DTSTAMP:20260419T151934Z
DTSTART;VALUE=DATE:20100607
SUMMARY:ICSOC 2010 Abstract Due
DESCRIPTION:8th International Conference on Service Oriented Computing
URL:http://www.wikicfp.com/cfp/servlet/event.showcfp?eventid=8773&copyown
 erid=9844
UID:cfp74213-A@wikicfp.com
END:VEVENT
BEGIN:VEVENT
DTSTAMP:20260419T151934Z
DTSTART;VALUE=DATE:20100614
SUMMARY:ICSOC 2010 Deadline
DESCRIPTION:8th International Conference on Service Oriented Computing
URL:http://www.wikicfp.com/cfp/servlet/event.showcfp?eventid=8773&copyown
 erid=9844
UID:cfp74213-D@wikicfp.com
END:VEVENT
BEGIN:VEVENT
DTSTAMP:20260419T151934Z
DTSTART;VALUE=DATE:20100714
SUMMARY:ICSOC 2010 Notification Due
DESCRIPTION:8th International Conference on Service Oriented Computing
URL:http://www.wikicfp.com/cfp/servlet/event.showcfp?eventid=8773&copyown
 erid=9844
UID:cfp74213-N@wikicfp.com
END:VEVENT
BEGIN:VEVENT
DTSTAMP:20260419T151934Z
DTSTART;VALUE=DATE:20100823
SUMMARY:ICSOC 2010 Final Version Due
DESCRIPTION:8th International Conference on Service Oriented Computing
URL:http://www.wikicfp.com/cfp/servlet/event.showcfp?eventid=8773&copyown
 erid=9844
UID:cfp74213-N@wikicfp.com
END:VEVENT
BEGIN:VEVENT
DTSTAMP:20260419T151934Z
DTSTART;VALUE=DATE:20120912
DTEND;VALUE=DATE:20120914
SUMMARY:BPMN 2012
DESCRIPTION:4th International Workshop on the Business Process Model and 
 Notation (BPMN 2012)
URL:http://www.wikicfp.com/cfp/servlet/event.showcfp?eventid=21578&copyow
 nerid=9844
UID:cfp246849-E@wikicfp.com
END:VEVENT
BEGIN:VEVENT
DTSTAMP:20260419T151934Z
DTSTART;VALUE=DATE:20120515
SUMMARY:BPMN 2012 Deadline
DESCRIPTION:4th International Workshop on the Business Process Model and 
 Notation (BPMN 2012)
URL:http://www.wikicfp.com/cfp/servlet/event.showcfp?eventid=21578&copyow
 nerid=9844
UID:cfp246849-D@wikicfp.com
END:VEVENT
BEGIN:VEVENT
DTSTAMP:20260419T151934Z
DTSTART;VALUE=DATE:20120615
SUMMARY:BPMN 2012 Notification Due
DESCRIPTION:4th International Workshop on the Business Process Model and 
 Notation (BPMN 2012)
URL:http://www.wikicfp.com/cfp/servlet/event.showcfp?eventid=21578&copyow
 nerid=9844
UID:cfp246849-N@wikicfp.com
END:VEVENT
BEGIN:VEVENT
DTSTAMP:20260419T151934Z
DTSTART;VALUE=DATE:20120627
SUMMARY:BPMN 2012 Final Version Due
DESCRIPTION:4th International Workshop on the Business Process Model and 
 Notation (BPMN 2012)
URL:http://www.wikicfp.com/cfp/servlet/event.showcfp?eventid=21578&copyow
 nerid=9844
UID:cfp246849-N@wikicfp.com
END:VEVENT
BEGIN:VEVENT
DTSTAMP:20260419T151934Z
DTSTART;VALUE=DATE:20140911
DTEND;VALUE=DATE:20140913
SUMMARY:WS-FM:FASOCC 2014
DESCRIPTION:11th International Workshop on Web Services and Formal Method
 s: Formal Aspects of Service-Oriented and Cloud Computing
URL:http://www.wikicfp.com/cfp/servlet/event.showcfp?eventid=35785&copyow
 nerid=9844
UID:cfp421196-E@wikicfp.com
END:VEVENT
BEGIN:VEVENT
DTSTAMP:20260419T151934Z
DTSTART;VALUE=DATE:20140609
SUMMARY:WS-FM:FASOCC 2014 Deadline
DESCRIPTION:11th International Workshop on Web Services and Formal Method
 s: Formal Aspects of Service-Oriented and Cloud Computing
URL:http://www.wikicfp.com/cfp/servlet/event.showcfp?eventid=35785&copyow
 nerid=9844
UID:cfp421196-D@wikicfp.com
END:VEVENT
BEGIN:VEVENT
DTSTAMP:20260419T151934Z
DTSTART;VALUE=DATE:20140709
SUMMARY:WS-FM:FASOCC 2014 Notification Due
DESCRIPTION:11th International Workshop on Web Services and Formal Method
 s: Formal Aspects of Service-Oriented and Cloud Computing
URL:http://www.wikicfp.com/cfp/servlet/event.showcfp?eventid=35785&copyow
 nerid=9844
UID:cfp421196-N@wikicfp.com
END:VEVENT
BEGIN:VEVENT
DTSTAMP:20260419T151934Z
DTSTART;VALUE=DATE:20140730
SUMMARY:WS-FM:FASOCC 2014 Final Version Due
DESCRIPTION:11th International Workshop on Web Services and Formal Method
 s: Formal Aspects of Service-Oriented and Cloud Computing
URL:http://www.wikicfp.com/cfp/servlet/event.showcfp?eventid=35785&copyow
 nerid=9844
UID:cfp421196-N@wikicfp.com
END:VEVENT
BEGIN:VEVENT
DTSTAMP:20260419T151934Z
DTSTART;VALUE=DATE:20150831
DTEND;VALUE=DATE:20150904
SUMMARY:BPM 2015
DESCRIPTION:13th International Conference on Business Process Management
URL:http://www.wikicfp.com/cfp/servlet/event.showcfp?eventid=32419&copyow
 nerid=9844
UID:cfp379920-E@wikicfp.com
END:VEVENT
BEGIN:VEVENT
DTSTAMP:20260419T151934Z
DTSTART;VALUE=DATE:20150308
SUMMARY:BPM 2015 Abstract Due
DESCRIPTION:13th International Conference on Business Process Management
URL:http://www.wikicfp.com/cfp/servlet/event.showcfp?eventid=32419&copyow
 nerid=9844
UID:cfp379920-A@wikicfp.com
END:VEVENT
BEGIN:VEVENT
DTSTAMP:20260419T151934Z
DTSTART;VALUE=DATE:20150315
SUMMARY:BPM 2015 Deadline
DESCRIPTION:13th International Conference on Business Process Management
URL:http://www.wikicfp.com/cfp/servlet/event.showcfp?eventid=32419&copyow
 nerid=9844
UID:cfp379920-D@wikicfp.com
END:VEVENT
BEGIN:VEVENT
DTSTAMP:20260419T151934Z
DTSTART;VALUE=DATE:20150515
SUMMARY:BPM 2015 Notification Due
DESCRIPTION:13th International Conference on Business Process Management
URL:http://www.wikicfp.com/cfp/servlet/event.showcfp?eventid=32419&copyow
 nerid=9844
UID:cfp379920-N@wikicfp.com
END:VEVENT
BEGIN:VEVENT
DTSTAMP:20260419T151934Z
DTSTART;VALUE=DATE:20150615
SUMMARY:BPM 2015 Final Version Due
DESCRIPTION:13th International Conference on Business Process Management
URL:http://www.wikicfp.com/cfp/servlet/event.showcfp?eventid=32419&copyow
 nerid=9844
UID:cfp379920-N@wikicfp.com
END:VEVENT
END:VCALENDAR
