BEGIN:VCALENDAR
PRODID:-//WikiCFP//tiiago11 1.0//EN
VERSION:2.0
CALSCALE:GREGORIAN
BEGIN:VEVENT
DTSTAMP:20260420T125511Z
DTSTART;VALUE=DATE:20160730
DTEND;VALUE=DATE:20160804
SUMMARY:SIGGRAPH 2017
DESCRIPTION:International Conference on Computer Graphics and Interactive
  Techniques
URL:http://www.wikicfp.com/cfp/servlet/event.showcfp?eventid=56909&copyow
 nerid=98359
UID:cfp662058-E@wikicfp.com
END:VEVENT
BEGIN:VEVENT
DTSTAMP:20260420T125511Z
DTSTART;VALUE=DATE:20170124
SUMMARY:SIGGRAPH 2017 Deadline
DESCRIPTION:International Conference on Computer Graphics and Interactive
  Techniques
URL:http://www.wikicfp.com/cfp/servlet/event.showcfp?eventid=56909&copyow
 nerid=98359
UID:cfp662058-D@wikicfp.com
END:VEVENT
BEGIN:VEVENT
DTSTAMP:20260420T125511Z
DTSTART;VALUE=DATE:20170728
DTEND;VALUE=DATE:20170731
SUMMARY:HPG 2017
DESCRIPTION:High-Performance Graphics 2017
URL:http://www.wikicfp.com/cfp/servlet/event.showcfp?eventid=60966&copyow
 nerid=98359
UID:cfp662060-E@wikicfp.com
END:VEVENT
BEGIN:VEVENT
DTSTAMP:20260420T125511Z
DTSTART;VALUE=DATE:20170421
SUMMARY:HPG 2017 Deadline
DESCRIPTION:High-Performance Graphics 2017
URL:http://www.wikicfp.com/cfp/servlet/event.showcfp?eventid=60966&copyow
 nerid=98359
UID:cfp662060-D@wikicfp.com
END:VEVENT
BEGIN:VEVENT
DTSTAMP:20260420T125511Z
DTSTART;VALUE=DATE:20170605
SUMMARY:HPG 2017 Notification Due
DESCRIPTION:High-Performance Graphics 2017
URL:http://www.wikicfp.com/cfp/servlet/event.showcfp?eventid=60966&copyow
 nerid=98359
UID:cfp662060-N@wikicfp.com
END:VEVENT
BEGIN:VEVENT
DTSTAMP:20260420T125511Z
DTSTART;VALUE=DATE:20170615
SUMMARY:HPG 2017 Final Version Due
DESCRIPTION:High-Performance Graphics 2017
URL:http://www.wikicfp.com/cfp/servlet/event.showcfp?eventid=60966&copyow
 nerid=98359
UID:cfp662060-N@wikicfp.com
END:VEVENT
BEGIN:VEVENT
DTSTAMP:20260420T125511Z
DTSTART;VALUE=DATE:20171107
DTEND;VALUE=DATE:20171111
SUMMARY:SIGSPATIAL 2017
DESCRIPTION:The 25th ACM SIGSPATIAL International Conference on Advances 
 in Geographic Information Systems (ACM SIGSPATIAL GIS 2017)
URL:http://www.wikicfp.com/cfp/servlet/event.showcfp?eventid=61508&copyow
 nerid=98359
UID:cfp662056-E@wikicfp.com
END:VEVENT
BEGIN:VEVENT
DTSTAMP:20260420T125511Z
DTSTART;VALUE=DATE:20170606
SUMMARY:SIGSPATIAL 2017 Abstract Due
DESCRIPTION:The 25th ACM SIGSPATIAL International Conference on Advances 
 in Geographic Information Systems (ACM SIGSPATIAL GIS 2017)
URL:http://www.wikicfp.com/cfp/servlet/event.showcfp?eventid=61508&copyow
 nerid=98359
UID:cfp662056-A@wikicfp.com
END:VEVENT
BEGIN:VEVENT
DTSTAMP:20260420T125511Z
DTSTART;VALUE=DATE:20170613
SUMMARY:SIGSPATIAL 2017 Deadline
DESCRIPTION:The 25th ACM SIGSPATIAL International Conference on Advances 
 in Geographic Information Systems (ACM SIGSPATIAL GIS 2017)
URL:http://www.wikicfp.com/cfp/servlet/event.showcfp?eventid=61508&copyow
 nerid=98359
UID:cfp662056-D@wikicfp.com
END:VEVENT
BEGIN:VEVENT
DTSTAMP:20260420T125511Z
DTSTART;VALUE=DATE:20170817
SUMMARY:SIGSPATIAL 2017 Notification Due
DESCRIPTION:The 25th ACM SIGSPATIAL International Conference on Advances 
 in Geographic Information Systems (ACM SIGSPATIAL GIS 2017)
URL:http://www.wikicfp.com/cfp/servlet/event.showcfp?eventid=61508&copyow
 nerid=98359
UID:cfp662056-N@wikicfp.com
END:VEVENT
BEGIN:VEVENT
DTSTAMP:20260420T125511Z
DTSTART;VALUE=DATE:20171106
DTEND;VALUE=DATE:20171109
SUMMARY:GeoSpatial  2017
DESCRIPTION:GeoSpatial Science Conference 2017
URL:http://www.wikicfp.com/cfp/servlet/event.showcfp?eventid=62961&copyow
 nerid=98359
UID:cfp662061-E@wikicfp.com
END:VEVENT
BEGIN:VEVENT
DTSTAMP:20260420T125511Z
DTSTART;VALUE=DATE:20170810
SUMMARY:GeoSpatial  2017 Deadline
DESCRIPTION:GeoSpatial Science Conference 2017
URL:http://www.wikicfp.com/cfp/servlet/event.showcfp?eventid=62961&copyow
 nerid=98359
UID:cfp662061-D@wikicfp.com
END:VEVENT
BEGIN:VEVENT
DTSTAMP:20260420T125511Z
DTSTART;VALUE=DATE:20170830
SUMMARY:GeoSpatial  2017 Notification Due
DESCRIPTION:GeoSpatial Science Conference 2017
URL:http://www.wikicfp.com/cfp/servlet/event.showcfp?eventid=62961&copyow
 nerid=98359
UID:cfp662061-N@wikicfp.com
END:VEVENT
BEGIN:VEVENT
DTSTAMP:20260420T125511Z
DTSTART;VALUE=DATE:20180712
SUMMARY:GeoSpatial  2017 Final Version Due
DESCRIPTION:GeoSpatial Science Conference 2017
URL:http://www.wikicfp.com/cfp/servlet/event.showcfp?eventid=62961&copyow
 nerid=98359
UID:cfp662061-N@wikicfp.com
END:VEVENT
END:VCALENDAR
