BEGIN:VCALENDAR
PRODID:-//WikiCFP//jjoshi 1.0//EN
VERSION:2.0
CALSCALE:GREGORIAN
BEGIN:VEVENT
DTSTAMP:20260419T201223Z
DTSTART;VALUE=DATE:20171015
DTEND;VALUE=DATE:20171018
SUMMARY:IEEE CIC 2017
DESCRIPTION:IEEE 3nd International Conference on Collaboration and Intern
 et Computing
URL:http://www.wikicfp.com/cfp/servlet/event.showcfp?eventid=62813&copyow
 nerid=97698
UID:cfp658593-E@wikicfp.com
END:VEVENT
BEGIN:VEVENT
DTSTAMP:20260419T201223Z
DTSTART;VALUE=DATE:20170520
SUMMARY:IEEE CIC 2017 Deadline
DESCRIPTION:IEEE 3nd International Conference on Collaboration and Intern
 et Computing
URL:http://www.wikicfp.com/cfp/servlet/event.showcfp?eventid=62813&copyow
 nerid=97698
UID:cfp658593-D@wikicfp.com
END:VEVENT
BEGIN:VEVENT
DTSTAMP:20260419T201223Z
DTSTART;VALUE=DATE:20170725
SUMMARY:IEEE CIC 2017 Notification Due
DESCRIPTION:IEEE 3nd International Conference on Collaboration and Intern
 et Computing
URL:http://www.wikicfp.com/cfp/servlet/event.showcfp?eventid=62813&copyow
 nerid=97698
UID:cfp658593-N@wikicfp.com
END:VEVENT
BEGIN:VEVENT
DTSTAMP:20260419T201223Z
DTSTART;VALUE=DATE:20170810
SUMMARY:IEEE CIC 2017 Final Version Due
DESCRIPTION:IEEE 3nd International Conference on Collaboration and Intern
 et Computing
URL:http://www.wikicfp.com/cfp/servlet/event.showcfp?eventid=62813&copyow
 nerid=97698
UID:cfp658593-N@wikicfp.com
END:VEVENT
END:VCALENDAR
