BEGIN:VCALENDAR
PRODID:-//WikiCFP//thanos 1.0//EN
VERSION:2.0
CALSCALE:GREGORIAN
BEGIN:VEVENT
DTSTAMP:20260421T235928Z
DTSTART;VALUE=DATE:20170709
DTEND;VALUE=DATE:20170710
SUMMARY:EvalUMAP  2017
DESCRIPTION:EvalUMAP 2017 Workshop. Towards comparative evaluation in use
 r modeling \,adaptation and personalization.
URL:http://www.wikicfp.com/cfp/servlet/event.showcfp?eventid=62722&copyow
 nerid=97549
UID:cfp657755-E@wikicfp.com
END:VEVENT
BEGIN:VEVENT
DTSTAMP:20260421T235928Z
DTSTART;VALUE=DATE:20170420
SUMMARY:EvalUMAP  2017 Deadline
DESCRIPTION:EvalUMAP 2017 Workshop. Towards comparative evaluation in use
 r modeling \,adaptation and personalization.
URL:http://www.wikicfp.com/cfp/servlet/event.showcfp?eventid=62722&copyow
 nerid=97549
UID:cfp657755-D@wikicfp.com
END:VEVENT
BEGIN:VEVENT
DTSTAMP:20260421T235928Z
DTSTART;VALUE=DATE:20170520
SUMMARY:EvalUMAP  2017 Notification Due
DESCRIPTION:EvalUMAP 2017 Workshop. Towards comparative evaluation in use
 r modeling \,adaptation and personalization.
URL:http://www.wikicfp.com/cfp/servlet/event.showcfp?eventid=62722&copyow
 nerid=97549
UID:cfp657755-N@wikicfp.com
END:VEVENT
BEGIN:VEVENT
DTSTAMP:20260421T235928Z
DTSTART;VALUE=DATE:20170528
SUMMARY:EvalUMAP  2017 Final Version Due
DESCRIPTION:EvalUMAP 2017 Workshop. Towards comparative evaluation in use
 r modeling \,adaptation and personalization.
URL:http://www.wikicfp.com/cfp/servlet/event.showcfp?eventid=62722&copyow
 nerid=97549
UID:cfp657755-N@wikicfp.com
END:VEVENT
END:VCALENDAR
