BEGIN:VCALENDAR
PRODID:-//WikiCFP//Farnaz66 1.0//EN
VERSION:2.0
CALSCALE:GREGORIAN
BEGIN:VEVENT
DTSTAMP:20260421T230105Z
DTSTART;VALUE=DATE:20170907
DTEND;VALUE=DATE:20170913
SUMMARY:ICISIP 2017
DESCRIPTION:The 5th IIAE International Conference on Intelligent Systems 
 and Image Processing 2017
URL:http://www.wikicfp.com/cfp/servlet/event.showcfp?eventid=59192&copyow
 nerid=97460
UID:cfp669886-E@wikicfp.com
END:VEVENT
BEGIN:VEVENT
DTSTAMP:20260421T230105Z
DTSTART;VALUE=DATE:20170609
SUMMARY:ICISIP 2017 Deadline
DESCRIPTION:The 5th IIAE International Conference on Intelligent Systems 
 and Image Processing 2017
URL:http://www.wikicfp.com/cfp/servlet/event.showcfp?eventid=59192&copyow
 nerid=97460
UID:cfp669886-D@wikicfp.com
END:VEVENT
BEGIN:VEVENT
DTSTAMP:20260421T230105Z
DTSTART;VALUE=DATE:20170630
SUMMARY:ICISIP 2017 Notification Due
DESCRIPTION:The 5th IIAE International Conference on Intelligent Systems 
 and Image Processing 2017
URL:http://www.wikicfp.com/cfp/servlet/event.showcfp?eventid=59192&copyow
 nerid=97460
UID:cfp669886-N@wikicfp.com
END:VEVENT
BEGIN:VEVENT
DTSTAMP:20260421T230105Z
DTSTART;VALUE=DATE:20170714
SUMMARY:ICISIP 2017 Final Version Due
DESCRIPTION:The 5th IIAE International Conference on Intelligent Systems 
 and Image Processing 2017
URL:http://www.wikicfp.com/cfp/servlet/event.showcfp?eventid=59192&copyow
 nerid=97460
UID:cfp669886-N@wikicfp.com
END:VEVENT
BEGIN:VEVENT
DTSTAMP:20260421T230105Z
DTSTART;VALUE=DATE:20170830
DTEND;VALUE=DATE:20170903
SUMMARY:AIAAT 2017
DESCRIPTION:2017 International Conference on Artificial Intelligence Appl
 ications and Technologies(AIAAT 2017)
URL:http://www.wikicfp.com/cfp/servlet/event.showcfp?eventid=61557&copyow
 nerid=97460
UID:cfp656827-E@wikicfp.com
END:VEVENT
BEGIN:VEVENT
DTSTAMP:20260421T230105Z
DTSTART;VALUE=DATE:20170630
SUMMARY:AIAAT 2017 Deadline
DESCRIPTION:2017 International Conference on Artificial Intelligence Appl
 ications and Technologies(AIAAT 2017)
URL:http://www.wikicfp.com/cfp/servlet/event.showcfp?eventid=61557&copyow
 nerid=97460
UID:cfp656827-D@wikicfp.com
END:VEVENT
BEGIN:VEVENT
DTSTAMP:20260421T230105Z
DTSTART;VALUE=DATE:20171018
DTEND;VALUE=DATE:20171023
SUMMARY:GCAI  2017
DESCRIPTION:The 3rd Global Conference on Artificial Intelligence (GCAI 20
 17)\, Miami\, USA\, 18-22 October 2017
URL:http://www.wikicfp.com/cfp/servlet/event.showcfp?eventid=64213&copyow
 nerid=97460
UID:cfp669931-E@wikicfp.com
END:VEVENT
BEGIN:VEVENT
DTSTAMP:20260421T230105Z
DTSTART;VALUE=DATE:20170630
SUMMARY:GCAI  2017 Abstract Due
DESCRIPTION:The 3rd Global Conference on Artificial Intelligence (GCAI 20
 17)\, Miami\, USA\, 18-22 October 2017
URL:http://www.wikicfp.com/cfp/servlet/event.showcfp?eventid=64213&copyow
 nerid=97460
UID:cfp669931-A@wikicfp.com
END:VEVENT
BEGIN:VEVENT
DTSTAMP:20260421T230105Z
DTSTART;VALUE=DATE:20170707
SUMMARY:GCAI  2017 Deadline
DESCRIPTION:The 3rd Global Conference on Artificial Intelligence (GCAI 20
 17)\, Miami\, USA\, 18-22 October 2017
URL:http://www.wikicfp.com/cfp/servlet/event.showcfp?eventid=64213&copyow
 nerid=97460
UID:cfp669931-D@wikicfp.com
END:VEVENT
BEGIN:VEVENT
DTSTAMP:20260421T230105Z
DTSTART;VALUE=DATE:20170811
SUMMARY:GCAI  2017 Notification Due
DESCRIPTION:The 3rd Global Conference on Artificial Intelligence (GCAI 20
 17)\, Miami\, USA\, 18-22 October 2017
URL:http://www.wikicfp.com/cfp/servlet/event.showcfp?eventid=64213&copyow
 nerid=97460
UID:cfp669931-N@wikicfp.com
END:VEVENT
BEGIN:VEVENT
DTSTAMP:20260421T230105Z
DTSTART;VALUE=DATE:20170825
SUMMARY:GCAI  2017 Final Version Due
DESCRIPTION:The 3rd Global Conference on Artificial Intelligence (GCAI 20
 17)\, Miami\, USA\, 18-22 October 2017
URL:http://www.wikicfp.com/cfp/servlet/event.showcfp?eventid=64213&copyow
 nerid=97460
UID:cfp669931-N@wikicfp.com
END:VEVENT
BEGIN:VEVENT
DTSTAMP:20260421T230105Z
DTSTART;VALUE=DATE:20180421
DTEND;VALUE=DATE:20180427
SUMMARY:CHI 2018
DESCRIPTION:ACM CHI Conference on Human Factors in Computing Systems
URL:http://www.wikicfp.com/cfp/servlet/event.showcfp?eventid=62975&copyow
 nerid=97460
UID:cfp666869-E@wikicfp.com
END:VEVENT
BEGIN:VEVENT
DTSTAMP:20260421T230105Z
DTSTART;VALUE=DATE:20170912
SUMMARY:CHI 2018 Abstract Due
DESCRIPTION:ACM CHI Conference on Human Factors in Computing Systems
URL:http://www.wikicfp.com/cfp/servlet/event.showcfp?eventid=62975&copyow
 nerid=97460
UID:cfp666869-A@wikicfp.com
END:VEVENT
BEGIN:VEVENT
DTSTAMP:20260421T230105Z
DTSTART;VALUE=DATE:20170919
SUMMARY:CHI 2018 Deadline
DESCRIPTION:ACM CHI Conference on Human Factors in Computing Systems
URL:http://www.wikicfp.com/cfp/servlet/event.showcfp?eventid=62975&copyow
 nerid=97460
UID:cfp666869-D@wikicfp.com
END:VEVENT
END:VCALENDAR
