BEGIN:VCALENDAR
PRODID:-//WikiCFP//chuxinqi 1.0//EN
VERSION:2.0
CALSCALE:GREGORIAN
BEGIN:VEVENT
DTSTAMP:20260422T181217Z
DTSTART;VALUE=DATE:20100920
DTEND;VALUE=DATE:20100925
SUMMARY:MICCAI 2010
DESCRIPTION:13th International Conference on Medical Image Computing and 
 Computer Assisted Intervention
URL:http://www.wikicfp.com/cfp/servlet/event.showcfp?eventid=8186&copyown
 erid=9656
UID:cfp72836-E@wikicfp.com
END:VEVENT
BEGIN:VEVENT
DTSTAMP:20260422T181217Z
DTSTART;VALUE=DATE:20100311
SUMMARY:MICCAI 2010 Deadline
DESCRIPTION:13th International Conference on Medical Image Computing and 
 Computer Assisted Intervention
URL:http://www.wikicfp.com/cfp/servlet/event.showcfp?eventid=8186&copyown
 erid=9656
UID:cfp72836-D@wikicfp.com
END:VEVENT
BEGIN:VEVENT
DTSTAMP:20260422T181217Z
DTSTART;VALUE=DATE:20100518
SUMMARY:MICCAI 2010 Notification Due
DESCRIPTION:13th International Conference on Medical Image Computing and 
 Computer Assisted Intervention
URL:http://www.wikicfp.com/cfp/servlet/event.showcfp?eventid=8186&copyown
 erid=9656
UID:cfp72836-N@wikicfp.com
END:VEVENT
BEGIN:VEVENT
DTSTAMP:20260422T181217Z
DTSTART;VALUE=DATE:20100618
SUMMARY:MICCAI 2010 Final Version Due
DESCRIPTION:13th International Conference on Medical Image Computing and 
 Computer Assisted Intervention
URL:http://www.wikicfp.com/cfp/servlet/event.showcfp?eventid=8186&copyown
 erid=9656
UID:cfp72836-N@wikicfp.com
END:VEVENT
BEGIN:VEVENT
DTSTAMP:20260422T181217Z
DTSTART;VALUE=DATE:20100708
DTEND;VALUE=DATE:20100712
SUMMARY:UAI 2010
DESCRIPTION:The 26th Conference on Uncertainty in Artificial Intelligence
 
URL:http://www.wikicfp.com/cfp/servlet/event.showcfp?eventid=7592&copyown
 erid=9656
UID:cfp72837-E@wikicfp.com
END:VEVENT
BEGIN:VEVENT
DTSTAMP:20260422T181217Z
DTSTART;VALUE=DATE:20100312
SUMMARY:UAI 2010 Deadline
DESCRIPTION:The 26th Conference on Uncertainty in Artificial Intelligence
 
URL:http://www.wikicfp.com/cfp/servlet/event.showcfp?eventid=7592&copyown
 erid=9656
UID:cfp72837-D@wikicfp.com
END:VEVENT
BEGIN:VEVENT
DTSTAMP:20260422T181217Z
DTSTART;VALUE=DATE:20100531
SUMMARY:UAI 2010 Notification Due
DESCRIPTION:The 26th Conference on Uncertainty in Artificial Intelligence
 
URL:http://www.wikicfp.com/cfp/servlet/event.showcfp?eventid=7592&copyown
 erid=9656
UID:cfp72837-N@wikicfp.com
END:VEVENT
BEGIN:VEVENT
DTSTAMP:20260422T181217Z
DTSTART;VALUE=DATE:20100614
SUMMARY:UAI 2010 Final Version Due
DESCRIPTION:The 26th Conference on Uncertainty in Artificial Intelligence
 
URL:http://www.wikicfp.com/cfp/servlet/event.showcfp?eventid=7592&copyown
 erid=9656
UID:cfp72837-N@wikicfp.com
END:VEVENT
BEGIN:VEVENT
DTSTAMP:20260422T181217Z
DTSTART;VALUE=DATE:20100905
DTEND;VALUE=DATE:20100912
SUMMARY:ECCV 2010
DESCRIPTION:11th European Conference on Computer Vision 
URL:http://www.wikicfp.com/cfp/servlet/event.showcfp?eventid=3871&copyown
 erid=9656
UID:cfp72838-E@wikicfp.com
END:VEVENT
BEGIN:VEVENT
DTSTAMP:20260422T181217Z
DTSTART;VALUE=DATE:20100317
SUMMARY:ECCV 2010 Deadline
DESCRIPTION:11th European Conference on Computer Vision 
URL:http://www.wikicfp.com/cfp/servlet/event.showcfp?eventid=3871&copyown
 erid=9656
UID:cfp72838-D@wikicfp.com
END:VEVENT
BEGIN:VEVENT
DTSTAMP:20260422T181217Z
DTSTART;VALUE=DATE:20100610
SUMMARY:ECCV 2010 Notification Due
DESCRIPTION:11th European Conference on Computer Vision 
URL:http://www.wikicfp.com/cfp/servlet/event.showcfp?eventid=3871&copyown
 erid=9656
UID:cfp72838-N@wikicfp.com
END:VEVENT
BEGIN:VEVENT
DTSTAMP:20260422T181217Z
DTSTART;VALUE=DATE:20100701
SUMMARY:ECCV 2010 Final Version Due
DESCRIPTION:11th European Conference on Computer Vision 
URL:http://www.wikicfp.com/cfp/servlet/event.showcfp?eventid=3871&copyown
 erid=9656
UID:cfp72838-N@wikicfp.com
END:VEVENT
BEGIN:VEVENT
DTSTAMP:20260422T181217Z
DTSTART;VALUE=DATE:20100830
DTEND;VALUE=DATE:20100903
SUMMARY:BMVC 2010
DESCRIPTION:British Machine Vision Conference
URL:http://www.wikicfp.com/cfp/servlet/event.showcfp?eventid=5652&copyown
 erid=9656
UID:cfp72839-E@wikicfp.com
END:VEVENT
BEGIN:VEVENT
DTSTAMP:20260422T181217Z
DTSTART;VALUE=DATE:20100423
SUMMARY:BMVC 2010 Abstract Due
DESCRIPTION:British Machine Vision Conference
URL:http://www.wikicfp.com/cfp/servlet/event.showcfp?eventid=5652&copyown
 erid=9656
UID:cfp72839-A@wikicfp.com
END:VEVENT
BEGIN:VEVENT
DTSTAMP:20260422T181217Z
DTSTART;VALUE=DATE:20100430
SUMMARY:BMVC 2010 Deadline
DESCRIPTION:British Machine Vision Conference
URL:http://www.wikicfp.com/cfp/servlet/event.showcfp?eventid=5652&copyown
 erid=9656
UID:cfp72839-D@wikicfp.com
END:VEVENT
BEGIN:VEVENT
DTSTAMP:20260422T181217Z
DTSTART;VALUE=DATE:20100614
SUMMARY:BMVC 2010 Notification Due
DESCRIPTION:British Machine Vision Conference
URL:http://www.wikicfp.com/cfp/servlet/event.showcfp?eventid=5652&copyown
 erid=9656
UID:cfp72839-N@wikicfp.com
END:VEVENT
BEGIN:VEVENT
DTSTAMP:20260422T181217Z
DTSTART;VALUE=DATE:20100713
SUMMARY:BMVC 2010 Final Version Due
DESCRIPTION:British Machine Vision Conference
URL:http://www.wikicfp.com/cfp/servlet/event.showcfp?eventid=5652&copyown
 erid=9656
UID:cfp72839-N@wikicfp.com
END:VEVENT
END:VCALENDAR
