BEGIN:VCALENDAR
PRODID:-//WikiCFP//merferal 1.0//EN
VERSION:2.0
CALSCALE:GREGORIAN
BEGIN:VEVENT
DTSTAMP:20260425T121602Z
DTSTART;VALUE=DATE:20080906
DTEND;VALUE=DATE:20080908
SUMMARY:ICER 2008
DESCRIPTION:The Fourth International Computing Education Research Worksho
 p
URL:http://www.wikicfp.com/cfp/servlet/event.showcfp?eventid=2768&copyown
 erid=964
UID:cfp8654-E@wikicfp.com
END:VEVENT
BEGIN:VEVENT
DTSTAMP:20260425T121602Z
DTSTART;VALUE=DATE:20080501
SUMMARY:ICER 2008 Deadline
DESCRIPTION:The Fourth International Computing Education Research Worksho
 p
URL:http://www.wikicfp.com/cfp/servlet/event.showcfp?eventid=2768&copyown
 erid=964
UID:cfp8654-D@wikicfp.com
END:VEVENT
BEGIN:VEVENT
DTSTAMP:20260425T121602Z
DTSTART;VALUE=DATE:20081026
DTEND;VALUE=DATE:20081027
SUMMARY:KDE 2008
DESCRIPTION:International Workshop on Knowledge of Data Engineering
URL:http://www.wikicfp.com/cfp/servlet/event.showcfp?eventid=2757&copyown
 erid=964
UID:cfp8657-E@wikicfp.com
END:VEVENT
BEGIN:VEVENT
DTSTAMP:20260425T121602Z
DTSTART;VALUE=DATE:20080520
SUMMARY:KDE 2008 Deadline
DESCRIPTION:International Workshop on Knowledge of Data Engineering
URL:http://www.wikicfp.com/cfp/servlet/event.showcfp?eventid=2757&copyown
 erid=964
UID:cfp8657-D@wikicfp.com
END:VEVENT
BEGIN:VEVENT
DTSTAMP:20260425T121602Z
DTSTART;VALUE=DATE:20081031
DTEND;VALUE=DATE:20081103
SUMMARY:RR 2008
DESCRIPTION:The Second International Conference on Web Reasoning and Rule
  Systems
URL:http://www.wikicfp.com/cfp/servlet/event.showcfp?eventid=2176&copyown
 erid=964
UID:cfp8656-E@wikicfp.com
END:VEVENT
BEGIN:VEVENT
DTSTAMP:20260425T121602Z
DTSTART;VALUE=DATE:20080614
SUMMARY:RR 2008 Abstract Due
DESCRIPTION:The Second International Conference on Web Reasoning and Rule
  Systems
URL:http://www.wikicfp.com/cfp/servlet/event.showcfp?eventid=2176&copyown
 erid=964
UID:cfp8656-A@wikicfp.com
END:VEVENT
BEGIN:VEVENT
DTSTAMP:20260425T121602Z
DTSTART;VALUE=DATE:20080621
SUMMARY:RR 2008 Deadline
DESCRIPTION:The Second International Conference on Web Reasoning and Rule
  Systems
URL:http://www.wikicfp.com/cfp/servlet/event.showcfp?eventid=2176&copyown
 erid=964
UID:cfp8656-D@wikicfp.com
END:VEVENT
BEGIN:VEVENT
DTSTAMP:20260425T121602Z
DTSTART;VALUE=DATE:20090215
DTEND;VALUE=DATE:20090221
SUMMARY:IIP 2009
DESCRIPTION:Eurocast 2009 Workshop on Intelligent Information Processing
URL:http://www.wikicfp.com/cfp/servlet/event.showcfp?eventid=2666&copyown
 erid=964
UID:cfp8658-E@wikicfp.com
END:VEVENT
BEGIN:VEVENT
DTSTAMP:20260425T121602Z
DTSTART;VALUE=DATE:20081031
SUMMARY:IIP 2009 Deadline
DESCRIPTION:Eurocast 2009 Workshop on Intelligent Information Processing
URL:http://www.wikicfp.com/cfp/servlet/event.showcfp?eventid=2666&copyown
 erid=964
UID:cfp8658-D@wikicfp.com
END:VEVENT
BEGIN:VEVENT
DTSTAMP:20260425T121602Z
DTSTART;VALUE=DATE:20081201
SUMMARY:IIP 2009 Notification Due
DESCRIPTION:Eurocast 2009 Workshop on Intelligent Information Processing
URL:http://www.wikicfp.com/cfp/servlet/event.showcfp?eventid=2666&copyown
 erid=964
UID:cfp8658-N@wikicfp.com
END:VEVENT
BEGIN:VEVENT
DTSTAMP:20260425T121602Z
DTSTART;VALUE=DATE:20090706
DTEND;VALUE=DATE:20090710
SUMMARY:ITiCSE 2009
DESCRIPTION:The 38th ACM Technical Symposium on Computer Science Educatio
 n
URL:http://www.wikicfp.com/cfp/servlet/event.showcfp?eventid=1255&copyown
 erid=964
UID:cfp8655-E@wikicfp.com
END:VEVENT
BEGIN:VEVENT
DTSTAMP:20260425T121602Z
DTSTART;VALUE=DATE:20090123
SUMMARY:ITiCSE 2009 Deadline
DESCRIPTION:The 38th ACM Technical Symposium on Computer Science Educatio
 n
URL:http://www.wikicfp.com/cfp/servlet/event.showcfp?eventid=1255&copyown
 erid=964
UID:cfp8655-D@wikicfp.com
END:VEVENT
END:VCALENDAR
