BEGIN:VCALENDAR
PRODID:-//WikiCFP//ranyaphat 1.0//EN
VERSION:2.0
CALSCALE:GREGORIAN
BEGIN:VEVENT
DTSTAMP:20260421T110819Z
DTSTART;VALUE=DATE:20171015
DTEND;VALUE=DATE:20171018
SUMMARY:DS 2017
DESCRIPTION:The 20th International Conference on Discovery Science
URL:http://www.wikicfp.com/cfp/servlet/event.showcfp?eventid=61651&copyow
 nerid=96113
UID:cfp663758-E@wikicfp.com
END:VEVENT
BEGIN:VEVENT
DTSTAMP:20260421T110819Z
DTSTART;VALUE=DATE:20170520
SUMMARY:DS 2017 Deadline
DESCRIPTION:The 20th International Conference on Discovery Science
URL:http://www.wikicfp.com/cfp/servlet/event.showcfp?eventid=61651&copyow
 nerid=96113
UID:cfp663758-D@wikicfp.com
END:VEVENT
BEGIN:VEVENT
DTSTAMP:20260421T110819Z
DTSTART;VALUE=DATE:20170630
SUMMARY:DS 2017 Notification Due
DESCRIPTION:The 20th International Conference on Discovery Science
URL:http://www.wikicfp.com/cfp/servlet/event.showcfp?eventid=61651&copyow
 nerid=96113
UID:cfp663758-N@wikicfp.com
END:VEVENT
BEGIN:VEVENT
DTSTAMP:20260421T110819Z
DTSTART;VALUE=DATE:20170721
SUMMARY:DS 2017 Final Version Due
DESCRIPTION:The 20th International Conference on Discovery Science
URL:http://www.wikicfp.com/cfp/servlet/event.showcfp?eventid=61651&copyow
 nerid=96113
UID:cfp663758-N@wikicfp.com
END:VEVENT
BEGIN:VEVENT
DTSTAMP:20260421T110819Z
DTSTART;VALUE=DATE:20171019
DTEND;VALUE=DATE:20171022
SUMMARY:DSAA 2017
DESCRIPTION:The 4th IEEE International Conference on Data Science and Adv
 anced Analytics 2017
URL:http://www.wikicfp.com/cfp/servlet/event.showcfp?eventid=55438&copyow
 nerid=96113
UID:cfp661493-E@wikicfp.com
END:VEVENT
BEGIN:VEVENT
DTSTAMP:20260421T110819Z
DTSTART;VALUE=DATE:20170525
SUMMARY:DSAA 2017 Deadline
DESCRIPTION:The 4th IEEE International Conference on Data Science and Adv
 anced Analytics 2017
URL:http://www.wikicfp.com/cfp/servlet/event.showcfp?eventid=55438&copyow
 nerid=96113
UID:cfp661493-D@wikicfp.com
END:VEVENT
BEGIN:VEVENT
DTSTAMP:20260421T110819Z
DTSTART;VALUE=DATE:20170725
SUMMARY:DSAA 2017 Notification Due
DESCRIPTION:The 4th IEEE International Conference on Data Science and Adv
 anced Analytics 2017
URL:http://www.wikicfp.com/cfp/servlet/event.showcfp?eventid=55438&copyow
 nerid=96113
UID:cfp661493-N@wikicfp.com
END:VEVENT
BEGIN:VEVENT
DTSTAMP:20260421T110819Z
DTSTART;VALUE=DATE:20170815
SUMMARY:DSAA 2017 Final Version Due
DESCRIPTION:The 4th IEEE International Conference on Data Science and Adv
 anced Analytics 2017
URL:http://www.wikicfp.com/cfp/servlet/event.showcfp?eventid=55438&copyow
 nerid=96113
UID:cfp661493-N@wikicfp.com
END:VEVENT
BEGIN:VEVENT
DTSTAMP:20260421T110819Z
DTSTART;VALUE=DATE:20171218
DTEND;VALUE=DATE:20171221
SUMMARY:IEEE DSS 2017
DESCRIPTION:The 3rd IEEE International Conference on Data Science and Sys
 tems
URL:http://www.wikicfp.com/cfp/servlet/event.showcfp?eventid=64147&copyow
 nerid=96113
UID:cfp666447-E@wikicfp.com
END:VEVENT
BEGIN:VEVENT
DTSTAMP:20260421T110819Z
DTSTART;VALUE=DATE:20170615
SUMMARY:IEEE DSS 2017 Deadline
DESCRIPTION:The 3rd IEEE International Conference on Data Science and Sys
 tems
URL:http://www.wikicfp.com/cfp/servlet/event.showcfp?eventid=64147&copyow
 nerid=96113
UID:cfp666447-D@wikicfp.com
END:VEVENT
BEGIN:VEVENT
DTSTAMP:20260421T110819Z
DTSTART;VALUE=DATE:20170815
SUMMARY:IEEE DSS 2017 Notification Due
DESCRIPTION:The 3rd IEEE International Conference on Data Science and Sys
 tems
URL:http://www.wikicfp.com/cfp/servlet/event.showcfp?eventid=64147&copyow
 nerid=96113
UID:cfp666447-N@wikicfp.com
END:VEVENT
BEGIN:VEVENT
DTSTAMP:20260421T110819Z
DTSTART;VALUE=DATE:20170615
SUMMARY:IEEE DSS 2017 Final Version Due
DESCRIPTION:The 3rd IEEE International Conference on Data Science and Sys
 tems
URL:http://www.wikicfp.com/cfp/servlet/event.showcfp?eventid=64147&copyow
 nerid=96113
UID:cfp666447-N@wikicfp.com
END:VEVENT
BEGIN:VEVENT
DTSTAMP:20260421T110819Z
DTSTART;VALUE=DATE:20171120
DTEND;VALUE=DATE:20171123
SUMMARY:MIWAI 2017
DESCRIPTION:The 11th Multi-disciplinary International Workshop on Artific
 ial Intelligence
URL:http://www.wikicfp.com/cfp/servlet/event.showcfp?eventid=59955&copyow
 nerid=96113
UID:cfp648291-E@wikicfp.com
END:VEVENT
BEGIN:VEVENT
DTSTAMP:20260421T110819Z
DTSTART;VALUE=DATE:20170629
SUMMARY:MIWAI 2017 Deadline
DESCRIPTION:The 11th Multi-disciplinary International Workshop on Artific
 ial Intelligence
URL:http://www.wikicfp.com/cfp/servlet/event.showcfp?eventid=59955&copyow
 nerid=96113
UID:cfp648291-D@wikicfp.com
END:VEVENT
BEGIN:VEVENT
DTSTAMP:20260421T110819Z
DTSTART;VALUE=DATE:20170801
SUMMARY:MIWAI 2017 Notification Due
DESCRIPTION:The 11th Multi-disciplinary International Workshop on Artific
 ial Intelligence
URL:http://www.wikicfp.com/cfp/servlet/event.showcfp?eventid=59955&copyow
 nerid=96113
UID:cfp648291-N@wikicfp.com
END:VEVENT
BEGIN:VEVENT
DTSTAMP:20260421T110819Z
DTSTART;VALUE=DATE:20170901
SUMMARY:MIWAI 2017 Final Version Due
DESCRIPTION:The 11th Multi-disciplinary International Workshop on Artific
 ial Intelligence
URL:http://www.wikicfp.com/cfp/servlet/event.showcfp?eventid=59955&copyow
 nerid=96113
UID:cfp648291-N@wikicfp.com
END:VEVENT
BEGIN:VEVENT
DTSTAMP:20260421T110819Z
DTSTART;VALUE=DATE:20170727
DTEND;VALUE=DATE:20170802
SUMMARY:DMBD 2017
DESCRIPTION:DMBD'2017ï¼Call for Papers (Jan. 30\, 2017)
URL:http://www.wikicfp.com/cfp/servlet/event.showcfp?eventid=59574&copyow
 nerid=96113
UID:cfp648290-E@wikicfp.com
END:VEVENT
BEGIN:VEVENT
DTSTAMP:20260421T110819Z
DTSTART;VALUE=DATE:20170601
SUMMARY:DMBD 2017 Abstract Due
DESCRIPTION:DMBD'2017ï¼Call for Papers (Jan. 30\, 2017)
URL:http://www.wikicfp.com/cfp/servlet/event.showcfp?eventid=59574&copyow
 nerid=96113
UID:cfp648290-A@wikicfp.com
END:VEVENT
BEGIN:VEVENT
DTSTAMP:20260421T110819Z
DTSTART;VALUE=DATE:20170630
SUMMARY:DMBD 2017 Deadline
DESCRIPTION:DMBD'2017ï¼Call for Papers (Jan. 30\, 2017)
URL:http://www.wikicfp.com/cfp/servlet/event.showcfp?eventid=59574&copyow
 nerid=96113
UID:cfp648290-D@wikicfp.com
END:VEVENT
BEGIN:VEVENT
DTSTAMP:20260421T110819Z
DTSTART;VALUE=DATE:20170826
DTEND;VALUE=DATE:20170830
SUMMARY:ICRAS 2017
DESCRIPTION:2017 International Conference on Robotics and Automation Scie
 nces (ICRAS 2017)--IEEE\, Ei Compendex and Scopus
URL:http://www.wikicfp.com/cfp/servlet/event.showcfp?eventid=58158&copyow
 nerid=96113
UID:cfp666449-E@wikicfp.com
END:VEVENT
BEGIN:VEVENT
DTSTAMP:20260421T110819Z
DTSTART;VALUE=DATE:20170705
SUMMARY:ICRAS 2017 Deadline
DESCRIPTION:2017 International Conference on Robotics and Automation Scie
 nces (ICRAS 2017)--IEEE\, Ei Compendex and Scopus
URL:http://www.wikicfp.com/cfp/servlet/event.showcfp?eventid=58158&copyow
 nerid=96113
UID:cfp666449-D@wikicfp.com
END:VEVENT
BEGIN:VEVENT
DTSTAMP:20260421T110819Z
DTSTART;VALUE=DATE:20170826
DTEND;VALUE=DATE:20170830
SUMMARY:IEEE-ICRAS 2017
DESCRIPTION:2017 International Conference on Robotics and Automation Scie
 nces (ICRAS 2017)--IEEE\, Ei Compendex and Scopus
URL:http://www.wikicfp.com/cfp/servlet/event.showcfp?eventid=58159&copyow
 nerid=96113
UID:cfp648289-E@wikicfp.com
END:VEVENT
BEGIN:VEVENT
DTSTAMP:20260421T110819Z
DTSTART;VALUE=DATE:20170705
SUMMARY:IEEE-ICRAS 2017 Deadline
DESCRIPTION:2017 International Conference on Robotics and Automation Scie
 nces (ICRAS 2017)--IEEE\, Ei Compendex and Scopus
URL:http://www.wikicfp.com/cfp/servlet/event.showcfp?eventid=58159&copyow
 nerid=96113
UID:cfp648289-D@wikicfp.com
END:VEVENT
BEGIN:VEVENT
DTSTAMP:20260421T110819Z
DTSTART;VALUE=DATE:20170826
DTEND;VALUE=DATE:20170830
SUMMARY:ICOAC 2017
DESCRIPTION:3rd International Conference on Automatic Control (ICOAC 2017
 )--Ei Compendex and Scopus
URL:http://www.wikicfp.com/cfp/servlet/event.showcfp?eventid=59671&copyow
 nerid=96113
UID:cfp648306-E@wikicfp.com
END:VEVENT
BEGIN:VEVENT
DTSTAMP:20260421T110819Z
DTSTART;VALUE=DATE:20170705
SUMMARY:ICOAC 2017 Deadline
DESCRIPTION:3rd International Conference on Automatic Control (ICOAC 2017
 )--Ei Compendex and Scopus
URL:http://www.wikicfp.com/cfp/servlet/event.showcfp?eventid=59671&copyow
 nerid=96113
UID:cfp648306-D@wikicfp.com
END:VEVENT
BEGIN:VEVENT
DTSTAMP:20260421T110819Z
DTSTART;VALUE=DATE:20171217
DTEND;VALUE=DATE:20171221
SUMMARY:ASCC 2017
DESCRIPTION:The 2017 Asian Control Conference
URL:http://www.wikicfp.com/cfp/servlet/event.showcfp?eventid=56293&copyow
 nerid=96113
UID:cfp659415-E@wikicfp.com
END:VEVENT
BEGIN:VEVENT
DTSTAMP:20260421T110819Z
DTSTART;VALUE=DATE:20170710
SUMMARY:ASCC 2017 Deadline
DESCRIPTION:The 2017 Asian Control Conference
URL:http://www.wikicfp.com/cfp/servlet/event.showcfp?eventid=56293&copyow
 nerid=96113
UID:cfp659415-D@wikicfp.com
END:VEVENT
BEGIN:VEVENT
DTSTAMP:20260421T110819Z
DTSTART;VALUE=DATE:20170915
DTEND;VALUE=DATE:20170919
SUMMARY:ICRMV - Ei 2017
DESCRIPTION:2017 The 2nd International Conference on Robotics and Machine
  Vision (ICRMV 2017)--Ei Compendex and Scopus
URL:http://www.wikicfp.com/cfp/servlet/event.showcfp?eventid=61476&copyow
 nerid=96113
UID:cfp662657-E@wikicfp.com
END:VEVENT
BEGIN:VEVENT
DTSTAMP:20260421T110819Z
DTSTART;VALUE=DATE:20170715
SUMMARY:ICRMV - Ei 2017 Deadline
DESCRIPTION:2017 The 2nd International Conference on Robotics and Machine
  Vision (ICRMV 2017)--Ei Compendex and Scopus
URL:http://www.wikicfp.com/cfp/servlet/event.showcfp?eventid=61476&copyow
 nerid=96113
UID:cfp662657-D@wikicfp.com
END:VEVENT
BEGIN:VEVENT
DTSTAMP:20260421T110819Z
DTSTART;VALUE=DATE:20170915
DTEND;VALUE=DATE:20170919
SUMMARY:SPIE - ICRMV 2017
DESCRIPTION:2017 The 2nd International Conference on Robotics and Machine
  Vision (ICRMV 2017)--Ei Compendex and Scopus
URL:http://www.wikicfp.com/cfp/servlet/event.showcfp?eventid=61477&copyow
 nerid=96113
UID:cfp662660-E@wikicfp.com
END:VEVENT
BEGIN:VEVENT
DTSTAMP:20260421T110819Z
DTSTART;VALUE=DATE:20170715
SUMMARY:SPIE - ICRMV 2017 Deadline
DESCRIPTION:2017 The 2nd International Conference on Robotics and Machine
  Vision (ICRMV 2017)--Ei Compendex and Scopus
URL:http://www.wikicfp.com/cfp/servlet/event.showcfp?eventid=61477&copyow
 nerid=96113
UID:cfp662660-D@wikicfp.com
END:VEVENT
BEGIN:VEVENT
DTSTAMP:20260421T110819Z
DTSTART;VALUE=DATE:20170914
DTEND;VALUE=DATE:20170917
SUMMARY:ICBEB 2017
DESCRIPTION:2017 International Conference on Biomedical Engineering and B
 ioinformatics (ICBEB 2017)--CPCI\, Ei Compendex and Scopus
URL:http://www.wikicfp.com/cfp/servlet/event.showcfp?eventid=61463&copyow
 nerid=96113
UID:cfp666450-E@wikicfp.com
END:VEVENT
BEGIN:VEVENT
DTSTAMP:20260421T110819Z
DTSTART;VALUE=DATE:20170720
SUMMARY:ICBEB 2017 Deadline
DESCRIPTION:2017 International Conference on Biomedical Engineering and B
 ioinformatics (ICBEB 2017)--CPCI\, Ei Compendex and Scopus
URL:http://www.wikicfp.com/cfp/servlet/event.showcfp?eventid=61463&copyow
 nerid=96113
UID:cfp666450-D@wikicfp.com
END:VEVENT
BEGIN:VEVENT
DTSTAMP:20260421T110819Z
DTSTART;VALUE=DATE:20170914
DTEND;VALUE=DATE:20170917
SUMMARY:ICIBB - Ei 2017
DESCRIPTION:2017 International Conference on Innovations in Biometrics an
 d Biostatistics (ICIBB 2017)--CPCI\, Ei Compendex and Scopus
URL:http://www.wikicfp.com/cfp/servlet/event.showcfp?eventid=61465&copyow
 nerid=96113
UID:cfp666451-E@wikicfp.com
END:VEVENT
BEGIN:VEVENT
DTSTAMP:20260421T110819Z
DTSTART;VALUE=DATE:20170720
SUMMARY:ICIBB - Ei 2017 Deadline
DESCRIPTION:2017 International Conference on Innovations in Biometrics an
 d Biostatistics (ICIBB 2017)--CPCI\, Ei Compendex and Scopus
URL:http://www.wikicfp.com/cfp/servlet/event.showcfp?eventid=61465&copyow
 nerid=96113
UID:cfp666451-D@wikicfp.com
END:VEVENT
BEGIN:VEVENT
DTSTAMP:20260421T110819Z
DTSTART;VALUE=DATE:20170915
DTEND;VALUE=DATE:20170919
SUMMARY:ICRCA - Ei 2017
DESCRIPTION:2017 The 2nd International Conference on Robotics\, Control a
 nd Automation (ICRCA 2017)--Ei Compendex and Scopus
URL:http://www.wikicfp.com/cfp/servlet/event.showcfp?eventid=61474&copyow
 nerid=96113
UID:cfp662658-E@wikicfp.com
END:VEVENT
BEGIN:VEVENT
DTSTAMP:20260421T110819Z
DTSTART;VALUE=DATE:20170720
SUMMARY:ICRCA - Ei 2017 Deadline
DESCRIPTION:2017 The 2nd International Conference on Robotics\, Control a
 nd Automation (ICRCA 2017)--Ei Compendex and Scopus
URL:http://www.wikicfp.com/cfp/servlet/event.showcfp?eventid=61474&copyow
 nerid=96113
UID:cfp662658-D@wikicfp.com
END:VEVENT
BEGIN:VEVENT
DTSTAMP:20260421T110819Z
DTSTART;VALUE=DATE:20170915
DTEND;VALUE=DATE:20170919
SUMMARY:ICRCA 2017
DESCRIPTION:2017 The 2nd International Conference on Robotics\, Control a
 nd Automation (ICRCA 2017)--Ei Compendex and Scopus
URL:http://www.wikicfp.com/cfp/servlet/event.showcfp?eventid=61475&copyow
 nerid=96113
UID:cfp659416-E@wikicfp.com
END:VEVENT
BEGIN:VEVENT
DTSTAMP:20260421T110819Z
DTSTART;VALUE=DATE:20170720
SUMMARY:ICRCA 2017 Deadline
DESCRIPTION:2017 The 2nd International Conference on Robotics\, Control a
 nd Automation (ICRCA 2017)--Ei Compendex and Scopus
URL:http://www.wikicfp.com/cfp/servlet/event.showcfp?eventid=61475&copyow
 nerid=96113
UID:cfp659416-D@wikicfp.com
END:VEVENT
BEGIN:VEVENT
DTSTAMP:20260421T110819Z
DTSTART;VALUE=DATE:20171125
DTEND;VALUE=DATE:20171127
SUMMARY:ISAIR 2017
DESCRIPTION:The 2nd International Symposium on Artificial Intelligence an
 d Robotics 2017
URL:http://www.wikicfp.com/cfp/servlet/event.showcfp?eventid=57170&copyow
 nerid=96113
UID:cfp648294-E@wikicfp.com
END:VEVENT
BEGIN:VEVENT
DTSTAMP:20260421T110819Z
DTSTART;VALUE=DATE:20170731
SUMMARY:ISAIR 2017 Deadline
DESCRIPTION:The 2nd International Symposium on Artificial Intelligence an
 d Robotics 2017
URL:http://www.wikicfp.com/cfp/servlet/event.showcfp?eventid=57170&copyow
 nerid=96113
UID:cfp648294-D@wikicfp.com
END:VEVENT
BEGIN:VEVENT
DTSTAMP:20260421T110819Z
DTSTART;VALUE=DATE:20170805
SUMMARY:ISAIR 2017 Notification Due
DESCRIPTION:The 2nd International Symposium on Artificial Intelligence an
 d Robotics 2017
URL:http://www.wikicfp.com/cfp/servlet/event.showcfp?eventid=57170&copyow
 nerid=96113
UID:cfp648294-N@wikicfp.com
END:VEVENT
BEGIN:VEVENT
DTSTAMP:20260421T110819Z
DTSTART;VALUE=DATE:20170815
SUMMARY:ISAIR 2017 Final Version Due
DESCRIPTION:The 2nd International Symposium on Artificial Intelligence an
 d Robotics 2017
URL:http://www.wikicfp.com/cfp/servlet/event.showcfp?eventid=57170&copyow
 nerid=96113
UID:cfp648294-N@wikicfp.com
END:VEVENT
BEGIN:VEVENT
DTSTAMP:20260421T110819Z
DTSTART;VALUE=DATE:20171115
DTEND;VALUE=DATE:20171118
SUMMARY:ACML 2017
DESCRIPTION:The 9th Asian Conference on Machine Learning
URL:http://www.wikicfp.com/cfp/servlet/event.showcfp?eventid=61425&copyow
 nerid=96113
UID:cfp659417-E@wikicfp.com
END:VEVENT
BEGIN:VEVENT
DTSTAMP:20260421T110819Z
DTSTART;VALUE=DATE:20170805
SUMMARY:ACML 2017 Deadline
DESCRIPTION:The 9th Asian Conference on Machine Learning
URL:http://www.wikicfp.com/cfp/servlet/event.showcfp?eventid=61425&copyow
 nerid=96113
UID:cfp659417-D@wikicfp.com
END:VEVENT
BEGIN:VEVENT
DTSTAMP:20260421T110819Z
DTSTART;VALUE=DATE:20170915
SUMMARY:ACML 2017 Notification Due
DESCRIPTION:The 9th Asian Conference on Machine Learning
URL:http://www.wikicfp.com/cfp/servlet/event.showcfp?eventid=61425&copyow
 nerid=96113
UID:cfp659417-N@wikicfp.com
END:VEVENT
BEGIN:VEVENT
DTSTAMP:20260421T110819Z
DTSTART;VALUE=DATE:20171002
SUMMARY:ACML 2017 Final Version Due
DESCRIPTION:The 9th Asian Conference on Machine Learning
URL:http://www.wikicfp.com/cfp/servlet/event.showcfp?eventid=61425&copyow
 nerid=96113
UID:cfp659417-N@wikicfp.com
END:VEVENT
BEGIN:VEVENT
DTSTAMP:20260421T110819Z
DTSTART;VALUE=DATE:20171011
DTEND;VALUE=DATE:20171015
SUMMARY:ISIS 2017
DESCRIPTION:The 18th International Symposium on Advanced Intelligent Syst
 ems (ISIS2017)
URL:http://www.wikicfp.com/cfp/servlet/event.showcfp?eventid=57647&copyow
 nerid=96113
UID:cfp648288-E@wikicfp.com
END:VEVENT
BEGIN:VEVENT
DTSTAMP:20260421T110819Z
DTSTART;VALUE=DATE:20170815
SUMMARY:ISIS 2017 Deadline
DESCRIPTION:The 18th International Symposium on Advanced Intelligent Syst
 ems (ISIS2017)
URL:http://www.wikicfp.com/cfp/servlet/event.showcfp?eventid=57647&copyow
 nerid=96113
UID:cfp648288-D@wikicfp.com
END:VEVENT
BEGIN:VEVENT
DTSTAMP:20260421T110819Z
DTSTART;VALUE=DATE:20170831
SUMMARY:ISIS 2017 Notification Due
DESCRIPTION:The 18th International Symposium on Advanced Intelligent Syst
 ems (ISIS2017)
URL:http://www.wikicfp.com/cfp/servlet/event.showcfp?eventid=57647&copyow
 nerid=96113
UID:cfp648288-N@wikicfp.com
END:VEVENT
BEGIN:VEVENT
DTSTAMP:20260421T110819Z
DTSTART;VALUE=DATE:20170908
SUMMARY:ISIS 2017 Final Version Due
DESCRIPTION:The 18th International Symposium on Advanced Intelligent Syst
 ems (ISIS2017)
URL:http://www.wikicfp.com/cfp/servlet/event.showcfp?eventid=57647&copyow
 nerid=96113
UID:cfp648288-N@wikicfp.com
END:VEVENT
BEGIN:VEVENT
DTSTAMP:20260421T110819Z
DTSTART;VALUE=DATE:20171013
DTEND;VALUE=DATE:20171016
SUMMARY:ICEDA - Ei 2017
DESCRIPTION:2017 2nd International Conference on Engineering Design and A
 nalysis (ICEDA 2017)--EI Compendex\, Scopus
URL:http://www.wikicfp.com/cfp/servlet/event.showcfp?eventid=61482&copyow
 nerid=96113
UID:cfp661496-E@wikicfp.com
END:VEVENT
BEGIN:VEVENT
DTSTAMP:20260421T110819Z
DTSTART;VALUE=DATE:20170825
SUMMARY:ICEDA - Ei 2017 Deadline
DESCRIPTION:2017 2nd International Conference on Engineering Design and A
 nalysis (ICEDA 2017)--EI Compendex\, Scopus
URL:http://www.wikicfp.com/cfp/servlet/event.showcfp?eventid=61482&copyow
 nerid=96113
UID:cfp661496-D@wikicfp.com
END:VEVENT
BEGIN:VEVENT
DTSTAMP:20260421T110819Z
DTSTART;VALUE=DATE:20171013
DTEND;VALUE=DATE:20171016
SUMMARY:ICEDA 2017
DESCRIPTION:2017 2nd International Conference on Engineering Design and A
 nalysis (ICEDA 2017)--EI Compendex\, Scopus
URL:http://www.wikicfp.com/cfp/servlet/event.showcfp?eventid=61483&copyow
 nerid=96113
UID:cfp661498-E@wikicfp.com
END:VEVENT
BEGIN:VEVENT
DTSTAMP:20260421T110819Z
DTSTART;VALUE=DATE:20170825
SUMMARY:ICEDA 2017 Deadline
DESCRIPTION:2017 2nd International Conference on Engineering Design and A
 nalysis (ICEDA 2017)--EI Compendex\, Scopus
URL:http://www.wikicfp.com/cfp/servlet/event.showcfp?eventid=61483&copyow
 nerid=96113
UID:cfp661498-D@wikicfp.com
END:VEVENT
BEGIN:VEVENT
DTSTAMP:20260421T110819Z
DTSTART;VALUE=DATE:20171013
DTEND;VALUE=DATE:20171016
SUMMARY:ICMAM - Ei 2017
DESCRIPTION:2017 4th International Conference on Mechatronics\, Automatio
 n and Manufacturing (ICMAM 2017)--EI Compendex\, Scopus
URL:http://www.wikicfp.com/cfp/servlet/event.showcfp?eventid=61485&copyow
 nerid=96113
UID:cfp662659-E@wikicfp.com
END:VEVENT
BEGIN:VEVENT
DTSTAMP:20260421T110819Z
DTSTART;VALUE=DATE:20170825
SUMMARY:ICMAM - Ei 2017 Deadline
DESCRIPTION:2017 4th International Conference on Mechatronics\, Automatio
 n and Manufacturing (ICMAM 2017)--EI Compendex\, Scopus
URL:http://www.wikicfp.com/cfp/servlet/event.showcfp?eventid=61485&copyow
 nerid=96113
UID:cfp662659-D@wikicfp.com
END:VEVENT
BEGIN:VEVENT
DTSTAMP:20260421T110819Z
DTSTART;VALUE=DATE:20171112
DTEND;VALUE=DATE:20171115
SUMMARY:ICBEF 2017
DESCRIPTION:2017 International Conference on Biometric Engineering and Fo
 rensics (ICBEF 2017)-Ei Compendex\, Scopus and ISI
URL:http://www.wikicfp.com/cfp/servlet/event.showcfp?eventid=63673&copyow
 nerid=96113
UID:cfp666453-E@wikicfp.com
END:VEVENT
BEGIN:VEVENT
DTSTAMP:20260421T110819Z
DTSTART;VALUE=DATE:20170915
SUMMARY:ICBEF 2017 Deadline
DESCRIPTION:2017 International Conference on Biometric Engineering and Fo
 rensics (ICBEF 2017)-Ei Compendex\, Scopus and ISI
URL:http://www.wikicfp.com/cfp/servlet/event.showcfp?eventid=63673&copyow
 nerid=96113
UID:cfp666453-D@wikicfp.com
END:VEVENT
BEGIN:VEVENT
DTSTAMP:20260421T110819Z
DTSTART;VALUE=DATE:20171127
DTEND;VALUE=DATE:20171201
SUMMARY:ICSPS - Ei 2017
DESCRIPTION:2017 9th International Conference on Signal Processing System
 s (ICSPS 2017)--Ei Compendex and Scopus
URL:http://www.wikicfp.com/cfp/servlet/event.showcfp?eventid=62095&copyow
 nerid=96113
UID:cfp666448-E@wikicfp.com
END:VEVENT
BEGIN:VEVENT
DTSTAMP:20260421T110819Z
DTSTART;VALUE=DATE:20171001
SUMMARY:ICSPS - Ei 2017 Deadline
DESCRIPTION:2017 9th International Conference on Signal Processing System
 s (ICSPS 2017)--Ei Compendex and Scopus
URL:http://www.wikicfp.com/cfp/servlet/event.showcfp?eventid=62095&copyow
 nerid=96113
UID:cfp666448-D@wikicfp.com
END:VEVENT
BEGIN:VEVENT
DTSTAMP:20260421T110819Z
DTSTART;VALUE=DATE:20171212
DTEND;VALUE=DATE:20171215
SUMMARY:ICROM-Ei 2017
DESCRIPTION:Ei--2017 the International Conference on Robotics and Electro
 mechanical (ICRoM 2017)--Scopus
URL:http://www.wikicfp.com/cfp/servlet/event.showcfp?eventid=62492&copyow
 nerid=96113
UID:cfp661497-E@wikicfp.com
END:VEVENT
BEGIN:VEVENT
DTSTAMP:20260421T110819Z
DTSTART;VALUE=DATE:20171005
SUMMARY:ICROM-Ei 2017 Deadline
DESCRIPTION:Ei--2017 the International Conference on Robotics and Electro
 mechanical (ICRoM 2017)--Scopus
URL:http://www.wikicfp.com/cfp/servlet/event.showcfp?eventid=62492&copyow
 nerid=96113
UID:cfp661497-D@wikicfp.com
END:VEVENT
BEGIN:VEVENT
DTSTAMP:20260421T110819Z
DTSTART;VALUE=DATE:20171229
DTEND;VALUE=DATE:20180101
SUMMARY:ICRAI 2017
DESCRIPTION:2017 International Conference on Robotics and Artificial Inte
 lligence-ACM
URL:http://www.wikicfp.com/cfp/servlet/event.showcfp?eventid=59450&copyow
 nerid=96113
UID:cfp648307-E@wikicfp.com
END:VEVENT
BEGIN:VEVENT
DTSTAMP:20260421T110819Z
DTSTART;VALUE=DATE:20171025
SUMMARY:ICRAI 2017 Deadline
DESCRIPTION:2017 International Conference on Robotics and Artificial Inte
 lligence-ACM
URL:http://www.wikicfp.com/cfp/servlet/event.showcfp?eventid=59450&copyow
 nerid=96113
UID:cfp648307-D@wikicfp.com
END:VEVENT
BEGIN:VEVENT
DTSTAMP:20260421T110819Z
DTSTART;VALUE=DATE:20171229
DTEND;VALUE=DATE:20180101
SUMMARY:ICRAE 2017
DESCRIPTION:2017 2nd International Conference on Robotics and Automation 
 Engineering (ICRAE 2017)--IEEE Xplore and Ei Compendex
URL:http://www.wikicfp.com/cfp/servlet/event.showcfp?eventid=59448&copyow
 nerid=96113
UID:cfp648295-E@wikicfp.com
END:VEVENT
BEGIN:VEVENT
DTSTAMP:20260421T110819Z
DTSTART;VALUE=DATE:20171030
SUMMARY:ICRAE 2017 Deadline
DESCRIPTION:2017 2nd International Conference on Robotics and Automation 
 Engineering (ICRAE 2017)--IEEE Xplore and Ei Compendex
URL:http://www.wikicfp.com/cfp/servlet/event.showcfp?eventid=59448&copyow
 nerid=96113
UID:cfp648295-D@wikicfp.com
END:VEVENT
END:VCALENDAR
