BEGIN:VCALENDAR
PRODID:-//WikiCFP//gbarrera 1.0//EN
VERSION:2.0
CALSCALE:GREGORIAN
BEGIN:VEVENT
DTSTAMP:20260424T071612Z
DTSTART;VALUE=DATE:20170606
DTEND;VALUE=DATE:20170610
SUMMARY:IoTAAL 2017
DESCRIPTION:3rd IEEE International Workshop on Internet of Things for Act
 ive and Assisted Living (IoTAAL)
URL:http://www.wikicfp.com/cfp/servlet/event.showcfp?eventid=59769&copyow
 nerid=96093
UID:cfp648150-E@wikicfp.com
END:VEVENT
BEGIN:VEVENT
DTSTAMP:20260424T071612Z
DTSTART;VALUE=DATE:20170228
SUMMARY:IoTAAL 2017 Deadline
DESCRIPTION:3rd IEEE International Workshop on Internet of Things for Act
 ive and Assisted Living (IoTAAL)
URL:http://www.wikicfp.com/cfp/servlet/event.showcfp?eventid=59769&copyow
 nerid=96093
UID:cfp648150-D@wikicfp.com
END:VEVENT
BEGIN:VEVENT
DTSTAMP:20260424T071612Z
DTSTART;VALUE=DATE:20170331
SUMMARY:IoTAAL 2017 Notification Due
DESCRIPTION:3rd IEEE International Workshop on Internet of Things for Act
 ive and Assisted Living (IoTAAL)
URL:http://www.wikicfp.com/cfp/servlet/event.showcfp?eventid=59769&copyow
 nerid=96093
UID:cfp648150-N@wikicfp.com
END:VEVENT
BEGIN:VEVENT
DTSTAMP:20260424T071612Z
DTSTART;VALUE=DATE:20170430
SUMMARY:IoTAAL 2017 Final Version Due
DESCRIPTION:3rd IEEE International Workshop on Internet of Things for Act
 ive and Assisted Living (IoTAAL)
URL:http://www.wikicfp.com/cfp/servlet/event.showcfp?eventid=59769&copyow
 nerid=96093
UID:cfp648150-N@wikicfp.com
END:VEVENT
BEGIN:VEVENT
DTSTAMP:20260424T071612Z
DTSTART;VALUE=DATE:20170703
DTEND;VALUE=DATE:20170706
SUMMARY:EDULEARN 2017
DESCRIPTION:9th annual International Conference on Education and New Lear
 ning Technologies
URL:http://www.wikicfp.com/cfp/servlet/event.showcfp?eventid=60259&copyow
 nerid=96093
UID:cfp648149-E@wikicfp.com
END:VEVENT
BEGIN:VEVENT
DTSTAMP:20260424T071612Z
DTSTART;VALUE=DATE:20170330
SUMMARY:EDULEARN 2017 Deadline
DESCRIPTION:9th annual International Conference on Education and New Lear
 ning Technologies
URL:http://www.wikicfp.com/cfp/servlet/event.showcfp?eventid=60259&copyow
 nerid=96093
UID:cfp648149-D@wikicfp.com
END:VEVENT
BEGIN:VEVENT
DTSTAMP:20260424T071612Z
DTSTART;VALUE=DATE:20170424
SUMMARY:EDULEARN 2017 Notification Due
DESCRIPTION:9th annual International Conference on Education and New Lear
 ning Technologies
URL:http://www.wikicfp.com/cfp/servlet/event.showcfp?eventid=60259&copyow
 nerid=96093
UID:cfp648149-N@wikicfp.com
END:VEVENT
BEGIN:VEVENT
DTSTAMP:20260424T071612Z
DTSTART;VALUE=DATE:20170518
SUMMARY:EDULEARN 2017 Final Version Due
DESCRIPTION:9th annual International Conference on Education and New Lear
 ning Technologies
URL:http://www.wikicfp.com/cfp/servlet/event.showcfp?eventid=60259&copyow
 nerid=96093
UID:cfp648149-N@wikicfp.com
END:VEVENT
BEGIN:VEVENT
DTSTAMP:20260424T071612Z
DTSTART;VALUE=DATE:20170729
DTEND;VALUE=DATE:20170801
SUMMARY:ICINCO 2017
DESCRIPTION:International Conference on Informatics in Control\, Automati
 on and Robotics
URL:http://www.wikicfp.com/cfp/servlet/event.showcfp?eventid=56625&copyow
 nerid=96093
UID:cfp648167-E@wikicfp.com
END:VEVENT
BEGIN:VEVENT
DTSTAMP:20260424T071612Z
DTSTART;VALUE=DATE:20170418
SUMMARY:ICINCO 2017 Deadline
DESCRIPTION:International Conference on Informatics in Control\, Automati
 on and Robotics
URL:http://www.wikicfp.com/cfp/servlet/event.showcfp?eventid=56625&copyow
 nerid=96093
UID:cfp648167-D@wikicfp.com
END:VEVENT
BEGIN:VEVENT
DTSTAMP:20260424T071612Z
DTSTART;VALUE=DATE:20170503
SUMMARY:ICINCO 2017 Notification Due
DESCRIPTION:International Conference on Informatics in Control\, Automati
 on and Robotics
URL:http://www.wikicfp.com/cfp/servlet/event.showcfp?eventid=56625&copyow
 nerid=96093
UID:cfp648167-N@wikicfp.com
END:VEVENT
BEGIN:VEVENT
DTSTAMP:20260424T071612Z
DTSTART;VALUE=DATE:20170517
SUMMARY:ICINCO 2017 Final Version Due
DESCRIPTION:International Conference on Informatics in Control\, Automati
 on and Robotics
URL:http://www.wikicfp.com/cfp/servlet/event.showcfp?eventid=56625&copyow
 nerid=96093
UID:cfp648167-N@wikicfp.com
END:VEVENT
END:VCALENDAR
