BEGIN:VCALENDAR
PRODID:-//WikiCFP//david65 1.0//EN
VERSION:2.0
CALSCALE:GREGORIAN
BEGIN:VEVENT
DTSTAMP:20260420T010613Z
DTSTART;VALUE=DATE:20170705
DTEND;VALUE=DATE:20170708
SUMMARY:SEKE 2017
DESCRIPTION:The Twenty-Ninth International Conference on Software Enginee
 ring and Knowledge Engineering
URL:http://www.wikicfp.com/cfp/servlet/event.showcfp?eventid=58357&copyow
 nerid=95985
UID:cfp647424-E@wikicfp.com
END:VEVENT
BEGIN:VEVENT
DTSTAMP:20260420T010613Z
DTSTART;VALUE=DATE:20170301
SUMMARY:SEKE 2017 Deadline
DESCRIPTION:The Twenty-Ninth International Conference on Software Enginee
 ring and Knowledge Engineering
URL:http://www.wikicfp.com/cfp/servlet/event.showcfp?eventid=58357&copyow
 nerid=95985
UID:cfp647424-D@wikicfp.com
END:VEVENT
BEGIN:VEVENT
DTSTAMP:20260420T010613Z
DTSTART;VALUE=DATE:20170420
SUMMARY:SEKE 2017 Notification Due
DESCRIPTION:The Twenty-Ninth International Conference on Software Enginee
 ring and Knowledge Engineering
URL:http://www.wikicfp.com/cfp/servlet/event.showcfp?eventid=58357&copyow
 nerid=95985
UID:cfp647424-N@wikicfp.com
END:VEVENT
BEGIN:VEVENT
DTSTAMP:20260420T010613Z
DTSTART;VALUE=DATE:20170510
SUMMARY:SEKE 2017 Final Version Due
DESCRIPTION:The Twenty-Ninth International Conference on Software Enginee
 ring and Knowledge Engineering
URL:http://www.wikicfp.com/cfp/servlet/event.showcfp?eventid=58357&copyow
 nerid=95985
UID:cfp647424-N@wikicfp.com
END:VEVENT
BEGIN:VEVENT
DTSTAMP:20260420T010613Z
DTSTART;VALUE=DATE:20170726
DTEND;VALUE=DATE:20170729
SUMMARY:ICSOFT 2017
DESCRIPTION:12th International Conference on Software Technologies
URL:http://www.wikicfp.com/cfp/servlet/event.showcfp?eventid=59945&copyow
 nerid=95985
UID:cfp647425-E@wikicfp.com
END:VEVENT
BEGIN:VEVENT
DTSTAMP:20260420T010613Z
DTSTART;VALUE=DATE:20170302
SUMMARY:ICSOFT 2017 Deadline
DESCRIPTION:12th International Conference on Software Technologies
URL:http://www.wikicfp.com/cfp/servlet/event.showcfp?eventid=59945&copyow
 nerid=95985
UID:cfp647425-D@wikicfp.com
END:VEVENT
BEGIN:VEVENT
DTSTAMP:20260420T010613Z
DTSTART;VALUE=DATE:20170503
SUMMARY:ICSOFT 2017 Notification Due
DESCRIPTION:12th International Conference on Software Technologies
URL:http://www.wikicfp.com/cfp/servlet/event.showcfp?eventid=59945&copyow
 nerid=95985
UID:cfp647425-N@wikicfp.com
END:VEVENT
BEGIN:VEVENT
DTSTAMP:20260420T010613Z
DTSTART;VALUE=DATE:20170517
SUMMARY:ICSOFT 2017 Final Version Due
DESCRIPTION:12th International Conference on Software Technologies
URL:http://www.wikicfp.com/cfp/servlet/event.showcfp?eventid=59945&copyow
 nerid=95985
UID:cfp647425-N@wikicfp.com
END:VEVENT
BEGIN:VEVENT
DTSTAMP:20260420T010613Z
DTSTART;VALUE=DATE:20170325
DTEND;VALUE=DATE:20170327
SUMMARY:CoSIT 2017
DESCRIPTION:Fourth  International Conference on Computer Science and Info
 rmation Technology 
URL:http://www.wikicfp.com/cfp/servlet/event.showcfp?eventid=59743&copyow
 nerid=95985
UID:cfp647422-E@wikicfp.com
END:VEVENT
BEGIN:VEVENT
DTSTAMP:20260420T010613Z
DTSTART;VALUE=DATE:20170308
SUMMARY:CoSIT 2017 Deadline
DESCRIPTION:Fourth  International Conference on Computer Science and Info
 rmation Technology 
URL:http://www.wikicfp.com/cfp/servlet/event.showcfp?eventid=59743&copyow
 nerid=95985
UID:cfp647422-D@wikicfp.com
END:VEVENT
BEGIN:VEVENT
DTSTAMP:20260420T010613Z
DTSTART;VALUE=DATE:20170318
SUMMARY:CoSIT 2017 Notification Due
DESCRIPTION:Fourth  International Conference on Computer Science and Info
 rmation Technology 
URL:http://www.wikicfp.com/cfp/servlet/event.showcfp?eventid=59743&copyow
 nerid=95985
UID:cfp647422-N@wikicfp.com
END:VEVENT
BEGIN:VEVENT
DTSTAMP:20260420T010613Z
DTSTART;VALUE=DATE:20170320
SUMMARY:CoSIT 2017 Final Version Due
DESCRIPTION:Fourth  International Conference on Computer Science and Info
 rmation Technology 
URL:http://www.wikicfp.com/cfp/servlet/event.showcfp?eventid=59743&copyow
 nerid=95985
UID:cfp647422-N@wikicfp.com
END:VEVENT
BEGIN:VEVENT
DTSTAMP:20260420T010613Z
DTSTART;VALUE=DATE:20170625
DTEND;VALUE=DATE:20170628
SUMMARY:ICOSE-Ei 2017
DESCRIPTION:2017 International Conference on Software Engineering (ICOSE 
 2017) -- EI &Scopus
URL:http://www.wikicfp.com/cfp/servlet/event.showcfp?eventid=58232&copyow
 nerid=95985
UID:cfp647421-E@wikicfp.com
END:VEVENT
BEGIN:VEVENT
DTSTAMP:20260420T010613Z
DTSTART;VALUE=DATE:20170430
SUMMARY:ICOSE-Ei 2017 Deadline
DESCRIPTION:2017 International Conference on Software Engineering (ICOSE 
 2017) -- EI &Scopus
URL:http://www.wikicfp.com/cfp/servlet/event.showcfp?eventid=58232&copyow
 nerid=95985
UID:cfp647421-D@wikicfp.com
END:VEVENT
BEGIN:VEVENT
DTSTAMP:20260420T010613Z
DTSTART;VALUE=DATE:20170704
DTEND;VALUE=DATE:20170707
SUMMARY:ICCSM 2017
DESCRIPTION:2017 International Conference on Computer\, Software and Mode
 ling (ICCSM 2017)--EI Compendex\, Scopus\, and ISI CPCS
URL:http://www.wikicfp.com/cfp/servlet/event.showcfp?eventid=60013&copyow
 nerid=95985
UID:cfp647423-E@wikicfp.com
END:VEVENT
BEGIN:VEVENT
DTSTAMP:20260420T010613Z
DTSTART;VALUE=DATE:20170430
SUMMARY:ICCSM 2017 Deadline
DESCRIPTION:2017 International Conference on Computer\, Software and Mode
 ling (ICCSM 2017)--EI Compendex\, Scopus\, and ISI CPCS
URL:http://www.wikicfp.com/cfp/servlet/event.showcfp?eventid=60013&copyow
 nerid=95985
UID:cfp647423-D@wikicfp.com
END:VEVENT
BEGIN:VEVENT
DTSTAMP:20260420T010613Z
DTSTART;VALUE=DATE:20170225
DTEND;VALUE=DATE:20170227
SUMMARY:JSE 2017
DESCRIPTION:Sixth International Conference on Software Engineering and Ap
 plications 
URL:http://www.wikicfp.com/cfp/servlet/event.showcfp?eventid=60294&copyow
 nerid=95985
UID:cfp647426-E@wikicfp.com
END:VEVENT
BEGIN:VEVENT
DTSTAMP:20260420T010613Z
DTSTART;VALUE=DATE:20171104
SUMMARY:JSE 2017 Deadline
DESCRIPTION:Sixth International Conference on Software Engineering and Ap
 plications 
URL:http://www.wikicfp.com/cfp/servlet/event.showcfp?eventid=60294&copyow
 nerid=95985
UID:cfp647426-D@wikicfp.com
END:VEVENT
BEGIN:VEVENT
DTSTAMP:20260420T010613Z
DTSTART;VALUE=DATE:20171125
SUMMARY:JSE 2017 Notification Due
DESCRIPTION:Sixth International Conference on Software Engineering and Ap
 plications 
URL:http://www.wikicfp.com/cfp/servlet/event.showcfp?eventid=60294&copyow
 nerid=95985
UID:cfp647426-N@wikicfp.com
END:VEVENT
BEGIN:VEVENT
DTSTAMP:20260420T010613Z
DTSTART;VALUE=DATE:20171201
SUMMARY:JSE 2017 Final Version Due
DESCRIPTION:Sixth International Conference on Software Engineering and Ap
 plications 
URL:http://www.wikicfp.com/cfp/servlet/event.showcfp?eventid=60294&copyow
 nerid=95985
UID:cfp647426-N@wikicfp.com
END:VEVENT
END:VCALENDAR
