BEGIN:VCALENDAR
PRODID:-//WikiCFP//clipclapclop 1.0//EN
VERSION:2.0
CALSCALE:GREGORIAN
BEGIN:VEVENT
DTSTAMP:20260421T110055Z
DTSTART;VALUE=DATE:20170614
DTEND;VALUE=DATE:20170618
SUMMARY:SS-MLID-IWANN 2017
DESCRIPTION:Special Session on Machine Learning in Imbalanced Domains\, I
 WANN2017\, LNCS\, Cadiz (Spain)\, June 2017
URL:http://www.wikicfp.com/cfp/servlet/event.showcfp?eventid=59932&copyow
 nerid=95688
UID:cfp645572-E@wikicfp.com
END:VEVENT
BEGIN:VEVENT
DTSTAMP:20260421T110055Z
DTSTART;VALUE=DATE:20170331
SUMMARY:SS-MLID-IWANN 2017 Abstract Due
DESCRIPTION:Special Session on Machine Learning in Imbalanced Domains\, I
 WANN2017\, LNCS\, Cadiz (Spain)\, June 2017
URL:http://www.wikicfp.com/cfp/servlet/event.showcfp?eventid=59932&copyow
 nerid=95688
UID:cfp645572-A@wikicfp.com
END:VEVENT
BEGIN:VEVENT
DTSTAMP:20260421T110055Z
DTSTART;VALUE=DATE:20170125
SUMMARY:SS-MLID-IWANN 2017 Deadline
DESCRIPTION:Special Session on Machine Learning in Imbalanced Domains\, I
 WANN2017\, LNCS\, Cadiz (Spain)\, June 2017
URL:http://www.wikicfp.com/cfp/servlet/event.showcfp?eventid=59932&copyow
 nerid=95688
UID:cfp645572-D@wikicfp.com
END:VEVENT
BEGIN:VEVENT
DTSTAMP:20260421T110055Z
DTSTART;VALUE=DATE:20170315
SUMMARY:SS-MLID-IWANN 2017 Notification Due
DESCRIPTION:Special Session on Machine Learning in Imbalanced Domains\, I
 WANN2017\, LNCS\, Cadiz (Spain)\, June 2017
URL:http://www.wikicfp.com/cfp/servlet/event.showcfp?eventid=59932&copyow
 nerid=95688
UID:cfp645572-N@wikicfp.com
END:VEVENT
BEGIN:VEVENT
DTSTAMP:20260421T110055Z
DTSTART;VALUE=DATE:20170331
SUMMARY:SS-MLID-IWANN 2017 Final Version Due
DESCRIPTION:Special Session on Machine Learning in Imbalanced Domains\, I
 WANN2017\, LNCS\, Cadiz (Spain)\, June 2017
URL:http://www.wikicfp.com/cfp/servlet/event.showcfp?eventid=59932&copyow
 nerid=95688
UID:cfp645572-N@wikicfp.com
END:VEVENT
BEGIN:VEVENT
DTSTAMP:20260421T110055Z
DTSTART;VALUE=DATE:20170605
DTEND;VALUE=DATE:20170609
SUMMARY:CEC SS on Eng Appl 2017
DESCRIPTION:CEC 2017 Special Session on Engineering Applications of Evolu
 tionary Computation
URL:http://www.wikicfp.com/cfp/servlet/event.showcfp?eventid=59215&copyow
 nerid=95688
UID:cfp645573-E@wikicfp.com
END:VEVENT
BEGIN:VEVENT
DTSTAMP:20260421T110055Z
DTSTART;VALUE=DATE:20170130
SUMMARY:CEC SS on Eng Appl 2017 Deadline
DESCRIPTION:CEC 2017 Special Session on Engineering Applications of Evolu
 tionary Computation
URL:http://www.wikicfp.com/cfp/servlet/event.showcfp?eventid=59215&copyow
 nerid=95688
UID:cfp645573-D@wikicfp.com
END:VEVENT
BEGIN:VEVENT
DTSTAMP:20260421T110055Z
DTSTART;VALUE=DATE:20170226
SUMMARY:CEC SS on Eng Appl 2017 Notification Due
DESCRIPTION:CEC 2017 Special Session on Engineering Applications of Evolu
 tionary Computation
URL:http://www.wikicfp.com/cfp/servlet/event.showcfp?eventid=59215&copyow
 nerid=95688
UID:cfp645573-N@wikicfp.com
END:VEVENT
BEGIN:VEVENT
DTSTAMP:20260421T110055Z
DTSTART;VALUE=DATE:20170312
SUMMARY:CEC SS on Eng Appl 2017 Final Version Due
DESCRIPTION:CEC 2017 Special Session on Engineering Applications of Evolu
 tionary Computation
URL:http://www.wikicfp.com/cfp/servlet/event.showcfp?eventid=59215&copyow
 nerid=95688
UID:cfp645573-N@wikicfp.com
END:VEVENT
BEGIN:VEVENT
DTSTAMP:20260421T110055Z
DTSTART;VALUE=DATE:20170602
DTEND;VALUE=DATE:20170603
SUMMARY:ParSocial 2017
DESCRIPTION:The Second IEEE Workshop on Parallel and Distributed Processi
 ng for Computational Social Systems in conjunction with IPDPS 2017
URL:http://www.wikicfp.com/cfp/servlet/event.showcfp?eventid=59216&copyow
 nerid=95688
UID:cfp645571-E@wikicfp.com
END:VEVENT
BEGIN:VEVENT
DTSTAMP:20260421T110055Z
DTSTART;VALUE=DATE:20170201
SUMMARY:ParSocial 2017 Deadline
DESCRIPTION:The Second IEEE Workshop on Parallel and Distributed Processi
 ng for Computational Social Systems in conjunction with IPDPS 2017
URL:http://www.wikicfp.com/cfp/servlet/event.showcfp?eventid=59216&copyow
 nerid=95688
UID:cfp645571-D@wikicfp.com
END:VEVENT
BEGIN:VEVENT
DTSTAMP:20260421T110055Z
DTSTART;VALUE=DATE:20170227
SUMMARY:ParSocial 2017 Notification Due
DESCRIPTION:The Second IEEE Workshop on Parallel and Distributed Processi
 ng for Computational Social Systems in conjunction with IPDPS 2017
URL:http://www.wikicfp.com/cfp/servlet/event.showcfp?eventid=59216&copyow
 nerid=95688
UID:cfp645571-N@wikicfp.com
END:VEVENT
BEGIN:VEVENT
DTSTAMP:20260421T110055Z
DTSTART;VALUE=DATE:20170313
SUMMARY:ParSocial 2017 Final Version Due
DESCRIPTION:The Second IEEE Workshop on Parallel and Distributed Processi
 ng for Computational Social Systems in conjunction with IPDPS 2017
URL:http://www.wikicfp.com/cfp/servlet/event.showcfp?eventid=59216&copyow
 nerid=95688
UID:cfp645571-N@wikicfp.com
END:VEVENT
BEGIN:VEVENT
DTSTAMP:20260421T110055Z
DTSTART;VALUE=DATE:20170904
DTEND;VALUE=DATE:20170909
SUMMARY:PaCT 2017
DESCRIPTION:The 14th International Conference on Parallel Computing Techn
 ologies
URL:http://www.wikicfp.com/cfp/servlet/event.showcfp?eventid=58926&copyow
 nerid=95688
UID:cfp645569-E@wikicfp.com
END:VEVENT
BEGIN:VEVENT
DTSTAMP:20260421T110055Z
DTSTART;VALUE=DATE:20170215
SUMMARY:PaCT 2017 Deadline
DESCRIPTION:The 14th International Conference on Parallel Computing Techn
 ologies
URL:http://www.wikicfp.com/cfp/servlet/event.showcfp?eventid=58926&copyow
 nerid=95688
UID:cfp645569-D@wikicfp.com
END:VEVENT
BEGIN:VEVENT
DTSTAMP:20260421T110055Z
DTSTART;VALUE=DATE:20170415
SUMMARY:PaCT 2017 Notification Due
DESCRIPTION:The 14th International Conference on Parallel Computing Techn
 ologies
URL:http://www.wikicfp.com/cfp/servlet/event.showcfp?eventid=58926&copyow
 nerid=95688
UID:cfp645569-N@wikicfp.com
END:VEVENT
BEGIN:VEVENT
DTSTAMP:20260421T110055Z
DTSTART;VALUE=DATE:20170525
SUMMARY:PaCT 2017 Final Version Due
DESCRIPTION:The 14th International Conference on Parallel Computing Techn
 ologies
URL:http://www.wikicfp.com/cfp/servlet/event.showcfp?eventid=58926&copyow
 nerid=95688
UID:cfp645569-N@wikicfp.com
END:VEVENT
BEGIN:VEVENT
DTSTAMP:20260421T110055Z
DTSTART;VALUE=DATE:20170515
DTEND;VALUE=DATE:20170518
SUMMARY:BigDAW 2017
DESCRIPTION:International Workshop on Big Data Analytics
URL:http://www.wikicfp.com/cfp/servlet/event.showcfp?eventid=58981&copyow
 nerid=95688
UID:cfp645570-E@wikicfp.com
END:VEVENT
BEGIN:VEVENT
DTSTAMP:20260421T110055Z
DTSTART;VALUE=DATE:20170224
SUMMARY:BigDAW 2017 Deadline
DESCRIPTION:International Workshop on Big Data Analytics
URL:http://www.wikicfp.com/cfp/servlet/event.showcfp?eventid=58981&copyow
 nerid=95688
UID:cfp645570-D@wikicfp.com
END:VEVENT
BEGIN:VEVENT
DTSTAMP:20260421T110055Z
DTSTART;VALUE=DATE:20170330
SUMMARY:BigDAW 2017 Notification Due
DESCRIPTION:International Workshop on Big Data Analytics
URL:http://www.wikicfp.com/cfp/servlet/event.showcfp?eventid=58981&copyow
 nerid=95688
UID:cfp645570-N@wikicfp.com
END:VEVENT
BEGIN:VEVENT
DTSTAMP:20260421T110055Z
DTSTART;VALUE=DATE:20170404
SUMMARY:BigDAW 2017 Final Version Due
DESCRIPTION:International Workshop on Big Data Analytics
URL:http://www.wikicfp.com/cfp/servlet/event.showcfp?eventid=58981&copyow
 nerid=95688
UID:cfp645570-N@wikicfp.com
END:VEVENT
BEGIN:VEVENT
DTSTAMP:20260421T110055Z
DTSTART;VALUE=DATE:20170225
SUMMARY:ACIJ  2017 Deadline
DESCRIPTION:Advanced Computing: An International Journal 
URL:http://www.wikicfp.com/cfp/servlet/event.showcfp?eventid=52602&copyow
 nerid=95688
UID:cfp645567-D@wikicfp.com
END:VEVENT
BEGIN:VEVENT
DTSTAMP:20260421T110055Z
DTSTART;VALUE=DATE:20170325
SUMMARY:ACIJ  2017 Notification Due
DESCRIPTION:Advanced Computing: An International Journal 
URL:http://www.wikicfp.com/cfp/servlet/event.showcfp?eventid=52602&copyow
 nerid=95688
UID:cfp645567-N@wikicfp.com
END:VEVENT
BEGIN:VEVENT
DTSTAMP:20260421T110055Z
DTSTART;VALUE=DATE:20170403
SUMMARY:ACIJ  2017 Final Version Due
DESCRIPTION:Advanced Computing: An International Journal 
URL:http://www.wikicfp.com/cfp/servlet/event.showcfp?eventid=52602&copyow
 nerid=95688
UID:cfp645567-N@wikicfp.com
END:VEVENT
BEGIN:VEVENT
DTSTAMP:20260421T110055Z
DTSTART;VALUE=DATE:20170912
DTEND;VALUE=DATE:20170916
SUMMARY:ParCo 2017
DESCRIPTION:Parallel Computing Conference
URL:http://www.wikicfp.com/cfp/servlet/event.showcfp?eventid=57937&copyow
 nerid=95688
UID:cfp645568-E@wikicfp.com
END:VEVENT
BEGIN:VEVENT
DTSTAMP:20260421T110055Z
DTSTART;VALUE=DATE:20170228
SUMMARY:ParCo 2017 Abstract Due
DESCRIPTION:Parallel Computing Conference
URL:http://www.wikicfp.com/cfp/servlet/event.showcfp?eventid=57937&copyow
 nerid=95688
UID:cfp645568-A@wikicfp.com
END:VEVENT
BEGIN:VEVENT
DTSTAMP:20260421T110055Z
DTSTART;VALUE=DATE:20170731
SUMMARY:ParCo 2017 Deadline
DESCRIPTION:Parallel Computing Conference
URL:http://www.wikicfp.com/cfp/servlet/event.showcfp?eventid=57937&copyow
 nerid=95688
UID:cfp645568-D@wikicfp.com
END:VEVENT
BEGIN:VEVENT
DTSTAMP:20260421T110055Z
DTSTART;VALUE=DATE:20170515
SUMMARY:ParCo 2017 Notification Due
DESCRIPTION:Parallel Computing Conference
URL:http://www.wikicfp.com/cfp/servlet/event.showcfp?eventid=57937&copyow
 nerid=95688
UID:cfp645568-N@wikicfp.com
END:VEVENT
BEGIN:VEVENT
DTSTAMP:20260421T110055Z
DTSTART;VALUE=DATE:20171031
SUMMARY:ParCo 2017 Final Version Due
DESCRIPTION:Parallel Computing Conference
URL:http://www.wikicfp.com/cfp/servlet/event.showcfp?eventid=57937&copyow
 nerid=95688
UID:cfp645568-N@wikicfp.com
END:VEVENT
BEGIN:VEVENT
DTSTAMP:20260421T110055Z
DTSTART;VALUE=DATE:20190803
SUMMARY:PBIJ 2018 Deadline
DESCRIPTION:Pharmaceutical and Biomedical sciences: An International Jour
 nal
URL:http://www.wikicfp.com/cfp/servlet/event.showcfp?eventid=60612&copyow
 nerid=95688
UID:cfp645574-D@wikicfp.com
END:VEVENT
BEGIN:VEVENT
DTSTAMP:20260421T110055Z
DTSTART;VALUE=DATE:20190903
SUMMARY:PBIJ 2018 Notification Due
DESCRIPTION:Pharmaceutical and Biomedical sciences: An International Jour
 nal
URL:http://www.wikicfp.com/cfp/servlet/event.showcfp?eventid=60612&copyow
 nerid=95688
UID:cfp645574-N@wikicfp.com
END:VEVENT
BEGIN:VEVENT
DTSTAMP:20260421T110055Z
DTSTART;VALUE=DATE:20190913
SUMMARY:PBIJ 2018 Final Version Due
DESCRIPTION:Pharmaceutical and Biomedical sciences: An International Jour
 nal
URL:http://www.wikicfp.com/cfp/servlet/event.showcfp?eventid=60612&copyow
 nerid=95688
UID:cfp645574-N@wikicfp.com
END:VEVENT
END:VCALENDAR
