BEGIN:VCALENDAR
PRODID:-//WikiCFP//billchuUNCC 1.0//EN
VERSION:2.0
CALSCALE:GREGORIAN
BEGIN:VEVENT
DTSTAMP:20260424T043134Z
DTSTART;VALUE=DATE:20170803
DTEND;VALUE=DATE:20170804
SUMMARY:NSAA 2017
DESCRIPTION:2nd Workshop on Network Security Analytics and Automation
URL:http://www.wikicfp.com/cfp/servlet/event.showcfp?eventid=60961&copyow
 nerid=95641
UID:cfp645400-E@wikicfp.com
END:VEVENT
BEGIN:VEVENT
DTSTAMP:20260424T043134Z
DTSTART;VALUE=DATE:20170331
SUMMARY:NSAA 2017 Deadline
DESCRIPTION:2nd Workshop on Network Security Analytics and Automation
URL:http://www.wikicfp.com/cfp/servlet/event.showcfp?eventid=60961&copyow
 nerid=95641
UID:cfp645400-D@wikicfp.com
END:VEVENT
BEGIN:VEVENT
DTSTAMP:20260424T043134Z
DTSTART;VALUE=DATE:20170428
SUMMARY:NSAA 2017 Notification Due
DESCRIPTION:2nd Workshop on Network Security Analytics and Automation
URL:http://www.wikicfp.com/cfp/servlet/event.showcfp?eventid=60961&copyow
 nerid=95641
UID:cfp645400-N@wikicfp.com
END:VEVENT
BEGIN:VEVENT
DTSTAMP:20260424T043134Z
DTSTART;VALUE=DATE:20170515
SUMMARY:NSAA 2017 Final Version Due
DESCRIPTION:2nd Workshop on Network Security Analytics and Automation
URL:http://www.wikicfp.com/cfp/servlet/event.showcfp?eventid=60961&copyow
 nerid=95641
UID:cfp645400-N@wikicfp.com
END:VEVENT
BEGIN:VEVENT
DTSTAMP:20260424T043134Z
DTSTART;VALUE=DATE:20170919
DTEND;VALUE=DATE:20170923
SUMMARY:IWCS 2017
DESCRIPTION:12th INTERNATIONAL CONFERENCE ON COMPUTATIONAL SEMANTICS
URL:http://www.wikicfp.com/cfp/servlet/event.showcfp?eventid=60664&copyow
 nerid=95641
UID:cfp645403-E@wikicfp.com
END:VEVENT
BEGIN:VEVENT
DTSTAMP:20260424T043134Z
DTSTART;VALUE=DATE:20170415
SUMMARY:IWCS 2017 Deadline
DESCRIPTION:12th INTERNATIONAL CONFERENCE ON COMPUTATIONAL SEMANTICS
URL:http://www.wikicfp.com/cfp/servlet/event.showcfp?eventid=60664&copyow
 nerid=95641
UID:cfp645403-D@wikicfp.com
END:VEVENT
BEGIN:VEVENT
DTSTAMP:20260424T043134Z
DTSTART;VALUE=DATE:20170713
SUMMARY:IWCS 2017 Notification Due
DESCRIPTION:12th INTERNATIONAL CONFERENCE ON COMPUTATIONAL SEMANTICS
URL:http://www.wikicfp.com/cfp/servlet/event.showcfp?eventid=60664&copyow
 nerid=95641
UID:cfp645403-N@wikicfp.com
END:VEVENT
BEGIN:VEVENT
DTSTAMP:20260424T043134Z
DTSTART;VALUE=DATE:20170904
SUMMARY:IWCS 2017 Final Version Due
DESCRIPTION:12th INTERNATIONAL CONFERENCE ON COMPUTATIONAL SEMANTICS
URL:http://www.wikicfp.com/cfp/servlet/event.showcfp?eventid=60664&copyow
 nerid=95641
UID:cfp645403-N@wikicfp.com
END:VEVENT
END:VCALENDAR
