BEGIN:VCALENDAR
PRODID:-//WikiCFP//kbarker 1.0//EN
VERSION:2.0
CALSCALE:GREGORIAN
BEGIN:VEVENT
DTSTAMP:20260424T115152Z
DTSTART;VALUE=DATE:20170828
DTEND;VALUE=DATE:20170831
SUMMARY:PST 2017
DESCRIPTION:Privacy\, Security and Trust 2017
URL:http://www.wikicfp.com/cfp/servlet/event.showcfp?eventid=60501&copyow
 nerid=95106
UID:cfp641774-E@wikicfp.com
END:VEVENT
BEGIN:VEVENT
DTSTAMP:20260424T115152Z
DTSTART;VALUE=DATE:20170515
SUMMARY:PST 2017 Deadline
DESCRIPTION:Privacy\, Security and Trust 2017
URL:http://www.wikicfp.com/cfp/servlet/event.showcfp?eventid=60501&copyow
 nerid=95106
UID:cfp641774-D@wikicfp.com
END:VEVENT
BEGIN:VEVENT
DTSTAMP:20260424T115152Z
DTSTART;VALUE=DATE:20170710
SUMMARY:PST 2017 Notification Due
DESCRIPTION:Privacy\, Security and Trust 2017
URL:http://www.wikicfp.com/cfp/servlet/event.showcfp?eventid=60501&copyow
 nerid=95106
UID:cfp641774-N@wikicfp.com
END:VEVENT
BEGIN:VEVENT
DTSTAMP:20260424T115152Z
DTSTART;VALUE=DATE:20170725
SUMMARY:PST 2017 Final Version Due
DESCRIPTION:Privacy\, Security and Trust 2017
URL:http://www.wikicfp.com/cfp/servlet/event.showcfp?eventid=60501&copyow
 nerid=95106
UID:cfp641774-N@wikicfp.com
END:VEVENT
END:VCALENDAR
