BEGIN:VCALENDAR
PRODID:-//WikiCFP//jelder 1.0//EN
VERSION:2.0
CALSCALE:GREGORIAN
BEGIN:VEVENT
DTSTAMP:20260422T153029Z
DTSTART;VALUE=DATE:20170516
DTEND;VALUE=DATE:20170520
SUMMARY:CRV  2017
DESCRIPTION:14th Conference on Computer and Robot Vision (CRV 2017)
URL:http://www.wikicfp.com/cfp/servlet/event.showcfp?eventid=59906&copyow
 nerid=94546
UID:cfp637059-E@wikicfp.com
END:VEVENT
BEGIN:VEVENT
DTSTAMP:20260422T153029Z
DTSTART;VALUE=DATE:20170203
SUMMARY:CRV  2017 Deadline
DESCRIPTION:14th Conference on Computer and Robot Vision (CRV 2017)
URL:http://www.wikicfp.com/cfp/servlet/event.showcfp?eventid=59906&copyow
 nerid=94546
UID:cfp637059-D@wikicfp.com
END:VEVENT
BEGIN:VEVENT
DTSTAMP:20260422T153029Z
DTSTART;VALUE=DATE:20170310
SUMMARY:CRV  2017 Notification Due
DESCRIPTION:14th Conference on Computer and Robot Vision (CRV 2017)
URL:http://www.wikicfp.com/cfp/servlet/event.showcfp?eventid=59906&copyow
 nerid=94546
UID:cfp637059-N@wikicfp.com
END:VEVENT
BEGIN:VEVENT
DTSTAMP:20260422T153029Z
DTSTART;VALUE=DATE:20170403
SUMMARY:CRV  2017 Final Version Due
DESCRIPTION:14th Conference on Computer and Robot Vision (CRV 2017)
URL:http://www.wikicfp.com/cfp/servlet/event.showcfp?eventid=59906&copyow
 nerid=94546
UID:cfp637059-N@wikicfp.com
END:VEVENT
BEGIN:VEVENT
DTSTAMP:20260422T153029Z
DTSTART;VALUE=DATE:20180509
DTEND;VALUE=DATE:20180512
SUMMARY:CRV -  2018
DESCRIPTION:15th Conference on Computer and Robot Vision
URL:http://www.wikicfp.com/cfp/servlet/event.showcfp?eventid=68755&copyow
 nerid=94546
UID:cfp689891-E@wikicfp.com
END:VEVENT
BEGIN:VEVENT
DTSTAMP:20260422T153029Z
DTSTART;VALUE=DATE:20180209
SUMMARY:CRV -  2018 Deadline
DESCRIPTION:15th Conference on Computer and Robot Vision
URL:http://www.wikicfp.com/cfp/servlet/event.showcfp?eventid=68755&copyow
 nerid=94546
UID:cfp689891-D@wikicfp.com
END:VEVENT
BEGIN:VEVENT
DTSTAMP:20260422T153029Z
DTSTART;VALUE=DATE:20180311
SUMMARY:CRV -  2018 Notification Due
DESCRIPTION:15th Conference on Computer and Robot Vision
URL:http://www.wikicfp.com/cfp/servlet/event.showcfp?eventid=68755&copyow
 nerid=94546
UID:cfp689891-N@wikicfp.com
END:VEVENT
BEGIN:VEVENT
DTSTAMP:20260422T153029Z
DTSTART;VALUE=DATE:20180401
SUMMARY:CRV -  2018 Final Version Due
DESCRIPTION:15th Conference on Computer and Robot Vision
URL:http://www.wikicfp.com/cfp/servlet/event.showcfp?eventid=68755&copyow
 nerid=94546
UID:cfp689891-N@wikicfp.com
END:VEVENT
END:VCALENDAR
