BEGIN:VCALENDAR
PRODID:-//WikiCFP//eugeneu 1.0//EN
VERSION:2.0
CALSCALE:GREGORIAN
BEGIN:VEVENT
DTSTAMP:20260419T234224Z
DTSTART;VALUE=DATE:20160730
DTEND;VALUE=DATE:20160804
SUMMARY:SIGGRAPH 2017
DESCRIPTION:International Conference on Computer Graphics and Interactive
  Techniques
URL:http://www.wikicfp.com/cfp/servlet/event.showcfp?eventid=56909&copyow
 nerid=94120
UID:cfp696375-E@wikicfp.com
END:VEVENT
BEGIN:VEVENT
DTSTAMP:20260419T234224Z
DTSTART;VALUE=DATE:20170124
SUMMARY:SIGGRAPH 2017 Deadline
DESCRIPTION:International Conference on Computer Graphics and Interactive
  Techniques
URL:http://www.wikicfp.com/cfp/servlet/event.showcfp?eventid=56909&copyow
 nerid=94120
UID:cfp696375-D@wikicfp.com
END:VEVENT
BEGIN:VEVENT
DTSTAMP:20260419T234224Z
DTSTART;VALUE=DATE:20170531
DTEND;VALUE=DATE:20170603
SUMMARY:QoMEX 2017
DESCRIPTION:Quality of Multimedia Experience
URL:http://www.wikicfp.com/cfp/servlet/event.showcfp?eventid=54947&copyow
 nerid=94120
UID:cfp634685-E@wikicfp.com
END:VEVENT
BEGIN:VEVENT
DTSTAMP:20260419T234224Z
DTSTART;VALUE=DATE:20170205
SUMMARY:QoMEX 2017 Deadline
DESCRIPTION:Quality of Multimedia Experience
URL:http://www.wikicfp.com/cfp/servlet/event.showcfp?eventid=54947&copyow
 nerid=94120
UID:cfp634685-D@wikicfp.com
END:VEVENT
BEGIN:VEVENT
DTSTAMP:20260419T234224Z
DTSTART;VALUE=DATE:20170404
SUMMARY:QoMEX 2017 Notification Due
DESCRIPTION:Quality of Multimedia Experience
URL:http://www.wikicfp.com/cfp/servlet/event.showcfp?eventid=54947&copyow
 nerid=94120
UID:cfp634685-N@wikicfp.com
END:VEVENT
BEGIN:VEVENT
DTSTAMP:20260419T234224Z
DTSTART;VALUE=DATE:20170430
SUMMARY:QoMEX 2017 Final Version Due
DESCRIPTION:Quality of Multimedia Experience
URL:http://www.wikicfp.com/cfp/servlet/event.showcfp?eventid=54947&copyow
 nerid=94120
UID:cfp634685-N@wikicfp.com
END:VEVENT
BEGIN:VEVENT
DTSTAMP:20260419T234224Z
DTSTART;VALUE=DATE:20171022
DTEND;VALUE=DATE:20171030
SUMMARY:ICCV 2017
DESCRIPTION:International Conference on Computer Vision
URL:http://www.wikicfp.com/cfp/servlet/event.showcfp?eventid=57716&copyow
 nerid=94120
UID:cfp634687-E@wikicfp.com
END:VEVENT
BEGIN:VEVENT
DTSTAMP:20260419T234224Z
DTSTART;VALUE=DATE:20170317
SUMMARY:ICCV 2017 Deadline
DESCRIPTION:International Conference on Computer Vision
URL:http://www.wikicfp.com/cfp/servlet/event.showcfp?eventid=57716&copyow
 nerid=94120
UID:cfp634687-D@wikicfp.com
END:VEVENT
BEGIN:VEVENT
DTSTAMP:20260419T234224Z
DTSTART;VALUE=DATE:20170717
SUMMARY:ICCV 2017 Notification Due
DESCRIPTION:International Conference on Computer Vision
URL:http://www.wikicfp.com/cfp/servlet/event.showcfp?eventid=57716&copyow
 nerid=94120
UID:cfp634687-N@wikicfp.com
END:VEVENT
BEGIN:VEVENT
DTSTAMP:20260419T234224Z
DTSTART;VALUE=DATE:20170731
SUMMARY:ICCV 2017 Final Version Due
DESCRIPTION:International Conference on Computer Vision
URL:http://www.wikicfp.com/cfp/servlet/event.showcfp?eventid=57716&copyow
 nerid=94120
UID:cfp634687-N@wikicfp.com
END:VEVENT
BEGIN:VEVENT
DTSTAMP:20260419T234224Z
DTSTART;VALUE=DATE:20171023
DTEND;VALUE=DATE:20171028
SUMMARY:MM 2017
DESCRIPTION:ACM Multimedia
URL:http://www.wikicfp.com/cfp/servlet/event.showcfp?eventid=59977&copyow
 nerid=94120
UID:cfp696373-E@wikicfp.com
END:VEVENT
BEGIN:VEVENT
DTSTAMP:20260419T234224Z
DTSTART;VALUE=DATE:20170407
SUMMARY:MM 2017 Abstract Due
DESCRIPTION:ACM Multimedia
URL:http://www.wikicfp.com/cfp/servlet/event.showcfp?eventid=59977&copyow
 nerid=94120
UID:cfp696373-A@wikicfp.com
END:VEVENT
BEGIN:VEVENT
DTSTAMP:20260419T234224Z
DTSTART;VALUE=DATE:20170413
SUMMARY:MM 2017 Deadline
DESCRIPTION:ACM Multimedia
URL:http://www.wikicfp.com/cfp/servlet/event.showcfp?eventid=59977&copyow
 nerid=94120
UID:cfp696373-D@wikicfp.com
END:VEVENT
BEGIN:VEVENT
DTSTAMP:20260419T234224Z
DTSTART;VALUE=DATE:20170702
SUMMARY:MM 2017 Notification Due
DESCRIPTION:ACM Multimedia
URL:http://www.wikicfp.com/cfp/servlet/event.showcfp?eventid=59977&copyow
 nerid=94120
UID:cfp696373-N@wikicfp.com
END:VEVENT
BEGIN:VEVENT
DTSTAMP:20260419T234224Z
DTSTART;VALUE=DATE:20170727
SUMMARY:MM 2017 Final Version Due
DESCRIPTION:ACM Multimedia
URL:http://www.wikicfp.com/cfp/servlet/event.showcfp?eventid=59977&copyow
 nerid=94120
UID:cfp696373-N@wikicfp.com
END:VEVENT
BEGIN:VEVENT
DTSTAMP:20260419T234224Z
DTSTART;VALUE=DATE:20180618
DTEND;VALUE=DATE:20180623
SUMMARY:CVPR 2018
DESCRIPTION:Computer Vision and Pattern Recognition
URL:http://www.wikicfp.com/cfp/servlet/event.showcfp?eventid=67108&copyow
 nerid=94120
UID:cfp696263-E@wikicfp.com
END:VEVENT
BEGIN:VEVENT
DTSTAMP:20260419T234224Z
DTSTART;VALUE=DATE:20171108
SUMMARY:CVPR 2018 Abstract Due
DESCRIPTION:Computer Vision and Pattern Recognition
URL:http://www.wikicfp.com/cfp/servlet/event.showcfp?eventid=67108&copyow
 nerid=94120
UID:cfp696263-A@wikicfp.com
END:VEVENT
BEGIN:VEVENT
DTSTAMP:20260419T234224Z
DTSTART;VALUE=DATE:20171115
SUMMARY:CVPR 2018 Deadline
DESCRIPTION:Computer Vision and Pattern Recognition
URL:http://www.wikicfp.com/cfp/servlet/event.showcfp?eventid=67108&copyow
 nerid=94120
UID:cfp696263-D@wikicfp.com
END:VEVENT
BEGIN:VEVENT
DTSTAMP:20260419T234224Z
DTSTART;VALUE=DATE:20180228
SUMMARY:CVPR 2018 Notification Due
DESCRIPTION:Computer Vision and Pattern Recognition
URL:http://www.wikicfp.com/cfp/servlet/event.showcfp?eventid=67108&copyow
 nerid=94120
UID:cfp696263-N@wikicfp.com
END:VEVENT
BEGIN:VEVENT
DTSTAMP:20260419T234224Z
DTSTART;VALUE=DATE:20180723
DTEND;VALUE=DATE:20180728
SUMMARY:ICME 2018
DESCRIPTION:IEEE International Conference on Multimedia and Expo
URL:http://www.wikicfp.com/cfp/servlet/event.showcfp?eventid=68061&copyow
 nerid=94120
UID:cfp696370-E@wikicfp.com
END:VEVENT
BEGIN:VEVENT
DTSTAMP:20260419T234224Z
DTSTART;VALUE=DATE:20171124
SUMMARY:ICME 2018 Abstract Due
DESCRIPTION:IEEE International Conference on Multimedia and Expo
URL:http://www.wikicfp.com/cfp/servlet/event.showcfp?eventid=68061&copyow
 nerid=94120
UID:cfp696370-A@wikicfp.com
END:VEVENT
BEGIN:VEVENT
DTSTAMP:20260419T234224Z
DTSTART;VALUE=DATE:20171201
SUMMARY:ICME 2018 Deadline
DESCRIPTION:IEEE International Conference on Multimedia and Expo
URL:http://www.wikicfp.com/cfp/servlet/event.showcfp?eventid=68061&copyow
 nerid=94120
UID:cfp696370-D@wikicfp.com
END:VEVENT
BEGIN:VEVENT
DTSTAMP:20260419T234224Z
DTSTART;VALUE=DATE:20180312
SUMMARY:ICME 2018 Notification Due
DESCRIPTION:IEEE International Conference on Multimedia and Expo
URL:http://www.wikicfp.com/cfp/servlet/event.showcfp?eventid=68061&copyow
 nerid=94120
UID:cfp696370-N@wikicfp.com
END:VEVENT
BEGIN:VEVENT
DTSTAMP:20260419T234224Z
DTSTART;VALUE=DATE:20180413
SUMMARY:ICME 2018 Final Version Due
DESCRIPTION:IEEE International Conference on Multimedia and Expo
URL:http://www.wikicfp.com/cfp/servlet/event.showcfp?eventid=68061&copyow
 nerid=94120
UID:cfp696370-N@wikicfp.com
END:VEVENT
BEGIN:VEVENT
DTSTAMP:20260419T234224Z
DTSTART;VALUE=DATE:20180529
DTEND;VALUE=DATE:20180601
SUMMARY:QoMEX 2018
DESCRIPTION:Quality of Multimedia Experience
URL:http://www.wikicfp.com/cfp/servlet/event.showcfp?eventid=67901&copyow
 nerid=94120
UID:cfp696369-E@wikicfp.com
END:VEVENT
BEGIN:VEVENT
DTSTAMP:20260419T234224Z
DTSTART;VALUE=DATE:20180115
SUMMARY:QoMEX 2018 Abstract Due
DESCRIPTION:Quality of Multimedia Experience
URL:http://www.wikicfp.com/cfp/servlet/event.showcfp?eventid=67901&copyow
 nerid=94120
UID:cfp696369-A@wikicfp.com
END:VEVENT
BEGIN:VEVENT
DTSTAMP:20260419T234224Z
DTSTART;VALUE=DATE:20180122
SUMMARY:QoMEX 2018 Deadline
DESCRIPTION:Quality of Multimedia Experience
URL:http://www.wikicfp.com/cfp/servlet/event.showcfp?eventid=67901&copyow
 nerid=94120
UID:cfp696369-D@wikicfp.com
END:VEVENT
BEGIN:VEVENT
DTSTAMP:20260419T234224Z
DTSTART;VALUE=DATE:20180226
SUMMARY:QoMEX 2018 Notification Due
DESCRIPTION:Quality of Multimedia Experience
URL:http://www.wikicfp.com/cfp/servlet/event.showcfp?eventid=67901&copyow
 nerid=94120
UID:cfp696369-N@wikicfp.com
END:VEVENT
BEGIN:VEVENT
DTSTAMP:20260419T234224Z
DTSTART;VALUE=DATE:20180315
SUMMARY:QoMEX 2018 Final Version Due
DESCRIPTION:Quality of Multimedia Experience
URL:http://www.wikicfp.com/cfp/servlet/event.showcfp?eventid=67901&copyow
 nerid=94120
UID:cfp696369-N@wikicfp.com
END:VEVENT
BEGIN:VEVENT
DTSTAMP:20260419T234224Z
DTSTART;VALUE=DATE:20181007
DTEND;VALUE=DATE:20181011
SUMMARY:ICIP 2018
DESCRIPTION:International Conference on Image Processing
URL:http://www.wikicfp.com/cfp/servlet/event.showcfp?eventid=68649&copyow
 nerid=94120
UID:cfp696352-E@wikicfp.com
END:VEVENT
BEGIN:VEVENT
DTSTAMP:20260419T234224Z
DTSTART;VALUE=DATE:20180207
SUMMARY:ICIP 2018 Deadline
DESCRIPTION:International Conference on Image Processing
URL:http://www.wikicfp.com/cfp/servlet/event.showcfp?eventid=68649&copyow
 nerid=94120
UID:cfp696352-D@wikicfp.com
END:VEVENT
BEGIN:VEVENT
DTSTAMP:20260419T234224Z
DTSTART;VALUE=DATE:20180430
SUMMARY:ICIP 2018 Notification Due
DESCRIPTION:International Conference on Image Processing
URL:http://www.wikicfp.com/cfp/servlet/event.showcfp?eventid=68649&copyow
 nerid=94120
UID:cfp696352-N@wikicfp.com
END:VEVENT
BEGIN:VEVENT
DTSTAMP:20260419T234224Z
DTSTART;VALUE=DATE:20180531
SUMMARY:ICIP 2018 Final Version Due
DESCRIPTION:International Conference on Image Processing
URL:http://www.wikicfp.com/cfp/servlet/event.showcfp?eventid=68649&copyow
 nerid=94120
UID:cfp696352-N@wikicfp.com
END:VEVENT
BEGIN:VEVENT
DTSTAMP:20260419T234224Z
DTSTART;VALUE=DATE:20180908
DTEND;VALUE=DATE:20180915
SUMMARY:ECCV 2018
DESCRIPTION:European Conference on Computer Vision
URL:http://www.wikicfp.com/cfp/servlet/event.showcfp?eventid=58291&copyow
 nerid=94120
UID:cfp696264-E@wikicfp.com
END:VEVENT
BEGIN:VEVENT
DTSTAMP:20260419T234224Z
DTSTART;VALUE=DATE:20180314
SUMMARY:ECCV 2018 Deadline
DESCRIPTION:European Conference on Computer Vision
URL:http://www.wikicfp.com/cfp/servlet/event.showcfp?eventid=58291&copyow
 nerid=94120
UID:cfp696264-D@wikicfp.com
END:VEVENT
BEGIN:VEVENT
DTSTAMP:20260419T234224Z
DTSTART;VALUE=DATE:20180701
SUMMARY:ECCV 2018 Notification Due
DESCRIPTION:European Conference on Computer Vision
URL:http://www.wikicfp.com/cfp/servlet/event.showcfp?eventid=58291&copyow
 nerid=94120
UID:cfp696264-N@wikicfp.com
END:VEVENT
BEGIN:VEVENT
DTSTAMP:20260419T234224Z
DTSTART;VALUE=DATE:20180725
SUMMARY:ECCV 2018 Final Version Due
DESCRIPTION:European Conference on Computer Vision
URL:http://www.wikicfp.com/cfp/servlet/event.showcfp?eventid=58291&copyow
 nerid=94120
UID:cfp696264-N@wikicfp.com
END:VEVENT
BEGIN:VEVENT
DTSTAMP:20260419T234224Z
DTSTART;VALUE=DATE:20190615
DTEND;VALUE=DATE:20190622
SUMMARY:CVPR 2019
DESCRIPTION:Computer Vision and Pattern Recognition
URL:http://www.wikicfp.com/cfp/servlet/event.showcfp?eventid=78951&copyow
 nerid=94120
UID:cfp736439-E@wikicfp.com
END:VEVENT
BEGIN:VEVENT
DTSTAMP:20260419T234224Z
DTSTART;VALUE=DATE:20181116
SUMMARY:CVPR 2019 Deadline
DESCRIPTION:Computer Vision and Pattern Recognition
URL:http://www.wikicfp.com/cfp/servlet/event.showcfp?eventid=78951&copyow
 nerid=94120
UID:cfp736439-D@wikicfp.com
END:VEVENT
BEGIN:VEVENT
DTSTAMP:20260419T234224Z
DTSTART;VALUE=DATE:20190302
SUMMARY:CVPR 2019 Notification Due
DESCRIPTION:Computer Vision and Pattern Recognition
URL:http://www.wikicfp.com/cfp/servlet/event.showcfp?eventid=78951&copyow
 nerid=94120
UID:cfp736439-N@wikicfp.com
END:VEVENT
BEGIN:VEVENT
DTSTAMP:20260419T234224Z
DTSTART;VALUE=DATE:20191021
DTEND;VALUE=DATE:20191026
SUMMARY:MM 2019
DESCRIPTION:ACM Multimedia
URL:http://www.wikicfp.com/cfp/servlet/event.showcfp?eventid=85212&copyow
 nerid=94120
UID:cfp769617-E@wikicfp.com
END:VEVENT
BEGIN:VEVENT
DTSTAMP:20260419T234224Z
DTSTART;VALUE=DATE:20190401
SUMMARY:MM 2019 Deadline
DESCRIPTION:ACM Multimedia
URL:http://www.wikicfp.com/cfp/servlet/event.showcfp?eventid=85212&copyow
 nerid=94120
UID:cfp769617-D@wikicfp.com
END:VEVENT
BEGIN:VEVENT
DTSTAMP:20260419T234224Z
DTSTART;VALUE=DATE:20190701
SUMMARY:MM 2019 Notification Due
DESCRIPTION:ACM Multimedia
URL:http://www.wikicfp.com/cfp/servlet/event.showcfp?eventid=85212&copyow
 nerid=94120
UID:cfp769617-N@wikicfp.com
END:VEVENT
BEGIN:VEVENT
DTSTAMP:20260419T234224Z
DTSTART;VALUE=DATE:20211119
DTEND;VALUE=DATE:20211123
SUMMARY:ICIP 2021
DESCRIPTION:2021 IEEE International Conference on Image Processing
URL:http://www.wikicfp.com/cfp/servlet/event.showcfp?eventid=117909&copyo
 wnerid=94120
UID:cfp870663-E@wikicfp.com
END:VEVENT
BEGIN:VEVENT
DTSTAMP:20260419T234224Z
DTSTART;VALUE=DATE:20210113
SUMMARY:ICIP 2021 Deadline
DESCRIPTION:2021 IEEE International Conference on Image Processing
URL:http://www.wikicfp.com/cfp/servlet/event.showcfp?eventid=117909&copyo
 wnerid=94120
UID:cfp870663-D@wikicfp.com
END:VEVENT
BEGIN:VEVENT
DTSTAMP:20260419T234224Z
DTSTART;VALUE=DATE:20211011
DTEND;VALUE=DATE:20211018
SUMMARY:ICCV 2021
DESCRIPTION:International Conference on Computer Vision
URL:http://www.wikicfp.com/cfp/servlet/event.showcfp?eventid=117462&copyo
 wnerid=94120
UID:cfp870662-E@wikicfp.com
END:VEVENT
BEGIN:VEVENT
DTSTAMP:20260419T234224Z
DTSTART;VALUE=DATE:20210310
SUMMARY:ICCV 2021 Abstract Due
DESCRIPTION:International Conference on Computer Vision
URL:http://www.wikicfp.com/cfp/servlet/event.showcfp?eventid=117462&copyo
 wnerid=94120
UID:cfp870662-A@wikicfp.com
END:VEVENT
BEGIN:VEVENT
DTSTAMP:20260419T234224Z
DTSTART;VALUE=DATE:20210317
SUMMARY:ICCV 2021 Deadline
DESCRIPTION:International Conference on Computer Vision
URL:http://www.wikicfp.com/cfp/servlet/event.showcfp?eventid=117462&copyo
 wnerid=94120
UID:cfp870662-D@wikicfp.com
END:VEVENT
BEGIN:VEVENT
DTSTAMP:20260419T234224Z
DTSTART;VALUE=DATE:20210722
SUMMARY:ICCV 2021 Notification Due
DESCRIPTION:International Conference on Computer Vision
URL:http://www.wikicfp.com/cfp/servlet/event.showcfp?eventid=117462&copyo
 wnerid=94120
UID:cfp870662-N@wikicfp.com
END:VEVENT
BEGIN:VEVENT
DTSTAMP:20260419T234224Z
DTSTART;VALUE=DATE:20210817
SUMMARY:ICCV 2021 Final Version Due
DESCRIPTION:International Conference on Computer Vision
URL:http://www.wikicfp.com/cfp/servlet/event.showcfp?eventid=117462&copyo
 wnerid=94120
UID:cfp870662-N@wikicfp.com
END:VEVENT
END:VCALENDAR
