BEGIN:VCALENDAR
PRODID:-//WikiCFP//xuyyyyyy 1.0//EN
VERSION:2.0
CALSCALE:GREGORIAN
BEGIN:VEVENT
DTSTAMP:20260421T161517Z
DTSTART;VALUE=DATE:20170918
DTEND;VALUE=DATE:20170921
SUMMARY:ICIP 2017
DESCRIPTION:International Conference on Image Processing
URL:http://www.wikicfp.com/cfp/servlet/event.showcfp?eventid=53453&copyow
 nerid=93415
UID:cfp630371-E@wikicfp.com
END:VEVENT
END:VCALENDAR
