BEGIN:VCALENDAR
PRODID:-//WikiCFP//pierreaymeric 1.0//EN
VERSION:2.0
CALSCALE:GREGORIAN
BEGIN:VEVENT
DTSTAMP:20260422T105026Z
DTSTART;VALUE=DATE:20110524
DTEND;VALUE=DATE:20110527
SUMMARY:INFORSID 2011
DESCRIPTION:INFormatique des ORganisations et SystÃ¨mes dâInformation e
 t de DÃ©cision
URL:http://www.wikicfp.com/cfp/servlet/event.showcfp?eventid=15603&copyow
 nerid=93231
UID:cfp629213-E@wikicfp.com
END:VEVENT
BEGIN:VEVENT
DTSTAMP:20260422T105026Z
DTSTART;VALUE=DATE:20110201
SUMMARY:INFORSID 2011 Deadline
DESCRIPTION:INFormatique des ORganisations et SystÃ¨mes dâInformation e
 t de DÃ©cision
URL:http://www.wikicfp.com/cfp/servlet/event.showcfp?eventid=15603&copyow
 nerid=93231
UID:cfp629213-D@wikicfp.com
END:VEVENT
BEGIN:VEVENT
DTSTAMP:20260422T105026Z
DTSTART;VALUE=DATE:20110404
SUMMARY:INFORSID 2011 Notification Due
DESCRIPTION:INFormatique des ORganisations et SystÃ¨mes dâInformation e
 t de DÃ©cision
URL:http://www.wikicfp.com/cfp/servlet/event.showcfp?eventid=15603&copyow
 nerid=93231
UID:cfp629213-N@wikicfp.com
END:VEVENT
BEGIN:VEVENT
DTSTAMP:20260422T105026Z
DTSTART;VALUE=DATE:20110418
SUMMARY:INFORSID 2011 Final Version Due
DESCRIPTION:INFormatique des ORganisations et SystÃ¨mes dâInformation e
 t de DÃ©cision
URL:http://www.wikicfp.com/cfp/servlet/event.showcfp?eventid=15603&copyow
 nerid=93231
UID:cfp629213-N@wikicfp.com
END:VEVENT
BEGIN:VEVENT
DTSTAMP:20260422T105026Z
DTSTART;VALUE=DATE:20110629
DTEND;VALUE=DATE:20110701
SUMMARY:IBIMA 2011
DESCRIPTION:The 16th International Business Information Management Associ
 ation Conference on Innoviation and Knowledge Management
URL:http://www.wikicfp.com/cfp/servlet/event.showcfp?eventid=14029&copyow
 nerid=93231
UID:cfp629212-E@wikicfp.com
END:VEVENT
BEGIN:VEVENT
DTSTAMP:20260422T105026Z
DTSTART;VALUE=DATE:20110411
SUMMARY:IBIMA 2011 Deadline
DESCRIPTION:The 16th International Business Information Management Associ
 ation Conference on Innoviation and Knowledge Management
URL:http://www.wikicfp.com/cfp/servlet/event.showcfp?eventid=14029&copyow
 nerid=93231
UID:cfp629212-D@wikicfp.com
END:VEVENT
BEGIN:VEVENT
DTSTAMP:20260422T105026Z
DTSTART;VALUE=DATE:20160706
DTEND;VALUE=DATE:20160709
SUMMARY:BIS 2016
DESCRIPTION:19th International Conference on Business Information Systems
 
URL:http://www.wikicfp.com/cfp/servlet/event.showcfp?eventid=47649&copyow
 nerid=93231
UID:cfp629207-E@wikicfp.com
END:VEVENT
BEGIN:VEVENT
DTSTAMP:20260422T105026Z
DTSTART;VALUE=DATE:20160108
SUMMARY:BIS 2016 Deadline
DESCRIPTION:19th International Conference on Business Information Systems
 
URL:http://www.wikicfp.com/cfp/servlet/event.showcfp?eventid=47649&copyow
 nerid=93231
UID:cfp629207-D@wikicfp.com
END:VEVENT
BEGIN:VEVENT
DTSTAMP:20260422T105026Z
DTSTART;VALUE=DATE:20160309
SUMMARY:BIS 2016 Notification Due
DESCRIPTION:19th International Conference on Business Information Systems
 
URL:http://www.wikicfp.com/cfp/servlet/event.showcfp?eventid=47649&copyow
 nerid=93231
UID:cfp629207-N@wikicfp.com
END:VEVENT
BEGIN:VEVENT
DTSTAMP:20260422T105026Z
DTSTART;VALUE=DATE:20160323
SUMMARY:BIS 2016 Final Version Due
DESCRIPTION:19th International Conference on Business Information Systems
 
URL:http://www.wikicfp.com/cfp/servlet/event.showcfp?eventid=47649&copyow
 nerid=93231
UID:cfp629207-N@wikicfp.com
END:VEVENT
BEGIN:VEVENT
DTSTAMP:20260422T105026Z
DTSTART;VALUE=DATE:20161024
DTEND;VALUE=DATE:20161027
SUMMARY:CiSt 2016
DESCRIPTION:IEEE International Colloquium on Information Science and Tech
 nology
URL:http://www.wikicfp.com/cfp/servlet/event.showcfp?eventid=49429&copyow
 nerid=93231
UID:cfp629206-E@wikicfp.com
END:VEVENT
BEGIN:VEVENT
DTSTAMP:20260422T105026Z
DTSTART;VALUE=DATE:20160316
SUMMARY:CiSt 2016 Deadline
DESCRIPTION:IEEE International Colloquium on Information Science and Tech
 nology
URL:http://www.wikicfp.com/cfp/servlet/event.showcfp?eventid=49429&copyow
 nerid=93231
UID:cfp629206-D@wikicfp.com
END:VEVENT
BEGIN:VEVENT
DTSTAMP:20260422T105026Z
DTSTART;VALUE=DATE:20160519
SUMMARY:CiSt 2016 Notification Due
DESCRIPTION:IEEE International Colloquium on Information Science and Tech
 nology
URL:http://www.wikicfp.com/cfp/servlet/event.showcfp?eventid=49429&copyow
 nerid=93231
UID:cfp629206-N@wikicfp.com
END:VEVENT
BEGIN:VEVENT
DTSTAMP:20260422T105026Z
DTSTART;VALUE=DATE:20160718
SUMMARY:CiSt 2016 Final Version Due
DESCRIPTION:IEEE International Colloquium on Information Science and Tech
 nology
URL:http://www.wikicfp.com/cfp/servlet/event.showcfp?eventid=49429&copyow
 nerid=93231
UID:cfp629206-N@wikicfp.com
END:VEVENT
BEGIN:VEVENT
DTSTAMP:20260422T105026Z
DTSTART;VALUE=DATE:20160905
DTEND;VALUE=DATE:20160910
SUMMARY:EDOC 2016
DESCRIPTION:The 20th IEEE International EDOC Conference (EDOC 2016)
URL:http://www.wikicfp.com/cfp/servlet/event.showcfp?eventid=49478&copyow
 nerid=93231
UID:cfp629209-E@wikicfp.com
END:VEVENT
BEGIN:VEVENT
DTSTAMP:20260422T105026Z
DTSTART;VALUE=DATE:20160413
SUMMARY:EDOC 2016 Abstract Due
DESCRIPTION:The 20th IEEE International EDOC Conference (EDOC 2016)
URL:http://www.wikicfp.com/cfp/servlet/event.showcfp?eventid=49478&copyow
 nerid=93231
UID:cfp629209-A@wikicfp.com
END:VEVENT
BEGIN:VEVENT
DTSTAMP:20260422T105026Z
DTSTART;VALUE=DATE:20160417
SUMMARY:EDOC 2016 Deadline
DESCRIPTION:The 20th IEEE International EDOC Conference (EDOC 2016)
URL:http://www.wikicfp.com/cfp/servlet/event.showcfp?eventid=49478&copyow
 nerid=93231
UID:cfp629209-D@wikicfp.com
END:VEVENT
BEGIN:VEVENT
DTSTAMP:20260422T105026Z
DTSTART;VALUE=DATE:20160530
SUMMARY:EDOC 2016 Notification Due
DESCRIPTION:The 20th IEEE International EDOC Conference (EDOC 2016)
URL:http://www.wikicfp.com/cfp/servlet/event.showcfp?eventid=49478&copyow
 nerid=93231
UID:cfp629209-N@wikicfp.com
END:VEVENT
BEGIN:VEVENT
DTSTAMP:20260422T105026Z
DTSTART;VALUE=DATE:20160701
SUMMARY:EDOC 2016 Final Version Due
DESCRIPTION:The 20th IEEE International EDOC Conference (EDOC 2016)
URL:http://www.wikicfp.com/cfp/servlet/event.showcfp?eventid=49478&copyow
 nerid=93231
UID:cfp629209-N@wikicfp.com
END:VEVENT
BEGIN:VEVENT
DTSTAMP:20260422T105026Z
DTSTART;VALUE=DATE:20170104
DTEND;VALUE=DATE:20170108
SUMMARY:HICSS 2017
DESCRIPTION:50th annual Hawaii International Conference on System Science
 s
URL:http://www.wikicfp.com/cfp/servlet/event.showcfp?eventid=53323&copyow
 nerid=93231
UID:cfp629211-E@wikicfp.com
END:VEVENT
BEGIN:VEVENT
DTSTAMP:20260422T105026Z
DTSTART;VALUE=DATE:20160615
SUMMARY:HICSS 2017 Deadline
DESCRIPTION:50th annual Hawaii International Conference on System Science
 s
URL:http://www.wikicfp.com/cfp/servlet/event.showcfp?eventid=53323&copyow
 nerid=93231
UID:cfp629211-D@wikicfp.com
END:VEVENT
BEGIN:VEVENT
DTSTAMP:20260422T105026Z
DTSTART;VALUE=DATE:20170520
DTEND;VALUE=DATE:20170529
SUMMARY:ICSE 2017
DESCRIPTION:39th International Conference on Software Engineering
URL:http://www.wikicfp.com/cfp/servlet/event.showcfp?eventid=54445&copyow
 nerid=93231
UID:cfp629208-E@wikicfp.com
END:VEVENT
BEGIN:VEVENT
DTSTAMP:20260422T105026Z
DTSTART;VALUE=DATE:20160826
SUMMARY:ICSE 2017 Deadline
DESCRIPTION:39th International Conference on Software Engineering
URL:http://www.wikicfp.com/cfp/servlet/event.showcfp?eventid=54445&copyow
 nerid=93231
UID:cfp629208-D@wikicfp.com
END:VEVENT
BEGIN:VEVENT
DTSTAMP:20260422T105026Z
DTSTART;VALUE=DATE:20161212
SUMMARY:ICSE 2017 Notification Due
DESCRIPTION:39th International Conference on Software Engineering
URL:http://www.wikicfp.com/cfp/servlet/event.showcfp?eventid=54445&copyow
 nerid=93231
UID:cfp629208-N@wikicfp.com
END:VEVENT
BEGIN:VEVENT
DTSTAMP:20260422T105026Z
DTSTART;VALUE=DATE:20170213
SUMMARY:ICSE 2017 Final Version Due
DESCRIPTION:39th International Conference on Software Engineering
URL:http://www.wikicfp.com/cfp/servlet/event.showcfp?eventid=54445&copyow
 nerid=93231
UID:cfp629208-N@wikicfp.com
END:VEVENT
BEGIN:VEVENT
DTSTAMP:20260422T105026Z
DTSTART;VALUE=DATE:20170329
DTEND;VALUE=DATE:20170401
SUMMARY:CBI 2017
DESCRIPTION:The third International Conference on Business Intelligence 
URL:http://www.wikicfp.com/cfp/servlet/event.showcfp?eventid=55973&copyow
 nerid=93231
UID:cfp629210-E@wikicfp.com
END:VEVENT
BEGIN:VEVENT
DTSTAMP:20260422T105026Z
DTSTART;VALUE=DATE:20170301
SUMMARY:CBI 2017 Abstract Due
DESCRIPTION:The third International Conference on Business Intelligence 
URL:http://www.wikicfp.com/cfp/servlet/event.showcfp?eventid=55973&copyow
 nerid=93231
UID:cfp629210-A@wikicfp.com
END:VEVENT
BEGIN:VEVENT
DTSTAMP:20260422T105026Z
DTSTART;VALUE=DATE:20170102
SUMMARY:CBI 2017 Deadline
DESCRIPTION:The third International Conference on Business Intelligence 
URL:http://www.wikicfp.com/cfp/servlet/event.showcfp?eventid=55973&copyow
 nerid=93231
UID:cfp629210-D@wikicfp.com
END:VEVENT
BEGIN:VEVENT
DTSTAMP:20260422T105026Z
DTSTART;VALUE=DATE:20170215
SUMMARY:CBI 2017 Notification Due
DESCRIPTION:The third International Conference on Business Intelligence 
URL:http://www.wikicfp.com/cfp/servlet/event.showcfp?eventid=55973&copyow
 nerid=93231
UID:cfp629210-N@wikicfp.com
END:VEVENT
BEGIN:VEVENT
DTSTAMP:20260422T105026Z
DTSTART;VALUE=DATE:20170315
SUMMARY:CBI 2017 Final Version Due
DESCRIPTION:The third International Conference on Business Intelligence 
URL:http://www.wikicfp.com/cfp/servlet/event.showcfp?eventid=55973&copyow
 nerid=93231
UID:cfp629210-N@wikicfp.com
END:VEVENT
BEGIN:VEVENT
DTSTAMP:20260422T105026Z
DTSTART;VALUE=DATE:20170704
DTEND;VALUE=DATE:20170709
SUMMARY:COMPSAC 2017
DESCRIPTION:Computer Software and Applications Conference
URL:http://www.wikicfp.com/cfp/servlet/event.showcfp?eventid=55781&copyow
 nerid=93231
UID:cfp629205-E@wikicfp.com
END:VEVENT
BEGIN:VEVENT
DTSTAMP:20260422T105026Z
DTSTART;VALUE=DATE:20170113
SUMMARY:COMPSAC 2017 Deadline
DESCRIPTION:Computer Software and Applications Conference
URL:http://www.wikicfp.com/cfp/servlet/event.showcfp?eventid=55781&copyow
 nerid=93231
UID:cfp629205-D@wikicfp.com
END:VEVENT
BEGIN:VEVENT
DTSTAMP:20260422T105026Z
DTSTART;VALUE=DATE:20170327
SUMMARY:COMPSAC 2017 Notification Due
DESCRIPTION:Computer Software and Applications Conference
URL:http://www.wikicfp.com/cfp/servlet/event.showcfp?eventid=55781&copyow
 nerid=93231
UID:cfp629205-N@wikicfp.com
END:VEVENT
BEGIN:VEVENT
DTSTAMP:20260422T105026Z
DTSTART;VALUE=DATE:20170509
SUMMARY:COMPSAC 2017 Final Version Due
DESCRIPTION:Computer Software and Applications Conference
URL:http://www.wikicfp.com/cfp/servlet/event.showcfp?eventid=55781&copyow
 nerid=93231
UID:cfp629205-N@wikicfp.com
END:VEVENT
END:VCALENDAR
