BEGIN:VCALENDAR
PRODID:-//WikiCFP//wangyuebuaa 1.0//EN
VERSION:2.0
CALSCALE:GREGORIAN
BEGIN:VEVENT
DTSTAMP:20260424T145808Z
DTSTART;VALUE=DATE:20160601
SUMMARY:MIIPII 2016 Abstract Due
DESCRIPTION:Medical Imaging & Image Processing â¡
URL:http://www.wikicfp.com/cfp/servlet/event.showcfp?eventid=52517&copyow
 nerid=92849
UID:cfp627110-A@wikicfp.com
END:VEVENT
BEGIN:VEVENT
DTSTAMP:20260424T145808Z
DTSTART;VALUE=DATE:20161101
SUMMARY:MIIPII 2016 Deadline
DESCRIPTION:Medical Imaging & Image Processing â¡
URL:http://www.wikicfp.com/cfp/servlet/event.showcfp?eventid=52517&copyow
 nerid=92849
UID:cfp627110-D@wikicfp.com
END:VEVENT
BEGIN:VEVENT
DTSTAMP:20260424T145808Z
DTSTART;VALUE=DATE:20161201
SUMMARY:MIIPII 2016 Notification Due
DESCRIPTION:Medical Imaging & Image Processing â¡
URL:http://www.wikicfp.com/cfp/servlet/event.showcfp?eventid=52517&copyow
 nerid=92849
UID:cfp627110-N@wikicfp.com
END:VEVENT
BEGIN:VEVENT
DTSTAMP:20260424T145808Z
DTSTART;VALUE=DATE:20170301
SUMMARY:MIIPII 2016 Final Version Due
DESCRIPTION:Medical Imaging & Image Processing â¡
URL:http://www.wikicfp.com/cfp/servlet/event.showcfp?eventid=52517&copyow
 nerid=92849
UID:cfp627110-N@wikicfp.com
END:VEVENT
BEGIN:VEVENT
DTSTAMP:20260424T145808Z
DTSTART;VALUE=DATE:20170317
DTEND;VALUE=DATE:20170320
SUMMARY:ICMIP 2017
DESCRIPTION:Second International Conference on Multimedia and Image Proce
 ssing  - IEEE\, Ei Compendex
URL:http://www.wikicfp.com/cfp/servlet/event.showcfp?eventid=57799&copyow
 nerid=92849
UID:cfp627105-E@wikicfp.com
END:VEVENT
BEGIN:VEVENT
DTSTAMP:20260424T145808Z
DTSTART;VALUE=DATE:20170110
SUMMARY:ICMIP 2017 Deadline
DESCRIPTION:Second International Conference on Multimedia and Image Proce
 ssing  - IEEE\, Ei Compendex
URL:http://www.wikicfp.com/cfp/servlet/event.showcfp?eventid=57799&copyow
 nerid=92849
UID:cfp627105-D@wikicfp.com
END:VEVENT
BEGIN:VEVENT
DTSTAMP:20260424T145808Z
DTSTART;VALUE=DATE:20170602
DTEND;VALUE=DATE:20170605
SUMMARY:ICIVC 2017
DESCRIPTION:2nd International Conference on Image\, Vision and Computing
URL:http://www.wikicfp.com/cfp/servlet/event.showcfp?eventid=57213&copyow
 nerid=92849
UID:cfp627109-E@wikicfp.com
END:VEVENT
BEGIN:VEVENT
DTSTAMP:20260424T145808Z
DTSTART;VALUE=DATE:20170410
SUMMARY:ICIVC 2017 Deadline
DESCRIPTION:2nd International Conference on Image\, Vision and Computing
URL:http://www.wikicfp.com/cfp/servlet/event.showcfp?eventid=57213&copyow
 nerid=92849
UID:cfp627109-D@wikicfp.com
END:VEVENT
BEGIN:VEVENT
DTSTAMP:20260424T145808Z
DTSTART;VALUE=DATE:20170625
DTEND;VALUE=DATE:20170628
SUMMARY:ICITS-EI 2017
DESCRIPTION:2017 The 5th International Conference on Information Technolo
 gy and Science (ICITS 2017)--Ei and Scopus
URL:http://www.wikicfp.com/cfp/servlet/event.showcfp?eventid=58231&copyow
 nerid=92849
UID:cfp627108-E@wikicfp.com
END:VEVENT
BEGIN:VEVENT
DTSTAMP:20260424T145808Z
DTSTART;VALUE=DATE:20170420
SUMMARY:ICITS-EI 2017 Deadline
DESCRIPTION:2017 The 5th International Conference on Information Technolo
 gy and Science (ICITS 2017)--Ei and Scopus
URL:http://www.wikicfp.com/cfp/servlet/event.showcfp?eventid=58231&copyow
 nerid=92849
UID:cfp627108-D@wikicfp.com
END:VEVENT
END:VCALENDAR
