BEGIN:VCALENDAR
PRODID:-//WikiCFP//zpleefly 1.0//EN
VERSION:2.0
CALSCALE:GREGORIAN
BEGIN:VEVENT
DTSTAMP:20260421T013356Z
DTSTART;VALUE=DATE:20170718
DTEND;VALUE=DATE:20170722
SUMMARY:PETS-Third-Issue 2017
DESCRIPTION:17th Privacy Enhancing Technologies Symposium
URL:http://www.wikicfp.com/cfp/servlet/event.showcfp?eventid=57555&copyow
 nerid=92847
UID:cfp631264-E@wikicfp.com
END:VEVENT
BEGIN:VEVENT
DTSTAMP:20260421T013356Z
DTSTART;VALUE=DATE:20161130
SUMMARY:PETS-Third-Issue 2017 Deadline
DESCRIPTION:17th Privacy Enhancing Technologies Symposium
URL:http://www.wikicfp.com/cfp/servlet/event.showcfp?eventid=57555&copyow
 nerid=92847
UID:cfp631264-D@wikicfp.com
END:VEVENT
BEGIN:VEVENT
DTSTAMP:20260421T013356Z
DTSTART;VALUE=DATE:20170109
SUMMARY:PETS-Third-Issue 2017 Notification Due
DESCRIPTION:17th Privacy Enhancing Technologies Symposium
URL:http://www.wikicfp.com/cfp/servlet/event.showcfp?eventid=57555&copyow
 nerid=92847
UID:cfp631264-N@wikicfp.com
END:VEVENT
BEGIN:VEVENT
DTSTAMP:20260421T013356Z
DTSTART;VALUE=DATE:20170301
SUMMARY:PETS-Third-Issue 2017 Final Version Due
DESCRIPTION:17th Privacy Enhancing Technologies Symposium
URL:http://www.wikicfp.com/cfp/servlet/event.showcfp?eventid=57555&copyow
 nerid=92847
UID:cfp631264-N@wikicfp.com
END:VEVENT
BEGIN:VEVENT
DTSTAMP:20260421T013356Z
DTSTART;VALUE=DATE:20170131
SUMMARY:TDSC-PSCE 2017 Deadline
DESCRIPTION:Special Issue on Paradigm Shifts in Cryptographic Engineering
  -- IEEE Transactions on Dependable and Secure Computing
URL:http://www.wikicfp.com/cfp/servlet/event.showcfp?eventid=52653&copyow
 nerid=92847
UID:cfp631263-D@wikicfp.com
END:VEVENT
BEGIN:VEVENT
DTSTAMP:20260421T013356Z
DTSTART;VALUE=DATE:20170501
SUMMARY:TDSC-PSCE 2017 Notification Due
DESCRIPTION:Special Issue on Paradigm Shifts in Cryptographic Engineering
  -- IEEE Transactions on Dependable and Secure Computing
URL:http://www.wikicfp.com/cfp/servlet/event.showcfp?eventid=52653&copyow
 nerid=92847
UID:cfp631263-N@wikicfp.com
END:VEVENT
BEGIN:VEVENT
DTSTAMP:20260421T013356Z
DTSTART;VALUE=DATE:20170601
SUMMARY:TDSC-PSCE 2017 Final Version Due
DESCRIPTION:Special Issue on Paradigm Shifts in Cryptographic Engineering
  -- IEEE Transactions on Dependable and Secure Computing
URL:http://www.wikicfp.com/cfp/servlet/event.showcfp?eventid=52653&copyow
 nerid=92847
UID:cfp631263-N@wikicfp.com
END:VEVENT
BEGIN:VEVENT
DTSTAMP:20260421T013356Z
DTSTART;VALUE=DATE:20170703
DTEND;VALUE=DATE:20170706
SUMMARY:ACISP 2017
DESCRIPTION:Australasian Conference on Information Security and Privacy
URL:http://www.wikicfp.com/cfp/servlet/event.showcfp?eventid=58319&copyow
 nerid=92847
UID:cfp627091-E@wikicfp.com
END:VEVENT
BEGIN:VEVENT
DTSTAMP:20260421T013356Z
DTSTART;VALUE=DATE:20170226
SUMMARY:ACISP 2017 Deadline
DESCRIPTION:Australasian Conference on Information Security and Privacy
URL:http://www.wikicfp.com/cfp/servlet/event.showcfp?eventid=58319&copyow
 nerid=92847
UID:cfp627091-D@wikicfp.com
END:VEVENT
BEGIN:VEVENT
DTSTAMP:20260421T013356Z
DTSTART;VALUE=DATE:20170407
SUMMARY:ACISP 2017 Notification Due
DESCRIPTION:Australasian Conference on Information Security and Privacy
URL:http://www.wikicfp.com/cfp/servlet/event.showcfp?eventid=58319&copyow
 nerid=92847
UID:cfp627091-N@wikicfp.com
END:VEVENT
BEGIN:VEVENT
DTSTAMP:20260421T013356Z
DTSTART;VALUE=DATE:20170421
SUMMARY:ACISP 2017 Final Version Due
DESCRIPTION:Australasian Conference on Information Security and Privacy
URL:http://www.wikicfp.com/cfp/servlet/event.showcfp?eventid=58319&copyow
 nerid=92847
UID:cfp627091-N@wikicfp.com
END:VEVENT
BEGIN:VEVENT
DTSTAMP:20260421T013356Z
DTSTART;VALUE=DATE:20170422
DTEND;VALUE=DATE:20170425
SUMMARY:CyberSec 2017
DESCRIPTION:The Fifth International Conference on Cyber Security\, Cyber 
 Welfare and Digital Forensic
URL:http://www.wikicfp.com/cfp/servlet/event.showcfp?eventid=57518&copyow
 nerid=92847
UID:cfp631265-E@wikicfp.com
END:VEVENT
BEGIN:VEVENT
DTSTAMP:20260421T013356Z
DTSTART;VALUE=DATE:20170301
SUMMARY:CyberSec 2017 Deadline
DESCRIPTION:The Fifth International Conference on Cyber Security\, Cyber 
 Welfare and Digital Forensic
URL:http://www.wikicfp.com/cfp/servlet/event.showcfp?eventid=57518&copyow
 nerid=92847
UID:cfp631265-D@wikicfp.com
END:VEVENT
BEGIN:VEVENT
DTSTAMP:20260421T013356Z
DTSTART;VALUE=DATE:20170315
SUMMARY:CyberSec 2017 Notification Due
DESCRIPTION:The Fifth International Conference on Cyber Security\, Cyber 
 Welfare and Digital Forensic
URL:http://www.wikicfp.com/cfp/servlet/event.showcfp?eventid=57518&copyow
 nerid=92847
UID:cfp631265-N@wikicfp.com
END:VEVENT
BEGIN:VEVENT
DTSTAMP:20260421T013356Z
DTSTART;VALUE=DATE:20170406
SUMMARY:CyberSec 2017 Final Version Due
DESCRIPTION:The Fifth International Conference on Cyber Security\, Cyber 
 Welfare and Digital Forensic
URL:http://www.wikicfp.com/cfp/servlet/event.showcfp?eventid=57518&copyow
 nerid=92847
UID:cfp631265-N@wikicfp.com
END:VEVENT
BEGIN:VEVENT
DTSTAMP:20260421T013356Z
DTSTART;VALUE=DATE:20170801
DTEND;VALUE=DATE:20170805
SUMMARY:TrustCom 2017
DESCRIPTION:16th IEEE International Conference On Trust\, Security And Pr
 ivacy In Computing And Communications
URL:http://www.wikicfp.com/cfp/servlet/event.showcfp?eventid=58544&copyow
 nerid=92847
UID:cfp632202-E@wikicfp.com
END:VEVENT
BEGIN:VEVENT
DTSTAMP:20260421T013356Z
DTSTART;VALUE=DATE:20170301
SUMMARY:TrustCom 2017 Deadline
DESCRIPTION:16th IEEE International Conference On Trust\, Security And Pr
 ivacy In Computing And Communications
URL:http://www.wikicfp.com/cfp/servlet/event.showcfp?eventid=58544&copyow
 nerid=92847
UID:cfp632202-D@wikicfp.com
END:VEVENT
BEGIN:VEVENT
DTSTAMP:20260421T013356Z
DTSTART;VALUE=DATE:20170501
SUMMARY:TrustCom 2017 Notification Due
DESCRIPTION:16th IEEE International Conference On Trust\, Security And Pr
 ivacy In Computing And Communications
URL:http://www.wikicfp.com/cfp/servlet/event.showcfp?eventid=58544&copyow
 nerid=92847
UID:cfp632202-N@wikicfp.com
END:VEVENT
BEGIN:VEVENT
DTSTAMP:20260421T013356Z
DTSTART;VALUE=DATE:20170601
SUMMARY:TrustCom 2017 Final Version Due
DESCRIPTION:16th IEEE International Conference On Trust\, Security And Pr
 ivacy In Computing And Communications
URL:http://www.wikicfp.com/cfp/servlet/event.showcfp?eventid=58544&copyow
 nerid=92847
UID:cfp632202-N@wikicfp.com
END:VEVENT
BEGIN:VEVENT
DTSTAMP:20260421T013356Z
DTSTART;VALUE=DATE:20170726
DTEND;VALUE=DATE:20170729
SUMMARY:SECRYPT 2017
DESCRIPTION:14th International Conference on Security and Cryptography
URL:http://www.wikicfp.com/cfp/servlet/event.showcfp?eventid=59941&copyow
 nerid=92847
UID:cfp653337-E@wikicfp.com
END:VEVENT
BEGIN:VEVENT
DTSTAMP:20260421T013356Z
DTSTART;VALUE=DATE:20170302
SUMMARY:SECRYPT 2017 Deadline
DESCRIPTION:14th International Conference on Security and Cryptography
URL:http://www.wikicfp.com/cfp/servlet/event.showcfp?eventid=59941&copyow
 nerid=92847
UID:cfp653337-D@wikicfp.com
END:VEVENT
BEGIN:VEVENT
DTSTAMP:20260421T013356Z
DTSTART;VALUE=DATE:20170503
SUMMARY:SECRYPT 2017 Notification Due
DESCRIPTION:14th International Conference on Security and Cryptography
URL:http://www.wikicfp.com/cfp/servlet/event.showcfp?eventid=59941&copyow
 nerid=92847
UID:cfp653337-N@wikicfp.com
END:VEVENT
BEGIN:VEVENT
DTSTAMP:20260421T013356Z
DTSTART;VALUE=DATE:20170517
SUMMARY:SECRYPT 2017 Final Version Due
DESCRIPTION:14th International Conference on Security and Cryptography
URL:http://www.wikicfp.com/cfp/servlet/event.showcfp?eventid=59941&copyow
 nerid=92847
UID:cfp653337-N@wikicfp.com
END:VEVENT
BEGIN:VEVENT
DTSTAMP:20260421T013356Z
DTSTART;VALUE=DATE:20170911
DTEND;VALUE=DATE:20170916
SUMMARY:ESORICS 2017
DESCRIPTION:Twenty-second European Symposium on Research in Computer Secu
 rity
URL:http://www.wikicfp.com/cfp/servlet/event.showcfp?eventid=61346&copyow
 nerid=92847
UID:cfp653338-E@wikicfp.com
END:VEVENT
BEGIN:VEVENT
DTSTAMP:20260421T013356Z
DTSTART;VALUE=DATE:20170419
SUMMARY:ESORICS 2017 Deadline
DESCRIPTION:Twenty-second European Symposium on Research in Computer Secu
 rity
URL:http://www.wikicfp.com/cfp/servlet/event.showcfp?eventid=61346&copyow
 nerid=92847
UID:cfp653338-D@wikicfp.com
END:VEVENT
BEGIN:VEVENT
DTSTAMP:20260421T013356Z
DTSTART;VALUE=DATE:20170616
SUMMARY:ESORICS 2017 Notification Due
DESCRIPTION:Twenty-second European Symposium on Research in Computer Secu
 rity
URL:http://www.wikicfp.com/cfp/servlet/event.showcfp?eventid=61346&copyow
 nerid=92847
UID:cfp653338-N@wikicfp.com
END:VEVENT
BEGIN:VEVENT
DTSTAMP:20260421T013356Z
DTSTART;VALUE=DATE:20170726
SUMMARY:ESORICS 2017 Final Version Due
DESCRIPTION:Twenty-second European Symposium on Research in Computer Secu
 rity
URL:http://www.wikicfp.com/cfp/servlet/event.showcfp?eventid=61346&copyow
 nerid=92847
UID:cfp653338-N@wikicfp.com
END:VEVENT
BEGIN:VEVENT
DTSTAMP:20260421T013356Z
DTSTART;VALUE=DATE:20171030
DTEND;VALUE=DATE:20171104
SUMMARY:CCS 2017
DESCRIPTION:The ACM Conference on Computer and Communications Security (C
 CS)
URL:http://www.wikicfp.com/cfp/servlet/event.showcfp?eventid=61837&copyow
 nerid=92847
UID:cfp653339-E@wikicfp.com
END:VEVENT
BEGIN:VEVENT
DTSTAMP:20260421T013356Z
DTSTART;VALUE=DATE:20170519
SUMMARY:CCS 2017 Deadline
DESCRIPTION:The ACM Conference on Computer and Communications Security (C
 CS)
URL:http://www.wikicfp.com/cfp/servlet/event.showcfp?eventid=61837&copyow
 nerid=92847
UID:cfp653339-D@wikicfp.com
END:VEVENT
BEGIN:VEVENT
DTSTAMP:20260421T013356Z
DTSTART;VALUE=DATE:20170802
SUMMARY:CCS 2017 Notification Due
DESCRIPTION:The ACM Conference on Computer and Communications Security (C
 CS)
URL:http://www.wikicfp.com/cfp/servlet/event.showcfp?eventid=61837&copyow
 nerid=92847
UID:cfp653339-N@wikicfp.com
END:VEVENT
BEGIN:VEVENT
DTSTAMP:20260421T013356Z
DTSTART;VALUE=DATE:20170901
SUMMARY:CCS 2017 Final Version Due
DESCRIPTION:The ACM Conference on Computer and Communications Security (C
 CS)
URL:http://www.wikicfp.com/cfp/servlet/event.showcfp?eventid=61837&copyow
 nerid=92847
UID:cfp653339-N@wikicfp.com
END:VEVENT
END:VCALENDAR
