BEGIN:VCALENDAR
PRODID:-//WikiCFP//senoussi 1.0//EN
VERSION:2.0
CALSCALE:GREGORIAN
BEGIN:VEVENT
DTSTAMP:20260423T000027Z
DTSTART;VALUE=DATE:20170625
DTEND;VALUE=DATE:20170630
SUMMARY:ICIMP 2017
DESCRIPTION:The Twelfth International Conference on Internet Monitoring a
 nd Protection
URL:http://www.wikicfp.com/cfp/servlet/event.showcfp?eventid=58856&copyow
 nerid=92733
UID:cfp645497-E@wikicfp.com
END:VEVENT
BEGIN:VEVENT
DTSTAMP:20260423T000027Z
DTSTART;VALUE=DATE:20170205
SUMMARY:ICIMP 2017 Deadline
DESCRIPTION:The Twelfth International Conference on Internet Monitoring a
 nd Protection
URL:http://www.wikicfp.com/cfp/servlet/event.showcfp?eventid=58856&copyow
 nerid=92733
UID:cfp645497-D@wikicfp.com
END:VEVENT
BEGIN:VEVENT
DTSTAMP:20260423T000027Z
DTSTART;VALUE=DATE:20170405
SUMMARY:ICIMP 2017 Notification Due
DESCRIPTION:The Twelfth International Conference on Internet Monitoring a
 nd Protection
URL:http://www.wikicfp.com/cfp/servlet/event.showcfp?eventid=58856&copyow
 nerid=92733
UID:cfp645497-N@wikicfp.com
END:VEVENT
BEGIN:VEVENT
DTSTAMP:20260423T000027Z
DTSTART;VALUE=DATE:20170512
SUMMARY:ICIMP 2017 Final Version Due
DESCRIPTION:The Twelfth International Conference on Internet Monitoring a
 nd Protection
URL:http://www.wikicfp.com/cfp/servlet/event.showcfp?eventid=58856&copyow
 nerid=92733
UID:cfp645497-N@wikicfp.com
END:VEVENT
BEGIN:VEVENT
DTSTAMP:20260423T000027Z
DTSTART;VALUE=DATE:20170503
DTEND;VALUE=DATE:20170505
SUMMARY:IWCIT 2017
DESCRIPTION:Iran Workshop on Communication and Information Theory
URL:http://www.wikicfp.com/cfp/servlet/event.showcfp?eventid=58634&copyow
 nerid=92733
UID:cfp645487-E@wikicfp.com
END:VEVENT
BEGIN:VEVENT
DTSTAMP:20260423T000027Z
DTSTART;VALUE=DATE:20170206
SUMMARY:IWCIT 2017 Deadline
DESCRIPTION:Iran Workshop on Communication and Information Theory
URL:http://www.wikicfp.com/cfp/servlet/event.showcfp?eventid=58634&copyow
 nerid=92733
UID:cfp645487-D@wikicfp.com
END:VEVENT
BEGIN:VEVENT
DTSTAMP:20260423T000027Z
DTSTART;VALUE=DATE:20170315
SUMMARY:IWCIT 2017 Notification Due
DESCRIPTION:Iran Workshop on Communication and Information Theory
URL:http://www.wikicfp.com/cfp/servlet/event.showcfp?eventid=58634&copyow
 nerid=92733
UID:cfp645487-N@wikicfp.com
END:VEVENT
BEGIN:VEVENT
DTSTAMP:20260423T000027Z
DTSTART;VALUE=DATE:20170415
SUMMARY:IWCIT 2017 Final Version Due
DESCRIPTION:Iran Workshop on Communication and Information Theory
URL:http://www.wikicfp.com/cfp/servlet/event.showcfp?eventid=58634&copyow
 nerid=92733
UID:cfp645487-N@wikicfp.com
END:VEVENT
BEGIN:VEVENT
DTSTAMP:20260423T000027Z
DTSTART;VALUE=DATE:20170703
DTEND;VALUE=DATE:20170706
SUMMARY:ACISP 2017
DESCRIPTION:Australasian Conference on Information Security and Privacy
URL:http://www.wikicfp.com/cfp/servlet/event.showcfp?eventid=58319&copyow
 nerid=92733
UID:cfp645496-E@wikicfp.com
END:VEVENT
BEGIN:VEVENT
DTSTAMP:20260423T000027Z
DTSTART;VALUE=DATE:20170226
SUMMARY:ACISP 2017 Deadline
DESCRIPTION:Australasian Conference on Information Security and Privacy
URL:http://www.wikicfp.com/cfp/servlet/event.showcfp?eventid=58319&copyow
 nerid=92733
UID:cfp645496-D@wikicfp.com
END:VEVENT
BEGIN:VEVENT
DTSTAMP:20260423T000027Z
DTSTART;VALUE=DATE:20170407
SUMMARY:ACISP 2017 Notification Due
DESCRIPTION:Australasian Conference on Information Security and Privacy
URL:http://www.wikicfp.com/cfp/servlet/event.showcfp?eventid=58319&copyow
 nerid=92733
UID:cfp645496-N@wikicfp.com
END:VEVENT
BEGIN:VEVENT
DTSTAMP:20260423T000027Z
DTSTART;VALUE=DATE:20170421
SUMMARY:ACISP 2017 Final Version Due
DESCRIPTION:Australasian Conference on Information Security and Privacy
URL:http://www.wikicfp.com/cfp/servlet/event.showcfp?eventid=58319&copyow
 nerid=92733
UID:cfp645496-N@wikicfp.com
END:VEVENT
BEGIN:VEVENT
DTSTAMP:20260423T000027Z
DTSTART;VALUE=DATE:20170726
DTEND;VALUE=DATE:20170729
SUMMARY:SECRYPT 2017
DESCRIPTION:14th International Conference on Security and Cryptography
URL:http://www.wikicfp.com/cfp/servlet/event.showcfp?eventid=59941&copyow
 nerid=92733
UID:cfp645493-E@wikicfp.com
END:VEVENT
BEGIN:VEVENT
DTSTAMP:20260423T000027Z
DTSTART;VALUE=DATE:20170302
SUMMARY:SECRYPT 2017 Deadline
DESCRIPTION:14th International Conference on Security and Cryptography
URL:http://www.wikicfp.com/cfp/servlet/event.showcfp?eventid=59941&copyow
 nerid=92733
UID:cfp645493-D@wikicfp.com
END:VEVENT
BEGIN:VEVENT
DTSTAMP:20260423T000027Z
DTSTART;VALUE=DATE:20170503
SUMMARY:SECRYPT 2017 Notification Due
DESCRIPTION:14th International Conference on Security and Cryptography
URL:http://www.wikicfp.com/cfp/servlet/event.showcfp?eventid=59941&copyow
 nerid=92733
UID:cfp645493-N@wikicfp.com
END:VEVENT
BEGIN:VEVENT
DTSTAMP:20260423T000027Z
DTSTART;VALUE=DATE:20170517
SUMMARY:SECRYPT 2017 Final Version Due
DESCRIPTION:14th International Conference on Security and Cryptography
URL:http://www.wikicfp.com/cfp/servlet/event.showcfp?eventid=59941&copyow
 nerid=92733
UID:cfp645493-N@wikicfp.com
END:VEVENT
BEGIN:VEVENT
DTSTAMP:20260423T000027Z
DTSTART;VALUE=DATE:20170624
DTEND;VALUE=DATE:20170625
SUMMARY:HASP 2017
DESCRIPTION:Hardware and Architectural Support for Security and Privacy 2
 017
URL:http://www.wikicfp.com/cfp/servlet/event.showcfp?eventid=59907&copyow
 nerid=92733
UID:cfp645492-E@wikicfp.com
END:VEVENT
BEGIN:VEVENT
DTSTAMP:20260423T000027Z
DTSTART;VALUE=DATE:20170315
SUMMARY:HASP 2017 Deadline
DESCRIPTION:Hardware and Architectural Support for Security and Privacy 2
 017
URL:http://www.wikicfp.com/cfp/servlet/event.showcfp?eventid=59907&copyow
 nerid=92733
UID:cfp645492-D@wikicfp.com
END:VEVENT
BEGIN:VEVENT
DTSTAMP:20260423T000027Z
DTSTART;VALUE=DATE:20170331
SUMMARY:HASP 2017 Notification Due
DESCRIPTION:Hardware and Architectural Support for Security and Privacy 2
 017
URL:http://www.wikicfp.com/cfp/servlet/event.showcfp?eventid=59907&copyow
 nerid=92733
UID:cfp645492-N@wikicfp.com
END:VEVENT
BEGIN:VEVENT
DTSTAMP:20260423T000027Z
DTSTART;VALUE=DATE:20170407
SUMMARY:HASP 2017 Final Version Due
DESCRIPTION:Hardware and Architectural Support for Security and Privacy 2
 017
URL:http://www.wikicfp.com/cfp/servlet/event.showcfp?eventid=59907&copyow
 nerid=92733
UID:cfp645492-N@wikicfp.com
END:VEVENT
BEGIN:VEVENT
DTSTAMP:20260423T000027Z
DTSTART;VALUE=DATE:20170722
DTEND;VALUE=DATE:20170725
SUMMARY:IEEE ISI 2017
DESCRIPTION:2017 IEEE International Conference on Intelligence and Securi
 ty Informatics
URL:http://www.wikicfp.com/cfp/servlet/event.showcfp?eventid=60770&copyow
 nerid=92733
UID:cfp645495-E@wikicfp.com
END:VEVENT
BEGIN:VEVENT
DTSTAMP:20260423T000027Z
DTSTART;VALUE=DATE:20170410
SUMMARY:IEEE ISI 2017 Deadline
DESCRIPTION:2017 IEEE International Conference on Intelligence and Securi
 ty Informatics
URL:http://www.wikicfp.com/cfp/servlet/event.showcfp?eventid=60770&copyow
 nerid=92733
UID:cfp645495-D@wikicfp.com
END:VEVENT
BEGIN:VEVENT
DTSTAMP:20260423T000027Z
DTSTART;VALUE=DATE:20170530
SUMMARY:IEEE ISI 2017 Notification Due
DESCRIPTION:2017 IEEE International Conference on Intelligence and Securi
 ty Informatics
URL:http://www.wikicfp.com/cfp/servlet/event.showcfp?eventid=60770&copyow
 nerid=92733
UID:cfp645495-N@wikicfp.com
END:VEVENT
BEGIN:VEVENT
DTSTAMP:20260423T000027Z
DTSTART;VALUE=DATE:20170620
SUMMARY:IEEE ISI 2017 Final Version Due
DESCRIPTION:2017 IEEE International Conference on Intelligence and Securi
 ty Informatics
URL:http://www.wikicfp.com/cfp/servlet/event.showcfp?eventid=60770&copyow
 nerid=92733
UID:cfp645495-N@wikicfp.com
END:VEVENT
BEGIN:VEVENT
DTSTAMP:20260423T000027Z
DTSTART;VALUE=DATE:20170629
DTEND;VALUE=DATE:20170701
SUMMARY:MSPN 2017
DESCRIPTION:International Conference on Mobile\, Secure and Programmable 
 Networking
URL:http://www.wikicfp.com/cfp/servlet/event.showcfp?eventid=59208&copyow
 nerid=92733
UID:cfp645491-E@wikicfp.com
END:VEVENT
BEGIN:VEVENT
DTSTAMP:20260423T000027Z
DTSTART;VALUE=DATE:20170410
SUMMARY:MSPN 2017 Abstract Due
DESCRIPTION:International Conference on Mobile\, Secure and Programmable 
 Networking
URL:http://www.wikicfp.com/cfp/servlet/event.showcfp?eventid=59208&copyow
 nerid=92733
UID:cfp645491-A@wikicfp.com
END:VEVENT
BEGIN:VEVENT
DTSTAMP:20260423T000027Z
DTSTART;VALUE=DATE:20170420
SUMMARY:MSPN 2017 Deadline
DESCRIPTION:International Conference on Mobile\, Secure and Programmable 
 Networking
URL:http://www.wikicfp.com/cfp/servlet/event.showcfp?eventid=59208&copyow
 nerid=92733
UID:cfp645491-D@wikicfp.com
END:VEVENT
BEGIN:VEVENT
DTSTAMP:20260423T000027Z
DTSTART;VALUE=DATE:20170515
SUMMARY:MSPN 2017 Notification Due
DESCRIPTION:International Conference on Mobile\, Secure and Programmable 
 Networking
URL:http://www.wikicfp.com/cfp/servlet/event.showcfp?eventid=59208&copyow
 nerid=92733
UID:cfp645491-N@wikicfp.com
END:VEVENT
BEGIN:VEVENT
DTSTAMP:20260423T000027Z
DTSTART;VALUE=DATE:20170530
SUMMARY:MSPN 2017 Final Version Due
DESCRIPTION:International Conference on Mobile\, Secure and Programmable 
 Networking
URL:http://www.wikicfp.com/cfp/servlet/event.showcfp?eventid=59208&copyow
 nerid=92733
UID:cfp645491-N@wikicfp.com
END:VEVENT
BEGIN:VEVENT
DTSTAMP:20260423T000027Z
DTSTART;VALUE=DATE:20171026
DTEND;VALUE=DATE:20171027
SUMMARY:ICCST 2017
DESCRIPTION:The 51st IEEE International Carnahan Conference on Security T
 echnology
URL:http://www.wikicfp.com/cfp/servlet/event.showcfp?eventid=60614&copyow
 nerid=92733
UID:cfp645494-E@wikicfp.com
END:VEVENT
BEGIN:VEVENT
DTSTAMP:20260423T000027Z
DTSTART;VALUE=DATE:20170428
SUMMARY:ICCST 2017 Deadline
DESCRIPTION:The 51st IEEE International Carnahan Conference on Security T
 echnology
URL:http://www.wikicfp.com/cfp/servlet/event.showcfp?eventid=60614&copyow
 nerid=92733
UID:cfp645494-D@wikicfp.com
END:VEVENT
BEGIN:VEVENT
DTSTAMP:20260423T000027Z
DTSTART;VALUE=DATE:20170526
SUMMARY:ICCST 2017 Notification Due
DESCRIPTION:The 51st IEEE International Carnahan Conference on Security T
 echnology
URL:http://www.wikicfp.com/cfp/servlet/event.showcfp?eventid=60614&copyow
 nerid=92733
UID:cfp645494-N@wikicfp.com
END:VEVENT
BEGIN:VEVENT
DTSTAMP:20260423T000027Z
DTSTART;VALUE=DATE:20170720
SUMMARY:ICCST 2017 Final Version Due
DESCRIPTION:The 51st IEEE International Carnahan Conference on Security T
 echnology
URL:http://www.wikicfp.com/cfp/servlet/event.showcfp?eventid=60614&copyow
 nerid=92733
UID:cfp645494-N@wikicfp.com
END:VEVENT
BEGIN:VEVENT
DTSTAMP:20260423T000027Z
DTSTART;VALUE=DATE:20171106
DTEND;VALUE=DATE:20171111
SUMMARY:DASC 2017
DESCRIPTION:The 15th IEEE International Conference on Dependable\, Autono
 mic and Secure Computing
URL:http://www.wikicfp.com/cfp/servlet/event.showcfp?eventid=59080&copyow
 nerid=92733
UID:cfp645489-E@wikicfp.com
END:VEVENT
BEGIN:VEVENT
DTSTAMP:20260423T000027Z
DTSTART;VALUE=DATE:20170430
SUMMARY:DASC 2017 Deadline
DESCRIPTION:The 15th IEEE International Conference on Dependable\, Autono
 mic and Secure Computing
URL:http://www.wikicfp.com/cfp/servlet/event.showcfp?eventid=59080&copyow
 nerid=92733
UID:cfp645489-D@wikicfp.com
END:VEVENT
BEGIN:VEVENT
DTSTAMP:20260423T000027Z
DTSTART;VALUE=DATE:20170730
SUMMARY:DASC 2017 Notification Due
DESCRIPTION:The 15th IEEE International Conference on Dependable\, Autono
 mic and Secure Computing
URL:http://www.wikicfp.com/cfp/servlet/event.showcfp?eventid=59080&copyow
 nerid=92733
UID:cfp645489-N@wikicfp.com
END:VEVENT
BEGIN:VEVENT
DTSTAMP:20260423T000027Z
DTSTART;VALUE=DATE:20170815
SUMMARY:DASC 2017 Final Version Due
DESCRIPTION:The 15th IEEE International Conference on Dependable\, Autono
 mic and Secure Computing
URL:http://www.wikicfp.com/cfp/servlet/event.showcfp?eventid=59080&copyow
 nerid=92733
UID:cfp645489-N@wikicfp.com
END:VEVENT
BEGIN:VEVENT
DTSTAMP:20260423T000027Z
DTSTART;VALUE=DATE:20170430
SUMMARY:Games-SI:DMNSP 2017 Deadline
DESCRIPTION:Games Special Issue on Decision Making for Network Security a
 nd Privacy.
URL:http://www.wikicfp.com/cfp/servlet/event.showcfp?eventid=59443&copyow
 nerid=92733
UID:cfp645490-D@wikicfp.com
END:VEVENT
BEGIN:VEVENT
DTSTAMP:20260423T000027Z
DTSTART;VALUE=DATE:20170605
DTEND;VALUE=DATE:20170607
SUMMARY:EuropeanSeC 2017
DESCRIPTION:2017 European Security Conference
URL:http://www.wikicfp.com/cfp/servlet/event.showcfp?eventid=58731&copyow
 nerid=92733
UID:cfp645488-E@wikicfp.com
END:VEVENT
BEGIN:VEVENT
DTSTAMP:20260423T000027Z
DTSTART;VALUE=DATE:20170509
SUMMARY:EuropeanSeC 2017 Deadline
DESCRIPTION:2017 European Security Conference
URL:http://www.wikicfp.com/cfp/servlet/event.showcfp?eventid=58731&copyow
 nerid=92733
UID:cfp645488-D@wikicfp.com
END:VEVENT
BEGIN:VEVENT
DTSTAMP:20260423T000027Z
DTSTART;VALUE=DATE:20170516
SUMMARY:EuropeanSeC 2017 Notification Due
DESCRIPTION:2017 European Security Conference
URL:http://www.wikicfp.com/cfp/servlet/event.showcfp?eventid=58731&copyow
 nerid=92733
UID:cfp645488-N@wikicfp.com
END:VEVENT
BEGIN:VEVENT
DTSTAMP:20260423T000027Z
DTSTART;VALUE=DATE:20170531
SUMMARY:EuropeanSeC 2017 Final Version Due
DESCRIPTION:2017 European Security Conference
URL:http://www.wikicfp.com/cfp/servlet/event.showcfp?eventid=58731&copyow
 nerid=92733
UID:cfp645488-N@wikicfp.com
END:VEVENT
BEGIN:VEVENT
DTSTAMP:20260423T000027Z
DTSTART;VALUE=DATE:20231031
SUMMARY:AITIJ 2023 Deadline
DESCRIPTION:Advances in Interconnect Technologies: An International Journ
 al
URL:http://www.wikicfp.com/cfp/servlet/event.showcfp?eventid=60767&copyow
 nerid=92733
UID:cfp645498-D@wikicfp.com
END:VEVENT
BEGIN:VEVENT
DTSTAMP:20260423T000027Z
DTSTART;VALUE=DATE:20231130
SUMMARY:AITIJ 2023 Notification Due
DESCRIPTION:Advances in Interconnect Technologies: An International Journ
 al
URL:http://www.wikicfp.com/cfp/servlet/event.showcfp?eventid=60767&copyow
 nerid=92733
UID:cfp645498-N@wikicfp.com
END:VEVENT
BEGIN:VEVENT
DTSTAMP:20260423T000027Z
DTSTART;VALUE=DATE:20231208
SUMMARY:AITIJ 2023 Final Version Due
DESCRIPTION:Advances in Interconnect Technologies: An International Journ
 al
URL:http://www.wikicfp.com/cfp/servlet/event.showcfp?eventid=60767&copyow
 nerid=92733
UID:cfp645498-N@wikicfp.com
END:VEVENT
END:VCALENDAR
