BEGIN:VCALENDAR
PRODID:-//WikiCFP//francescaveronesi 1.0//EN
VERSION:2.0
CALSCALE:GREGORIAN
BEGIN:VEVENT
DTSTAMP:20260425T230503Z
DTSTART;VALUE=DATE:20101025
DTEND;VALUE=DATE:20101030
SUMMARY:ACM MM 2010
DESCRIPTION:ACM Multimedia Conference
URL:http://www.wikicfp.com/cfp/servlet/event.showcfp?eventid=5818&copyown
 erid=9271
UID:cfp68564-E@wikicfp.com
END:VEVENT
BEGIN:VEVENT
DTSTAMP:20260425T230503Z
DTSTART;VALUE=DATE:20100321
SUMMARY:ACM MM 2010 Abstract Due
DESCRIPTION:ACM Multimedia Conference
URL:http://www.wikicfp.com/cfp/servlet/event.showcfp?eventid=5818&copyown
 erid=9271
UID:cfp68564-A@wikicfp.com
END:VEVENT
BEGIN:VEVENT
DTSTAMP:20260425T230503Z
DTSTART;VALUE=DATE:20100411
SUMMARY:ACM MM 2010 Deadline
DESCRIPTION:ACM Multimedia Conference
URL:http://www.wikicfp.com/cfp/servlet/event.showcfp?eventid=5818&copyown
 erid=9271
UID:cfp68564-D@wikicfp.com
END:VEVENT
BEGIN:VEVENT
DTSTAMP:20260425T230503Z
DTSTART;VALUE=DATE:20100705
SUMMARY:ACM MM 2010 Notification Due
DESCRIPTION:ACM Multimedia Conference
URL:http://www.wikicfp.com/cfp/servlet/event.showcfp?eventid=5818&copyown
 erid=9271
UID:cfp68564-N@wikicfp.com
END:VEVENT
BEGIN:VEVENT
DTSTAMP:20260425T230503Z
DTSTART;VALUE=DATE:20100726
SUMMARY:ACM MM 2010 Final Version Due
DESCRIPTION:ACM Multimedia Conference
URL:http://www.wikicfp.com/cfp/servlet/event.showcfp?eventid=5818&copyown
 erid=9271
UID:cfp68564-N@wikicfp.com
END:VEVENT
BEGIN:VEVENT
DTSTAMP:20260425T230503Z
DTSTART;VALUE=DATE:20101025
DTEND;VALUE=DATE:20101030
SUMMARY:ACM Multimedia 2010
DESCRIPTION:ACM Multimedia
URL:http://www.wikicfp.com/cfp/servlet/event.showcfp?eventid=6983&copyown
 erid=9271
UID:cfp68565-E@wikicfp.com
END:VEVENT
BEGIN:VEVENT
DTSTAMP:20260425T230503Z
DTSTART;VALUE=DATE:20100321
SUMMARY:ACM Multimedia 2010 Abstract Due
DESCRIPTION:ACM Multimedia
URL:http://www.wikicfp.com/cfp/servlet/event.showcfp?eventid=6983&copyown
 erid=9271
UID:cfp68565-A@wikicfp.com
END:VEVENT
BEGIN:VEVENT
DTSTAMP:20260425T230503Z
DTSTART;VALUE=DATE:20100411
SUMMARY:ACM Multimedia 2010 Deadline
DESCRIPTION:ACM Multimedia
URL:http://www.wikicfp.com/cfp/servlet/event.showcfp?eventid=6983&copyown
 erid=9271
UID:cfp68565-D@wikicfp.com
END:VEVENT
BEGIN:VEVENT
DTSTAMP:20260425T230503Z
DTSTART;VALUE=DATE:20100706
SUMMARY:ACM Multimedia 2010 Notification Due
DESCRIPTION:ACM Multimedia
URL:http://www.wikicfp.com/cfp/servlet/event.showcfp?eventid=6983&copyown
 erid=9271
UID:cfp68565-N@wikicfp.com
END:VEVENT
BEGIN:VEVENT
DTSTAMP:20260425T230503Z
DTSTART;VALUE=DATE:20100726
SUMMARY:ACM Multimedia 2010 Final Version Due
DESCRIPTION:ACM Multimedia
URL:http://www.wikicfp.com/cfp/servlet/event.showcfp?eventid=6983&copyown
 erid=9271
UID:cfp68565-N@wikicfp.com
END:VEVENT
BEGIN:VEVENT
DTSTAMP:20260425T230503Z
DTSTART;VALUE=DATE:20101025
DTEND;VALUE=DATE:20101030
SUMMARY:ACM MM (short) 2010
DESCRIPTION:ACM International Conference on Multimedia (short)
URL:http://www.wikicfp.com/cfp/servlet/event.showcfp?eventid=7275&copyown
 erid=9271
UID:cfp68566-E@wikicfp.com
END:VEVENT
BEGIN:VEVENT
DTSTAMP:20260425T230503Z
DTSTART;VALUE=DATE:20100507
SUMMARY:ACM MM (short) 2010 Deadline
DESCRIPTION:ACM International Conference on Multimedia (short)
URL:http://www.wikicfp.com/cfp/servlet/event.showcfp?eventid=7275&copyown
 erid=9271
UID:cfp68566-D@wikicfp.com
END:VEVENT
BEGIN:VEVENT
DTSTAMP:20260425T230503Z
DTSTART;VALUE=DATE:20100705
SUMMARY:ACM MM (short) 2010 Notification Due
DESCRIPTION:ACM International Conference on Multimedia (short)
URL:http://www.wikicfp.com/cfp/servlet/event.showcfp?eventid=7275&copyown
 erid=9271
UID:cfp68566-N@wikicfp.com
END:VEVENT
END:VCALENDAR
