BEGIN:VCALENDAR
PRODID:-//WikiCFP//chinmayir 1.0//EN
VERSION:2.0
CALSCALE:GREGORIAN
BEGIN:VEVENT
DTSTAMP:20260426T000117Z
DTSTART;VALUE=DATE:20170612
DTEND;VALUE=DATE:20170614
SUMMARY:iDSC 2017
DESCRIPTION:1st International Data Science Conference
URL:http://www.wikicfp.com/cfp/servlet/event.showcfp?eventid=56557&copyow
 nerid=92659
UID:cfp626118-E@wikicfp.com
END:VEVENT
BEGIN:VEVENT
DTSTAMP:20260426T000117Z
DTSTART;VALUE=DATE:20161101
SUMMARY:iDSC 2017 Deadline
DESCRIPTION:1st International Data Science Conference
URL:http://www.wikicfp.com/cfp/servlet/event.showcfp?eventid=56557&copyow
 nerid=92659
UID:cfp626118-D@wikicfp.com
END:VEVENT
BEGIN:VEVENT
DTSTAMP:20260426T000117Z
DTSTART;VALUE=DATE:20170215
SUMMARY:iDSC 2017 Notification Due
DESCRIPTION:1st International Data Science Conference
URL:http://www.wikicfp.com/cfp/servlet/event.showcfp?eventid=56557&copyow
 nerid=92659
UID:cfp626118-N@wikicfp.com
END:VEVENT
BEGIN:VEVENT
DTSTAMP:20260426T000117Z
DTSTART;VALUE=DATE:20170315
SUMMARY:iDSC 2017 Final Version Due
DESCRIPTION:1st International Data Science Conference
URL:http://www.wikicfp.com/cfp/servlet/event.showcfp?eventid=56557&copyow
 nerid=92659
UID:cfp626118-N@wikicfp.com
END:VEVENT
BEGIN:VEVENT
DTSTAMP:20260426T000117Z
DTSTART;VALUE=DATE:20170424
DTEND;VALUE=DATE:20170427
SUMMARY:ICLR 2017
DESCRIPTION:5th International Conference on Learning Representations
URL:http://www.wikicfp.com/cfp/servlet/event.showcfp?eventid=56720&copyow
 nerid=92659
UID:cfp626119-E@wikicfp.com
END:VEVENT
BEGIN:VEVENT
DTSTAMP:20260426T000117Z
DTSTART;VALUE=DATE:20161104
SUMMARY:ICLR 2017 Deadline
DESCRIPTION:5th International Conference on Learning Representations
URL:http://www.wikicfp.com/cfp/servlet/event.showcfp?eventid=56720&copyow
 nerid=92659
UID:cfp626119-D@wikicfp.com
END:VEVENT
BEGIN:VEVENT
DTSTAMP:20260426T000117Z
DTSTART;VALUE=DATE:20161216
SUMMARY:ICLR 2017 Notification Due
DESCRIPTION:5th International Conference on Learning Representations
URL:http://www.wikicfp.com/cfp/servlet/event.showcfp?eventid=56720&copyow
 nerid=92659
UID:cfp626119-N@wikicfp.com
END:VEVENT
BEGIN:VEVENT
DTSTAMP:20260426T000117Z
DTSTART;VALUE=DATE:20170203
SUMMARY:ICLR 2017 Final Version Due
DESCRIPTION:5th International Conference on Learning Representations
URL:http://www.wikicfp.com/cfp/servlet/event.showcfp?eventid=56720&copyow
 nerid=92659
UID:cfp626119-N@wikicfp.com
END:VEVENT
BEGIN:VEVENT
DTSTAMP:20260426T000117Z
DTSTART;VALUE=DATE:20170311
DTEND;VALUE=DATE:20170312
SUMMARY:ICRMM 2017
DESCRIPTION:2017 4th International Conference on Robotics\, Mechanics and
  Mechatronics (ICRMM 2017)-Ei and Scopus
URL:http://www.wikicfp.com/cfp/servlet/event.showcfp?eventid=55767&copyow
 nerid=92659
UID:cfp626116-E@wikicfp.com
END:VEVENT
BEGIN:VEVENT
DTSTAMP:20260426T000117Z
DTSTART;VALUE=DATE:20161230
SUMMARY:ICRMM 2017 Deadline
DESCRIPTION:2017 4th International Conference on Robotics\, Mechanics and
  Mechatronics (ICRMM 2017)-Ei and Scopus
URL:http://www.wikicfp.com/cfp/servlet/event.showcfp?eventid=55767&copyow
 nerid=92659
UID:cfp626116-D@wikicfp.com
END:VEVENT
BEGIN:VEVENT
DTSTAMP:20260426T000117Z
DTSTART;VALUE=DATE:20170224
DTEND;VALUE=DATE:20170227
SUMMARY:ICMLC 2017
DESCRIPTION:2017 9th International Conference on Machine Learning and Com
 puting (ICMLC 2017)-ACM\, Ei
URL:http://www.wikicfp.com/cfp/servlet/event.showcfp?eventid=56408&copyow
 nerid=92659
UID:cfp626117-E@wikicfp.com
END:VEVENT
BEGIN:VEVENT
DTSTAMP:20260426T000117Z
DTSTART;VALUE=DATE:20161230
SUMMARY:ICMLC 2017 Deadline
DESCRIPTION:2017 9th International Conference on Machine Learning and Com
 puting (ICMLC 2017)-ACM\, Ei
URL:http://www.wikicfp.com/cfp/servlet/event.showcfp?eventid=56408&copyow
 nerid=92659
UID:cfp626117-D@wikicfp.com
END:VEVENT
BEGIN:VEVENT
DTSTAMP:20260426T000117Z
DTSTART;VALUE=DATE:20170217
DTEND;VALUE=DATE:20170220
SUMMARY:CMVIT  2017
DESCRIPTION:2017 International Conference on Machine Vision and Informati
 on Technology (CMVIT 2017)--IEEE(CPS)-Final Call !
URL:http://www.wikicfp.com/cfp/servlet/event.showcfp?eventid=57177&copyow
 nerid=92659
UID:cfp626120-E@wikicfp.com
END:VEVENT
BEGIN:VEVENT
DTSTAMP:20260426T000117Z
DTSTART;VALUE=DATE:20170215
SUMMARY:CMVIT  2017 Deadline
DESCRIPTION:2017 International Conference on Machine Vision and Informati
 on Technology (CMVIT 2017)--IEEE(CPS)-Final Call !
URL:http://www.wikicfp.com/cfp/servlet/event.showcfp?eventid=57177&copyow
 nerid=92659
UID:cfp626120-D@wikicfp.com
END:VEVENT
END:VCALENDAR
