BEGIN:VCALENDAR
PRODID:-//WikiCFP//patrickschiffmann 1.0//EN
VERSION:2.0
CALSCALE:GREGORIAN
BEGIN:VEVENT
DTSTAMP:20260421T010214Z
DTSTART;VALUE=DATE:20150922
SUMMARY:E2MC2 2015 Deadline
DESCRIPTION:Special Issue on Energy Efficient Multi-Core and Many-Core Sy
 stems (The Elsevier Journal of Parallel and Distributed Computing)
URL:http://www.wikicfp.com/cfp/servlet/event.showcfp?eventid=46427&copyow
 nerid=92433
UID:cfp624923-D@wikicfp.com
END:VEVENT
BEGIN:VEVENT
DTSTAMP:20260421T010214Z
DTSTART;VALUE=DATE:20151115
SUMMARY:E2MC2 2015 Notification Due
DESCRIPTION:Special Issue on Energy Efficient Multi-Core and Many-Core Sy
 stems (The Elsevier Journal of Parallel and Distributed Computing)
URL:http://www.wikicfp.com/cfp/servlet/event.showcfp?eventid=46427&copyow
 nerid=92433
UID:cfp624923-N@wikicfp.com
END:VEVENT
BEGIN:VEVENT
DTSTAMP:20260421T010214Z
DTSTART;VALUE=DATE:20160115
SUMMARY:E2MC2 2015 Final Version Due
DESCRIPTION:Special Issue on Energy Efficient Multi-Core and Many-Core Sy
 stems (The Elsevier Journal of Parallel and Distributed Computing)
URL:http://www.wikicfp.com/cfp/servlet/event.showcfp?eventid=46427&copyow
 nerid=92433
UID:cfp624923-N@wikicfp.com
END:VEVENT
BEGIN:VEVENT
DTSTAMP:20260421T010214Z
DTSTART;VALUE=DATE:20160619
DTEND;VALUE=DATE:20160624
SUMMARY:ISC 2016
DESCRIPTION:ISC High Performance 2016
URL:http://www.wikicfp.com/cfp/servlet/event.showcfp?eventid=48177&copyow
 nerid=92433
UID:cfp624925-E@wikicfp.com
END:VEVENT
BEGIN:VEVENT
DTSTAMP:20260421T010214Z
DTSTART;VALUE=DATE:20151222
SUMMARY:ISC 2016 Deadline
DESCRIPTION:ISC High Performance 2016
URL:http://www.wikicfp.com/cfp/servlet/event.showcfp?eventid=48177&copyow
 nerid=92433
UID:cfp624925-D@wikicfp.com
END:VEVENT
BEGIN:VEVENT
DTSTAMP:20260421T010214Z
DTSTART;VALUE=DATE:20160307
SUMMARY:ISC 2016 Notification Due
DESCRIPTION:ISC High Performance 2016
URL:http://www.wikicfp.com/cfp/servlet/event.showcfp?eventid=48177&copyow
 nerid=92433
UID:cfp624925-N@wikicfp.com
END:VEVENT
BEGIN:VEVENT
DTSTAMP:20260421T010214Z
DTSTART;VALUE=DATE:20160512
SUMMARY:ISC 2016 Final Version Due
DESCRIPTION:ISC High Performance 2016
URL:http://www.wikicfp.com/cfp/servlet/event.showcfp?eventid=48177&copyow
 nerid=92433
UID:cfp624925-N@wikicfp.com
END:VEVENT
BEGIN:VEVENT
DTSTAMP:20260421T010214Z
DTSTART;VALUE=DATE:20160523
DTEND;VALUE=DATE:20160527
SUMMARY:THPC 2016
DESCRIPTION:Tasks on High Performance Computing
URL:http://www.wikicfp.com/cfp/servlet/event.showcfp?eventid=49732&copyow
 nerid=92433
UID:cfp624928-E@wikicfp.com
END:VEVENT
BEGIN:VEVENT
DTSTAMP:20260421T010214Z
DTSTART;VALUE=DATE:20151230
SUMMARY:THPC 2016 Deadline
DESCRIPTION:Tasks on High Performance Computing
URL:http://www.wikicfp.com/cfp/servlet/event.showcfp?eventid=49732&copyow
 nerid=92433
UID:cfp624928-D@wikicfp.com
END:VEVENT
BEGIN:VEVENT
DTSTAMP:20260421T010214Z
DTSTART;VALUE=DATE:20160221
SUMMARY:THPC 2016 Notification Due
DESCRIPTION:Tasks on High Performance Computing
URL:http://www.wikicfp.com/cfp/servlet/event.showcfp?eventid=49732&copyow
 nerid=92433
UID:cfp624928-N@wikicfp.com
END:VEVENT
BEGIN:VEVENT
DTSTAMP:20260421T010214Z
DTSTART;VALUE=DATE:20160403
DTEND;VALUE=DATE:20160407
SUMMARY:HPC 2016
DESCRIPTION:High Performance Computing Symposium
URL:http://www.wikicfp.com/cfp/servlet/event.showcfp?eventid=47013&copyow
 nerid=92433
UID:cfp624924-E@wikicfp.com
END:VEVENT
BEGIN:VEVENT
DTSTAMP:20260421T010214Z
DTSTART;VALUE=DATE:20160105
SUMMARY:HPC 2016 Deadline
DESCRIPTION:High Performance Computing Symposium
URL:http://www.wikicfp.com/cfp/servlet/event.showcfp?eventid=47013&copyow
 nerid=92433
UID:cfp624924-D@wikicfp.com
END:VEVENT
BEGIN:VEVENT
DTSTAMP:20260421T010214Z
DTSTART;VALUE=DATE:20160131
SUMMARY:HPC 2016 Notification Due
DESCRIPTION:High Performance Computing Symposium
URL:http://www.wikicfp.com/cfp/servlet/event.showcfp?eventid=47013&copyow
 nerid=92433
UID:cfp624924-N@wikicfp.com
END:VEVENT
BEGIN:VEVENT
DTSTAMP:20260421T010214Z
DTSTART;VALUE=DATE:20160229
SUMMARY:HPC 2016 Final Version Due
DESCRIPTION:High Performance Computing Symposium
URL:http://www.wikicfp.com/cfp/servlet/event.showcfp?eventid=47013&copyow
 nerid=92433
UID:cfp624924-N@wikicfp.com
END:VEVENT
BEGIN:VEVENT
DTSTAMP:20260421T010214Z
DTSTART;VALUE=DATE:20160530
DTEND;VALUE=DATE:20160602
SUMMARY:ICS 2016
DESCRIPTION:International Conference on Supercomputing
URL:http://www.wikicfp.com/cfp/servlet/event.showcfp?eventid=48675&copyow
 nerid=92433
UID:cfp624926-E@wikicfp.com
END:VEVENT
BEGIN:VEVENT
DTSTAMP:20260421T010214Z
DTSTART;VALUE=DATE:20160115
SUMMARY:ICS 2016 Abstract Due
DESCRIPTION:International Conference on Supercomputing
URL:http://www.wikicfp.com/cfp/servlet/event.showcfp?eventid=48675&copyow
 nerid=92433
UID:cfp624926-A@wikicfp.com
END:VEVENT
BEGIN:VEVENT
DTSTAMP:20260421T010214Z
DTSTART;VALUE=DATE:20160122
SUMMARY:ICS 2016 Deadline
DESCRIPTION:International Conference on Supercomputing
URL:http://www.wikicfp.com/cfp/servlet/event.showcfp?eventid=48675&copyow
 nerid=92433
UID:cfp624926-D@wikicfp.com
END:VEVENT
BEGIN:VEVENT
DTSTAMP:20260421T010214Z
DTSTART;VALUE=DATE:20160321
SUMMARY:ICS 2016 Notification Due
DESCRIPTION:International Conference on Supercomputing
URL:http://www.wikicfp.com/cfp/servlet/event.showcfp?eventid=48675&copyow
 nerid=92433
UID:cfp624926-N@wikicfp.com
END:VEVENT
BEGIN:VEVENT
DTSTAMP:20260421T010214Z
DTSTART;VALUE=DATE:20160410
SUMMARY:ICS 2016 Final Version Due
DESCRIPTION:International Conference on Supercomputing
URL:http://www.wikicfp.com/cfp/servlet/event.showcfp?eventid=48675&copyow
 nerid=92433
UID:cfp624926-N@wikicfp.com
END:VEVENT
BEGIN:VEVENT
DTSTAMP:20260421T010214Z
DTSTART;VALUE=DATE:20160411
DTEND;VALUE=DATE:20160416
SUMMARY:ISUM 2016
DESCRIPTION:7th International Supercomputing Conference in Mexico
URL:http://www.wikicfp.com/cfp/servlet/event.showcfp?eventid=51717&copyow
 nerid=92433
UID:cfp624929-E@wikicfp.com
END:VEVENT
BEGIN:VEVENT
DTSTAMP:20260421T010214Z
DTSTART;VALUE=DATE:20160129
SUMMARY:ISUM 2016 Deadline
DESCRIPTION:7th International Supercomputing Conference in Mexico
URL:http://www.wikicfp.com/cfp/servlet/event.showcfp?eventid=51717&copyow
 nerid=92433
UID:cfp624929-D@wikicfp.com
END:VEVENT
BEGIN:VEVENT
DTSTAMP:20260421T010214Z
DTSTART;VALUE=DATE:20160226
SUMMARY:ISUM 2016 Notification Due
DESCRIPTION:7th International Supercomputing Conference in Mexico
URL:http://www.wikicfp.com/cfp/servlet/event.showcfp?eventid=51717&copyow
 nerid=92433
UID:cfp624929-N@wikicfp.com
END:VEVENT
BEGIN:VEVENT
DTSTAMP:20260421T010214Z
DTSTART;VALUE=DATE:20160320
SUMMARY:ISUM 2016 Final Version Due
DESCRIPTION:7th International Supercomputing Conference in Mexico
URL:http://www.wikicfp.com/cfp/servlet/event.showcfp?eventid=51717&copyow
 nerid=92433
UID:cfp624929-N@wikicfp.com
END:VEVENT
BEGIN:VEVENT
DTSTAMP:20260421T010214Z
DTSTART;VALUE=DATE:20160627
DTEND;VALUE=DATE:20160701
SUMMARY:VECPAR 2016
DESCRIPTION:High Performance Computing for Computational Science
URL:http://www.wikicfp.com/cfp/servlet/event.showcfp?eventid=49116&copyow
 nerid=92433
UID:cfp624927-E@wikicfp.com
END:VEVENT
BEGIN:VEVENT
DTSTAMP:20260421T010214Z
DTSTART;VALUE=DATE:20160205
SUMMARY:VECPAR 2016 Deadline
DESCRIPTION:High Performance Computing for Computational Science
URL:http://www.wikicfp.com/cfp/servlet/event.showcfp?eventid=49116&copyow
 nerid=92433
UID:cfp624927-D@wikicfp.com
END:VEVENT
BEGIN:VEVENT
DTSTAMP:20260421T010214Z
DTSTART;VALUE=DATE:20160320
SUMMARY:VECPAR 2016 Notification Due
DESCRIPTION:High Performance Computing for Computational Science
URL:http://www.wikicfp.com/cfp/servlet/event.showcfp?eventid=49116&copyow
 nerid=92433
UID:cfp624927-N@wikicfp.com
END:VEVENT
BEGIN:VEVENT
DTSTAMP:20260421T010214Z
DTSTART;VALUE=DATE:20160502
SUMMARY:VECPAR 2016 Final Version Due
DESCRIPTION:High Performance Computing for Computational Science
URL:http://www.wikicfp.com/cfp/servlet/event.showcfp?eventid=49116&copyow
 nerid=92433
UID:cfp624927-N@wikicfp.com
END:VEVENT
BEGIN:VEVENT
DTSTAMP:20260421T010214Z
DTSTART;VALUE=DATE:20160718
DTEND;VALUE=DATE:20160723
SUMMARY:OPTIM 2016
DESCRIPTION:International Workshop on Optimization of Energy Efficient HP
 C & Distributed Systems
URL:http://www.wikicfp.com/cfp/servlet/event.showcfp?eventid=52326&copyow
 nerid=92433
UID:cfp624920-E@wikicfp.com
END:VEVENT
BEGIN:VEVENT
DTSTAMP:20260421T010214Z
DTSTART;VALUE=DATE:20160307
SUMMARY:OPTIM 2016 Abstract Due
DESCRIPTION:International Workshop on Optimization of Energy Efficient HP
 C & Distributed Systems
URL:http://www.wikicfp.com/cfp/servlet/event.showcfp?eventid=52326&copyow
 nerid=92433
UID:cfp624920-A@wikicfp.com
END:VEVENT
BEGIN:VEVENT
DTSTAMP:20260421T010214Z
DTSTART;VALUE=DATE:20160314
SUMMARY:OPTIM 2016 Deadline
DESCRIPTION:International Workshop on Optimization of Energy Efficient HP
 C & Distributed Systems
URL:http://www.wikicfp.com/cfp/servlet/event.showcfp?eventid=52326&copyow
 nerid=92433
UID:cfp624920-D@wikicfp.com
END:VEVENT
BEGIN:VEVENT
DTSTAMP:20260421T010214Z
DTSTART;VALUE=DATE:20160407
SUMMARY:OPTIM 2016 Notification Due
DESCRIPTION:International Workshop on Optimization of Energy Efficient HP
 C & Distributed Systems
URL:http://www.wikicfp.com/cfp/servlet/event.showcfp?eventid=52326&copyow
 nerid=92433
UID:cfp624920-N@wikicfp.com
END:VEVENT
BEGIN:VEVENT
DTSTAMP:20260421T010214Z
DTSTART;VALUE=DATE:20160501
SUMMARY:OPTIM 2016 Final Version Due
DESCRIPTION:International Workshop on Optimization of Energy Efficient HP
 C & Distributed Systems
URL:http://www.wikicfp.com/cfp/servlet/event.showcfp?eventid=52326&copyow
 nerid=92433
UID:cfp624920-N@wikicfp.com
END:VEVENT
BEGIN:VEVENT
DTSTAMP:20260421T010214Z
DTSTART;VALUE=DATE:20160718
DTEND;VALUE=DATE:20160723
SUMMARY:HPCS 2016
DESCRIPTION:The 2016 International Conference on High Performance Computi
 ng & Simulation
URL:http://www.wikicfp.com/cfp/servlet/event.showcfp?eventid=50749&copyow
 nerid=92433
UID:cfp624917-E@wikicfp.com
END:VEVENT
BEGIN:VEVENT
DTSTAMP:20260421T010214Z
DTSTART;VALUE=DATE:20160322
SUMMARY:HPCS 2016 Deadline
DESCRIPTION:The 2016 International Conference on High Performance Computi
 ng & Simulation
URL:http://www.wikicfp.com/cfp/servlet/event.showcfp?eventid=50749&copyow
 nerid=92433
UID:cfp624917-D@wikicfp.com
END:VEVENT
BEGIN:VEVENT
DTSTAMP:20260421T010214Z
DTSTART;VALUE=DATE:20160423
SUMMARY:HPCS 2016 Notification Due
DESCRIPTION:The 2016 International Conference on High Performance Computi
 ng & Simulation
URL:http://www.wikicfp.com/cfp/servlet/event.showcfp?eventid=50749&copyow
 nerid=92433
UID:cfp624917-N@wikicfp.com
END:VEVENT
BEGIN:VEVENT
DTSTAMP:20260421T010214Z
DTSTART;VALUE=DATE:20160515
SUMMARY:HPCS 2016 Final Version Due
DESCRIPTION:The 2016 International Conference on High Performance Computi
 ng & Simulation
URL:http://www.wikicfp.com/cfp/servlet/event.showcfp?eventid=50749&copyow
 nerid=92433
UID:cfp624917-N@wikicfp.com
END:VEVENT
BEGIN:VEVENT
DTSTAMP:20260421T010214Z
DTSTART;VALUE=DATE:20160701
DTEND;VALUE=DATE:20160702
SUMMARY:PPEO 2016
DESCRIPTION:International Workshop on Performance\, Power and Energy-Effi
 ciency Optimization in Heterogeneous Systems
URL:http://www.wikicfp.com/cfp/servlet/event.showcfp?eventid=52251&copyow
 nerid=92433
UID:cfp624919-E@wikicfp.com
END:VEVENT
BEGIN:VEVENT
DTSTAMP:20260421T010214Z
DTSTART;VALUE=DATE:20160327
SUMMARY:PPEO 2016 Abstract Due
DESCRIPTION:International Workshop on Performance\, Power and Energy-Effi
 ciency Optimization in Heterogeneous Systems
URL:http://www.wikicfp.com/cfp/servlet/event.showcfp?eventid=52251&copyow
 nerid=92433
UID:cfp624919-A@wikicfp.com
END:VEVENT
BEGIN:VEVENT
DTSTAMP:20260421T010214Z
DTSTART;VALUE=DATE:20160403
SUMMARY:PPEO 2016 Deadline
DESCRIPTION:International Workshop on Performance\, Power and Energy-Effi
 ciency Optimization in Heterogeneous Systems
URL:http://www.wikicfp.com/cfp/servlet/event.showcfp?eventid=52251&copyow
 nerid=92433
UID:cfp624919-D@wikicfp.com
END:VEVENT
BEGIN:VEVENT
DTSTAMP:20260421T010214Z
DTSTART;VALUE=DATE:20160501
SUMMARY:PPEO 2016 Notification Due
DESCRIPTION:International Workshop on Performance\, Power and Energy-Effi
 ciency Optimization in Heterogeneous Systems
URL:http://www.wikicfp.com/cfp/servlet/event.showcfp?eventid=52251&copyow
 nerid=92433
UID:cfp624919-N@wikicfp.com
END:VEVENT
BEGIN:VEVENT
DTSTAMP:20260421T010214Z
DTSTART;VALUE=DATE:20160515
SUMMARY:PPEO 2016 Final Version Due
DESCRIPTION:International Workshop on Performance\, Power and Energy-Effi
 ciency Optimization in Heterogeneous Systems
URL:http://www.wikicfp.com/cfp/servlet/event.showcfp?eventid=52251&copyow
 nerid=92433
UID:cfp624919-N@wikicfp.com
END:VEVENT
BEGIN:VEVENT
DTSTAMP:20260421T010214Z
DTSTART;VALUE=DATE:20160718
DTEND;VALUE=DATE:20160723
SUMMARY:HPCS/POMCO 2016
DESCRIPTION: International Workshop + Special issue in JPDC journal
URL:http://www.wikicfp.com/cfp/servlet/event.showcfp?eventid=51226&copyow
 nerid=92433
UID:cfp624918-E@wikicfp.com
END:VEVENT
BEGIN:VEVENT
DTSTAMP:20260421T010214Z
DTSTART;VALUE=DATE:20160414
SUMMARY:HPCS/POMCO 2016 Deadline
DESCRIPTION: International Workshop + Special issue in JPDC journal
URL:http://www.wikicfp.com/cfp/servlet/event.showcfp?eventid=51226&copyow
 nerid=92433
UID:cfp624918-D@wikicfp.com
END:VEVENT
BEGIN:VEVENT
DTSTAMP:20260421T010214Z
DTSTART;VALUE=DATE:20160428
SUMMARY:HPCS/POMCO 2016 Notification Due
DESCRIPTION: International Workshop + Special issue in JPDC journal
URL:http://www.wikicfp.com/cfp/servlet/event.showcfp?eventid=51226&copyow
 nerid=92433
UID:cfp624918-N@wikicfp.com
END:VEVENT
BEGIN:VEVENT
DTSTAMP:20260421T010214Z
DTSTART;VALUE=DATE:20160515
SUMMARY:HPCS/POMCO 2016 Final Version Due
DESCRIPTION: International Workshop + Special issue in JPDC journal
URL:http://www.wikicfp.com/cfp/servlet/event.showcfp?eventid=51226&copyow
 nerid=92433
UID:cfp624918-N@wikicfp.com
END:VEVENT
BEGIN:VEVENT
DTSTAMP:20260421T010214Z
DTSTART;VALUE=DATE:20161219
DTEND;VALUE=DATE:20161223
SUMMARY:HiPC 2016
DESCRIPTION:23rd IEEE International Conference on High Performance Comput
 ing\, Data\, and Analytics
URL:http://www.wikicfp.com/cfp/servlet/event.showcfp?eventid=52514&copyow
 nerid=92433
UID:cfp624921-E@wikicfp.com
END:VEVENT
BEGIN:VEVENT
DTSTAMP:20260421T010214Z
DTSTART;VALUE=DATE:20160601
SUMMARY:HiPC 2016 Abstract Due
DESCRIPTION:23rd IEEE International Conference on High Performance Comput
 ing\, Data\, and Analytics
URL:http://www.wikicfp.com/cfp/servlet/event.showcfp?eventid=52514&copyow
 nerid=92433
UID:cfp624921-A@wikicfp.com
END:VEVENT
BEGIN:VEVENT
DTSTAMP:20260421T010214Z
DTSTART;VALUE=DATE:20160605
SUMMARY:HiPC 2016 Deadline
DESCRIPTION:23rd IEEE International Conference on High Performance Comput
 ing\, Data\, and Analytics
URL:http://www.wikicfp.com/cfp/servlet/event.showcfp?eventid=52514&copyow
 nerid=92433
UID:cfp624921-D@wikicfp.com
END:VEVENT
BEGIN:VEVENT
DTSTAMP:20260421T010214Z
DTSTART;VALUE=DATE:20160906
SUMMARY:HiPC 2016 Notification Due
DESCRIPTION:23rd IEEE International Conference on High Performance Comput
 ing\, Data\, and Analytics
URL:http://www.wikicfp.com/cfp/servlet/event.showcfp?eventid=52514&copyow
 nerid=92433
UID:cfp624921-N@wikicfp.com
END:VEVENT
BEGIN:VEVENT
DTSTAMP:20260421T010214Z
DTSTART;VALUE=DATE:20161003
SUMMARY:HiPC 2016 Final Version Due
DESCRIPTION:23rd IEEE International Conference on High Performance Comput
 ing\, Data\, and Analytics
URL:http://www.wikicfp.com/cfp/servlet/event.showcfp?eventid=52514&copyow
 nerid=92433
UID:cfp624921-N@wikicfp.com
END:VEVENT
BEGIN:VEVENT
DTSTAMP:20260421T010214Z
DTSTART;VALUE=DATE:20170306
DTEND;VALUE=DATE:20170309
SUMMARY:HPCMS 2017
DESCRIPTION:*** Extended Deadline *** Fourth Special Session on High Perf
 ormance Computing in Modelling and Simulation (HPCMS)
URL:http://www.wikicfp.com/cfp/servlet/event.showcfp?eventid=56236&copyow
 nerid=92433
UID:cfp624930-E@wikicfp.com
END:VEVENT
BEGIN:VEVENT
DTSTAMP:20260421T010214Z
DTSTART;VALUE=DATE:20161012
SUMMARY:HPCMS 2017 Deadline
DESCRIPTION:*** Extended Deadline *** Fourth Special Session on High Perf
 ormance Computing in Modelling and Simulation (HPCMS)
URL:http://www.wikicfp.com/cfp/servlet/event.showcfp?eventid=56236&copyow
 nerid=92433
UID:cfp624930-D@wikicfp.com
END:VEVENT
BEGIN:VEVENT
DTSTAMP:20260421T010214Z
DTSTART;VALUE=DATE:20161115
SUMMARY:HPCMS 2017 Notification Due
DESCRIPTION:*** Extended Deadline *** Fourth Special Session on High Perf
 ormance Computing in Modelling and Simulation (HPCMS)
URL:http://www.wikicfp.com/cfp/servlet/event.showcfp?eventid=56236&copyow
 nerid=92433
UID:cfp624930-N@wikicfp.com
END:VEVENT
BEGIN:VEVENT
DTSTAMP:20260421T010214Z
DTSTART;VALUE=DATE:20161125
SUMMARY:HPCMS 2017 Final Version Due
DESCRIPTION:*** Extended Deadline *** Fourth Special Session on High Perf
 ormance Computing in Modelling and Simulation (HPCMS)
URL:http://www.wikicfp.com/cfp/servlet/event.showcfp?eventid=56236&copyow
 nerid=92433
UID:cfp624930-N@wikicfp.com
END:VEVENT
BEGIN:VEVENT
DTSTAMP:20260421T010214Z
DTSTART;VALUE=DATE:20170604
DTEND;VALUE=DATE:20170609
SUMMARY:MSEC 2017
DESCRIPTION:Manufacturing Science and Engineering Conference
URL:http://www.wikicfp.com/cfp/servlet/event.showcfp?eventid=56739&copyow
 nerid=92433
UID:cfp624912-E@wikicfp.com
END:VEVENT
BEGIN:VEVENT
DTSTAMP:20260421T010214Z
DTSTART;VALUE=DATE:20161103
SUMMARY:MSEC 2017 Deadline
DESCRIPTION:Manufacturing Science and Engineering Conference
URL:http://www.wikicfp.com/cfp/servlet/event.showcfp?eventid=56739&copyow
 nerid=92433
UID:cfp624912-D@wikicfp.com
END:VEVENT
BEGIN:VEVENT
DTSTAMP:20260421T010214Z
DTSTART;VALUE=DATE:20170203
SUMMARY:MSEC 2017 Notification Due
DESCRIPTION:Manufacturing Science and Engineering Conference
URL:http://www.wikicfp.com/cfp/servlet/event.showcfp?eventid=56739&copyow
 nerid=92433
UID:cfp624912-N@wikicfp.com
END:VEVENT
BEGIN:VEVENT
DTSTAMP:20260421T010214Z
DTSTART;VALUE=DATE:20170308
SUMMARY:MSEC 2017 Final Version Due
DESCRIPTION:Manufacturing Science and Engineering Conference
URL:http://www.wikicfp.com/cfp/servlet/event.showcfp?eventid=56739&copyow
 nerid=92433
UID:cfp624912-N@wikicfp.com
END:VEVENT
BEGIN:VEVENT
DTSTAMP:20260421T010214Z
DTSTART;VALUE=DATE:20170618
DTEND;VALUE=DATE:20170623
SUMMARY:ISC HPC 2017
DESCRIPTION:ISC High Performance 2017
URL:http://www.wikicfp.com/cfp/servlet/event.showcfp?eventid=56911&copyow
 nerid=92433
UID:cfp624914-E@wikicfp.com
END:VEVENT
BEGIN:VEVENT
DTSTAMP:20260421T010214Z
DTSTART;VALUE=DATE:20161202
SUMMARY:ISC HPC 2017 Deadline
DESCRIPTION:ISC High Performance 2017
URL:http://www.wikicfp.com/cfp/servlet/event.showcfp?eventid=56911&copyow
 nerid=92433
UID:cfp624914-D@wikicfp.com
END:VEVENT
BEGIN:VEVENT
DTSTAMP:20260421T010214Z
DTSTART;VALUE=DATE:20170227
SUMMARY:ISC HPC 2017 Notification Due
DESCRIPTION:ISC High Performance 2017
URL:http://www.wikicfp.com/cfp/servlet/event.showcfp?eventid=56911&copyow
 nerid=92433
UID:cfp624914-N@wikicfp.com
END:VEVENT
BEGIN:VEVENT
DTSTAMP:20260421T010214Z
DTSTART;VALUE=DATE:20170327
SUMMARY:ISC HPC 2017 Final Version Due
DESCRIPTION:ISC High Performance 2017
URL:http://www.wikicfp.com/cfp/servlet/event.showcfp?eventid=56911&copyow
 nerid=92433
UID:cfp624914-N@wikicfp.com
END:VEVENT
BEGIN:VEVENT
DTSTAMP:20260421T010214Z
DTSTART;VALUE=DATE:20170423
DTEND;VALUE=DATE:20170427
SUMMARY:HPC 2017
DESCRIPTION:High Performance Computing Symposium
URL:http://www.wikicfp.com/cfp/servlet/event.showcfp?eventid=56296&copyow
 nerid=92433
UID:cfp624913-E@wikicfp.com
END:VEVENT
BEGIN:VEVENT
DTSTAMP:20260421T010214Z
DTSTART;VALUE=DATE:20161015
SUMMARY:HPC 2017 Abstract Due
DESCRIPTION:High Performance Computing Symposium
URL:http://www.wikicfp.com/cfp/servlet/event.showcfp?eventid=56296&copyow
 nerid=92433
UID:cfp624913-A@wikicfp.com
END:VEVENT
BEGIN:VEVENT
DTSTAMP:20260421T010214Z
DTSTART;VALUE=DATE:20161215
SUMMARY:HPC 2017 Deadline
DESCRIPTION:High Performance Computing Symposium
URL:http://www.wikicfp.com/cfp/servlet/event.showcfp?eventid=56296&copyow
 nerid=92433
UID:cfp624913-D@wikicfp.com
END:VEVENT
BEGIN:VEVENT
DTSTAMP:20260421T010214Z
DTSTART;VALUE=DATE:20170131
SUMMARY:HPC 2017 Notification Due
DESCRIPTION:High Performance Computing Symposium
URL:http://www.wikicfp.com/cfp/servlet/event.showcfp?eventid=56296&copyow
 nerid=92433
UID:cfp624913-N@wikicfp.com
END:VEVENT
BEGIN:VEVENT
DTSTAMP:20260421T010214Z
DTSTART;VALUE=DATE:20170220
SUMMARY:HPC 2017 Final Version Due
DESCRIPTION:High Performance Computing Symposium
URL:http://www.wikicfp.com/cfp/servlet/event.showcfp?eventid=56296&copyow
 nerid=92433
UID:cfp624913-N@wikicfp.com
END:VEVENT
BEGIN:VEVENT
DTSTAMP:20260421T010214Z
DTSTART;VALUE=DATE:20170626
DTEND;VALUE=DATE:20170701
SUMMARY:HPDC 2017
DESCRIPTION:The 26th International ACM Symposium on High-Performance Para
 llel and Distributed Computing 
URL:http://www.wikicfp.com/cfp/servlet/event.showcfp?eventid=57823&copyow
 nerid=92433
UID:cfp624915-E@wikicfp.com
END:VEVENT
BEGIN:VEVENT
DTSTAMP:20260421T010214Z
DTSTART;VALUE=DATE:20170110
SUMMARY:HPDC 2017 Abstract Due
DESCRIPTION:The 26th International ACM Symposium on High-Performance Para
 llel and Distributed Computing 
URL:http://www.wikicfp.com/cfp/servlet/event.showcfp?eventid=57823&copyow
 nerid=92433
UID:cfp624915-A@wikicfp.com
END:VEVENT
BEGIN:VEVENT
DTSTAMP:20260421T010214Z
DTSTART;VALUE=DATE:20170117
SUMMARY:HPDC 2017 Deadline
DESCRIPTION:The 26th International ACM Symposium on High-Performance Para
 llel and Distributed Computing 
URL:http://www.wikicfp.com/cfp/servlet/event.showcfp?eventid=57823&copyow
 nerid=92433
UID:cfp624915-D@wikicfp.com
END:VEVENT
BEGIN:VEVENT
DTSTAMP:20260421T010214Z
DTSTART;VALUE=DATE:20170329
SUMMARY:HPDC 2017 Notification Due
DESCRIPTION:The 26th International ACM Symposium on High-Performance Para
 llel and Distributed Computing 
URL:http://www.wikicfp.com/cfp/servlet/event.showcfp?eventid=57823&copyow
 nerid=92433
UID:cfp624915-N@wikicfp.com
END:VEVENT
BEGIN:VEVENT
DTSTAMP:20260421T010214Z
DTSTART;VALUE=DATE:20170412
SUMMARY:HPDC 2017 Final Version Due
DESCRIPTION:The 26th International ACM Symposium on High-Performance Para
 llel and Distributed Computing 
URL:http://www.wikicfp.com/cfp/servlet/event.showcfp?eventid=57823&copyow
 nerid=92433
UID:cfp624915-N@wikicfp.com
END:VEVENT
BEGIN:VEVENT
DTSTAMP:20260421T010214Z
DTSTART;VALUE=DATE:20170225
SUMMARY:ACIJ  2017 Deadline
DESCRIPTION:Advanced Computing: An International Journal 
URL:http://www.wikicfp.com/cfp/servlet/event.showcfp?eventid=52602&copyow
 nerid=92433
UID:cfp624911-D@wikicfp.com
END:VEVENT
BEGIN:VEVENT
DTSTAMP:20260421T010214Z
DTSTART;VALUE=DATE:20170325
SUMMARY:ACIJ  2017 Notification Due
DESCRIPTION:Advanced Computing: An International Journal 
URL:http://www.wikicfp.com/cfp/servlet/event.showcfp?eventid=52602&copyow
 nerid=92433
UID:cfp624911-N@wikicfp.com
END:VEVENT
BEGIN:VEVENT
DTSTAMP:20260421T010214Z
DTSTART;VALUE=DATE:20170403
SUMMARY:ACIJ  2017 Final Version Due
DESCRIPTION:Advanced Computing: An International Journal 
URL:http://www.wikicfp.com/cfp/servlet/event.showcfp?eventid=52602&copyow
 nerid=92433
UID:cfp624911-N@wikicfp.com
END:VEVENT
BEGIN:VEVENT
DTSTAMP:20260421T010214Z
DTSTART;VALUE=DATE:20170912
DTEND;VALUE=DATE:20170916
SUMMARY:ParCo 2017
DESCRIPTION:Parallel Computing Conference
URL:http://www.wikicfp.com/cfp/servlet/event.showcfp?eventid=57937&copyow
 nerid=92433
UID:cfp624916-E@wikicfp.com
END:VEVENT
BEGIN:VEVENT
DTSTAMP:20260421T010214Z
DTSTART;VALUE=DATE:20170228
SUMMARY:ParCo 2017 Abstract Due
DESCRIPTION:Parallel Computing Conference
URL:http://www.wikicfp.com/cfp/servlet/event.showcfp?eventid=57937&copyow
 nerid=92433
UID:cfp624916-A@wikicfp.com
END:VEVENT
BEGIN:VEVENT
DTSTAMP:20260421T010214Z
DTSTART;VALUE=DATE:20170731
SUMMARY:ParCo 2017 Deadline
DESCRIPTION:Parallel Computing Conference
URL:http://www.wikicfp.com/cfp/servlet/event.showcfp?eventid=57937&copyow
 nerid=92433
UID:cfp624916-D@wikicfp.com
END:VEVENT
BEGIN:VEVENT
DTSTAMP:20260421T010214Z
DTSTART;VALUE=DATE:20170515
SUMMARY:ParCo 2017 Notification Due
DESCRIPTION:Parallel Computing Conference
URL:http://www.wikicfp.com/cfp/servlet/event.showcfp?eventid=57937&copyow
 nerid=92433
UID:cfp624916-N@wikicfp.com
END:VEVENT
BEGIN:VEVENT
DTSTAMP:20260421T010214Z
DTSTART;VALUE=DATE:20171031
SUMMARY:ParCo 2017 Final Version Due
DESCRIPTION:Parallel Computing Conference
URL:http://www.wikicfp.com/cfp/servlet/event.showcfp?eventid=57937&copyow
 nerid=92433
UID:cfp624916-N@wikicfp.com
END:VEVENT
END:VCALENDAR
