BEGIN:VCALENDAR
PRODID:-//WikiCFP//tormorteng 1.0//EN
VERSION:2.0
CALSCALE:GREGORIAN
BEGIN:VEVENT
DTSTAMP:20260424T104603Z
DTSTART;VALUE=DATE:20170911
DTEND;VALUE=DATE:20170916
SUMMARY:UbiComp 2017
DESCRIPTION: 2017 ACM International Joint Conference on Pervasive and Ubi
 quitous Computing
URL:http://www.wikicfp.com/cfp/servlet/event.showcfp?eventid=57056&copyow
 nerid=92301
UID:cfp623895-E@wikicfp.com
END:VEVENT
BEGIN:VEVENT
DTSTAMP:20260424T104603Z
DTSTART;VALUE=DATE:20170401
SUMMARY:UbiComp 2017 Deadline
DESCRIPTION: 2017 ACM International Joint Conference on Pervasive and Ubi
 quitous Computing
URL:http://www.wikicfp.com/cfp/servlet/event.showcfp?eventid=57056&copyow
 nerid=92301
UID:cfp623895-D@wikicfp.com
END:VEVENT
END:VCALENDAR
