BEGIN:VCALENDAR
PRODID:-//WikiCFP//amrocha 1.0//EN
VERSION:2.0
CALSCALE:GREGORIAN
BEGIN:VEVENT
DTSTAMP:20260423T201512Z
DTSTART;VALUE=DATE:20221020
DTEND;VALUE=DATE:20221023
SUMMARY:ICITA 2022
DESCRIPTION:16th International Conference on Information Technology and A
 pplications (ICITA 2022)
URL:http://www.wikicfp.com/cfp/servlet/event.showcfp?eventid=162687&copyo
 wnerid=92285
UID:cfp934661-E@wikicfp.com
END:VEVENT
BEGIN:VEVENT
DTSTAMP:20260423T201512Z
DTSTART;VALUE=DATE:20170411
DTEND;VALUE=DATE:20170414
SUMMARY:WorldCIST 2017
DESCRIPTION:WorldCIST'17 - 5th World Conference on Information Systems an
 d Technologies (Published by Springer)
URL:http://www.wikicfp.com/cfp/servlet/event.showcfp?eventid=57896&copyow
 nerid=92285
UID:cfp623818-E@wikicfp.com
END:VEVENT
BEGIN:VEVENT
DTSTAMP:20260423T201512Z
DTSTART;VALUE=DATE:20161113
SUMMARY:WorldCIST 2017 Deadline
DESCRIPTION:WorldCIST'17 - 5th World Conference on Information Systems an
 d Technologies (Published by Springer)
URL:http://www.wikicfp.com/cfp/servlet/event.showcfp?eventid=57896&copyow
 nerid=92285
UID:cfp623818-D@wikicfp.com
END:VEVENT
BEGIN:VEVENT
DTSTAMP:20260423T201512Z
DTSTART;VALUE=DATE:20161225
SUMMARY:WorldCIST 2017 Notification Due
DESCRIPTION:WorldCIST'17 - 5th World Conference on Information Systems an
 d Technologies (Published by Springer)
URL:http://www.wikicfp.com/cfp/servlet/event.showcfp?eventid=57896&copyow
 nerid=92285
UID:cfp623818-N@wikicfp.com
END:VEVENT
BEGIN:VEVENT
DTSTAMP:20260423T201512Z
DTSTART;VALUE=DATE:20170108
SUMMARY:WorldCIST 2017 Final Version Due
DESCRIPTION:WorldCIST'17 - 5th World Conference on Information Systems an
 d Technologies (Published by Springer)
URL:http://www.wikicfp.com/cfp/servlet/event.showcfp?eventid=57896&copyow
 nerid=92285
UID:cfp623818-N@wikicfp.com
END:VEVENT
BEGIN:VEVENT
DTSTAMP:20260423T201512Z
DTSTART;VALUE=DATE:20170411
DTEND;VALUE=DATE:20170414
SUMMARY:WorldCIST 2017
DESCRIPTION:5th World Conference on Information Systems and Technologies 
 (Published by Springer)
URL:http://www.wikicfp.com/cfp/servlet/event.showcfp?eventid=58044&copyow
 nerid=92285
UID:cfp625060-E@wikicfp.com
END:VEVENT
BEGIN:VEVENT
DTSTAMP:20260423T201512Z
DTSTART;VALUE=DATE:20161113
SUMMARY:WorldCIST 2017 Deadline
DESCRIPTION:5th World Conference on Information Systems and Technologies 
 (Published by Springer)
URL:http://www.wikicfp.com/cfp/servlet/event.showcfp?eventid=58044&copyow
 nerid=92285
UID:cfp625060-D@wikicfp.com
END:VEVENT
BEGIN:VEVENT
DTSTAMP:20260423T201512Z
DTSTART;VALUE=DATE:20161225
SUMMARY:WorldCIST 2017 Notification Due
DESCRIPTION:5th World Conference on Information Systems and Technologies 
 (Published by Springer)
URL:http://www.wikicfp.com/cfp/servlet/event.showcfp?eventid=58044&copyow
 nerid=92285
UID:cfp625060-N@wikicfp.com
END:VEVENT
BEGIN:VEVENT
DTSTAMP:20260423T201512Z
DTSTART;VALUE=DATE:20170108
SUMMARY:WorldCIST 2017 Final Version Due
DESCRIPTION:5th World Conference on Information Systems and Technologies 
 (Published by Springer)
URL:http://www.wikicfp.com/cfp/servlet/event.showcfp?eventid=58044&copyow
 nerid=92285
UID:cfp625060-N@wikicfp.com
END:VEVENT
END:VCALENDAR
