BEGIN:VCALENDAR
PRODID:-//WikiCFP//KadriK 1.0//EN
VERSION:2.0
CALSCALE:GREGORIAN
BEGIN:VEVENT
DTSTAMP:20260420T183305Z
DTSTART;VALUE=DATE:20170206
DTEND;VALUE=DATE:20170209
SUMMARY:INTCESS 2017
DESCRIPTION:4th International Conference on Education and Social Sciences
 
URL:http://www.wikicfp.com/cfp/servlet/event.showcfp?eventid=57063&copyow
 nerid=91902
UID:cfp621963-E@wikicfp.com
END:VEVENT
BEGIN:VEVENT
DTSTAMP:20260420T183305Z
DTSTART;VALUE=DATE:20161119
SUMMARY:INTCESS 2017 Deadline
DESCRIPTION:4th International Conference on Education and Social Sciences
 
URL:http://www.wikicfp.com/cfp/servlet/event.showcfp?eventid=57063&copyow
 nerid=91902
UID:cfp621963-D@wikicfp.com
END:VEVENT
BEGIN:VEVENT
DTSTAMP:20260420T183305Z
DTSTART;VALUE=DATE:20170421
DTEND;VALUE=DATE:20170424
SUMMARY:CSEDU 2017
DESCRIPTION:9th International Conference on Computer Supported Education
URL:http://www.wikicfp.com/cfp/servlet/event.showcfp?eventid=56448&copyow
 nerid=91902
UID:cfp621960-E@wikicfp.com
END:VEVENT
BEGIN:VEVENT
DTSTAMP:20260420T183305Z
DTSTART;VALUE=DATE:20161128
SUMMARY:CSEDU 2017 Deadline
DESCRIPTION:9th International Conference on Computer Supported Education
URL:http://www.wikicfp.com/cfp/servlet/event.showcfp?eventid=56448&copyow
 nerid=91902
UID:cfp621960-D@wikicfp.com
END:VEVENT
BEGIN:VEVENT
DTSTAMP:20260420T183305Z
DTSTART;VALUE=DATE:20170130
SUMMARY:CSEDU 2017 Notification Due
DESCRIPTION:9th International Conference on Computer Supported Education
URL:http://www.wikicfp.com/cfp/servlet/event.showcfp?eventid=56448&copyow
 nerid=91902
UID:cfp621960-N@wikicfp.com
END:VEVENT
BEGIN:VEVENT
DTSTAMP:20260420T183305Z
DTSTART;VALUE=DATE:20170213
SUMMARY:CSEDU 2017 Final Version Due
DESCRIPTION:9th International Conference on Computer Supported Education
URL:http://www.wikicfp.com/cfp/servlet/event.showcfp?eventid=56448&copyow
 nerid=91902
UID:cfp621960-N@wikicfp.com
END:VEVENT
BEGIN:VEVENT
DTSTAMP:20260420T183305Z
DTSTART;VALUE=DATE:20170306
DTEND;VALUE=DATE:20170309
SUMMARY:INTED 2017
DESCRIPTION:11th annual Technology\, Education and Development Conference
 
URL:http://www.wikicfp.com/cfp/servlet/event.showcfp?eventid=56884&copyow
 nerid=91902
UID:cfp621647-E@wikicfp.com
END:VEVENT
BEGIN:VEVENT
DTSTAMP:20260420T183305Z
DTSTART;VALUE=DATE:20161201
SUMMARY:INTED 2017 Deadline
DESCRIPTION:11th annual Technology\, Education and Development Conference
 
URL:http://www.wikicfp.com/cfp/servlet/event.showcfp?eventid=56884&copyow
 nerid=91902
UID:cfp621647-D@wikicfp.com
END:VEVENT
BEGIN:VEVENT
DTSTAMP:20260420T183305Z
DTSTART;VALUE=DATE:20161226
SUMMARY:INTED 2017 Notification Due
DESCRIPTION:11th annual Technology\, Education and Development Conference
 
URL:http://www.wikicfp.com/cfp/servlet/event.showcfp?eventid=56884&copyow
 nerid=91902
UID:cfp621647-N@wikicfp.com
END:VEVENT
BEGIN:VEVENT
DTSTAMP:20260420T183305Z
DTSTART;VALUE=DATE:20170119
SUMMARY:INTED 2017 Final Version Due
DESCRIPTION:11th annual Technology\, Education and Development Conference
 
URL:http://www.wikicfp.com/cfp/servlet/event.showcfp?eventid=56884&copyow
 nerid=91902
UID:cfp621647-N@wikicfp.com
END:VEVENT
BEGIN:VEVENT
DTSTAMP:20260420T183305Z
DTSTART;VALUE=DATE:20170424
DTEND;VALUE=DATE:20170428
SUMMARY:IICE 2017
DESCRIPTION:Ireland International Conference on Education 
URL:http://www.wikicfp.com/cfp/servlet/event.showcfp?eventid=57582&copyow
 nerid=91902
UID:cfp621646-E@wikicfp.com
END:VEVENT
BEGIN:VEVENT
DTSTAMP:20260420T183305Z
DTSTART;VALUE=DATE:20161201
SUMMARY:IICE 2017 Abstract Due
DESCRIPTION:Ireland International Conference on Education 
URL:http://www.wikicfp.com/cfp/servlet/event.showcfp?eventid=57582&copyow
 nerid=91902
UID:cfp621646-A@wikicfp.com
END:VEVENT
BEGIN:VEVENT
DTSTAMP:20260420T183305Z
DTSTART;VALUE=DATE:20161220
SUMMARY:IICE 2017 Deadline
DESCRIPTION:Ireland International Conference on Education 
URL:http://www.wikicfp.com/cfp/servlet/event.showcfp?eventid=57582&copyow
 nerid=91902
UID:cfp621646-D@wikicfp.com
END:VEVENT
BEGIN:VEVENT
DTSTAMP:20260420T183305Z
DTSTART;VALUE=DATE:20170105
SUMMARY:IICE 2017 Notification Due
DESCRIPTION:Ireland International Conference on Education 
URL:http://www.wikicfp.com/cfp/servlet/event.showcfp?eventid=57582&copyow
 nerid=91902
UID:cfp621646-N@wikicfp.com
END:VEVENT
BEGIN:VEVENT
DTSTAMP:20260420T183305Z
DTSTART;VALUE=DATE:20170215
SUMMARY:IICE 2017 Final Version Due
DESCRIPTION:Ireland International Conference on Education 
URL:http://www.wikicfp.com/cfp/servlet/event.showcfp?eventid=57582&copyow
 nerid=91902
UID:cfp621646-N@wikicfp.com
END:VEVENT
BEGIN:VEVENT
DTSTAMP:20260420T183305Z
DTSTART;VALUE=DATE:20170307
DTEND;VALUE=DATE:20170311
SUMMARY:ICEIT 2017
DESCRIPTION:2017 6th International Conference on Educational and Informat
 ion Technology (ICEIT 2017)
URL:http://www.wikicfp.com/cfp/servlet/event.showcfp?eventid=56412&copyow
 nerid=91902
UID:cfp621961-E@wikicfp.com
END:VEVENT
BEGIN:VEVENT
DTSTAMP:20260420T183305Z
DTSTART;VALUE=DATE:20161230
SUMMARY:ICEIT 2017 Deadline
DESCRIPTION:2017 6th International Conference on Educational and Informat
 ion Technology (ICEIT 2017)
URL:http://www.wikicfp.com/cfp/servlet/event.showcfp?eventid=56412&copyow
 nerid=91902
UID:cfp621961-D@wikicfp.com
END:VEVENT
BEGIN:VEVENT
DTSTAMP:20260420T183305Z
DTSTART;VALUE=DATE:20170621
DTEND;VALUE=DATE:20170624
SUMMARY:PAAMS 2017
DESCRIPTION:15th International Conference on Practical Applications of Ag
 ents and Multi-Agent Systems
URL:http://www.wikicfp.com/cfp/servlet/event.showcfp?eventid=57158&copyow
 nerid=91902
UID:cfp621645-E@wikicfp.com
END:VEVENT
BEGIN:VEVENT
DTSTAMP:20260420T183305Z
DTSTART;VALUE=DATE:20170130
SUMMARY:PAAMS 2017 Deadline
DESCRIPTION:15th International Conference on Practical Applications of Ag
 ents and Multi-Agent Systems
URL:http://www.wikicfp.com/cfp/servlet/event.showcfp?eventid=57158&copyow
 nerid=91902
UID:cfp621645-D@wikicfp.com
END:VEVENT
BEGIN:VEVENT
DTSTAMP:20260420T183305Z
DTSTART;VALUE=DATE:20170313
SUMMARY:PAAMS 2017 Notification Due
DESCRIPTION:15th International Conference on Practical Applications of Ag
 ents and Multi-Agent Systems
URL:http://www.wikicfp.com/cfp/servlet/event.showcfp?eventid=57158&copyow
 nerid=91902
UID:cfp621645-N@wikicfp.com
END:VEVENT
BEGIN:VEVENT
DTSTAMP:20260420T183305Z
DTSTART;VALUE=DATE:20170302
SUMMARY:PAAMS 2017 Final Version Due
DESCRIPTION:15th International Conference on Practical Applications of Ag
 ents and Multi-Agent Systems
URL:http://www.wikicfp.com/cfp/servlet/event.showcfp?eventid=57158&copyow
 nerid=91902
UID:cfp621645-N@wikicfp.com
END:VEVENT
BEGIN:VEVENT
DTSTAMP:20260420T183305Z
DTSTART;VALUE=DATE:20170629
DTEND;VALUE=DATE:20170703
SUMMARY:ECE 2017
DESCRIPTION:The European Conference on Education 2017
URL:http://www.wikicfp.com/cfp/servlet/event.showcfp?eventid=57397&copyow
 nerid=91902
UID:cfp621648-E@wikicfp.com
END:VEVENT
BEGIN:VEVENT
DTSTAMP:20260420T183305Z
DTSTART;VALUE=DATE:20170216
SUMMARY:ECE 2017 Deadline
DESCRIPTION:The European Conference on Education 2017
URL:http://www.wikicfp.com/cfp/servlet/event.showcfp?eventid=57397&copyow
 nerid=91902
UID:cfp621648-D@wikicfp.com
END:VEVENT
BEGIN:VEVENT
DTSTAMP:20260420T183305Z
DTSTART;VALUE=DATE:20170802
SUMMARY:ECE 2017 Final Version Due
DESCRIPTION:The European Conference on Education 2017
URL:http://www.wikicfp.com/cfp/servlet/event.showcfp?eventid=57397&copyow
 nerid=91902
UID:cfp621648-N@wikicfp.com
END:VEVENT
END:VCALENDAR
