BEGIN:VCALENDAR
PRODID:-//WikiCFP//yanivmd 1.0//EN
VERSION:2.0
CALSCALE:GREGORIAN
BEGIN:VEVENT
DTSTAMP:20260422T154456Z
DTSTART;VALUE=DATE:20170408
DTEND;VALUE=DATE:20170413
SUMMARY:ASPLOS 2017
DESCRIPTION:22nd ACM International Conference on Architectural Support fo
 r Programming Languages and Operating Systems
URL:http://www.wikicfp.com/cfp/servlet/event.showcfp?eventid=55504&copyow
 nerid=90645
UID:cfp613672-E@wikicfp.com
END:VEVENT
BEGIN:VEVENT
DTSTAMP:20260422T154456Z
DTSTART;VALUE=DATE:20160808
SUMMARY:ASPLOS 2017 Abstract Due
DESCRIPTION:22nd ACM International Conference on Architectural Support fo
 r Programming Languages and Operating Systems
URL:http://www.wikicfp.com/cfp/servlet/event.showcfp?eventid=55504&copyow
 nerid=90645
UID:cfp613672-A@wikicfp.com
END:VEVENT
BEGIN:VEVENT
DTSTAMP:20260422T154456Z
DTSTART;VALUE=DATE:20160815
SUMMARY:ASPLOS 2017 Deadline
DESCRIPTION:22nd ACM International Conference on Architectural Support fo
 r Programming Languages and Operating Systems
URL:http://www.wikicfp.com/cfp/servlet/event.showcfp?eventid=55504&copyow
 nerid=90645
UID:cfp613672-D@wikicfp.com
END:VEVENT
BEGIN:VEVENT
DTSTAMP:20260422T154456Z
DTSTART;VALUE=DATE:20161107
SUMMARY:ASPLOS 2017 Notification Due
DESCRIPTION:22nd ACM International Conference on Architectural Support fo
 r Programming Languages and Operating Systems
URL:http://www.wikicfp.com/cfp/servlet/event.showcfp?eventid=55504&copyow
 nerid=90645
UID:cfp613672-N@wikicfp.com
END:VEVENT
BEGIN:VEVENT
DTSTAMP:20260422T154456Z
DTSTART;VALUE=DATE:20170127
SUMMARY:ASPLOS 2017 Final Version Due
DESCRIPTION:22nd ACM International Conference on Architectural Support fo
 r Programming Languages and Operating Systems
URL:http://www.wikicfp.com/cfp/servlet/event.showcfp?eventid=55504&copyow
 nerid=90645
UID:cfp613672-N@wikicfp.com
END:VEVENT
BEGIN:VEVENT
DTSTAMP:20260422T154456Z
DTSTART;VALUE=DATE:20170619
DTEND;VALUE=DATE:20170624
SUMMARY:PLDI 2017
DESCRIPTION:ACM SIGPLAN Symposium on Programming Language Design &Impleme
 ntation
URL:http://www.wikicfp.com/cfp/servlet/event.showcfp?eventid=56258&copyow
 nerid=90645
UID:cfp613671-E@wikicfp.com
END:VEVENT
BEGIN:VEVENT
DTSTAMP:20260422T154456Z
DTSTART;VALUE=DATE:20161115
SUMMARY:PLDI 2017 Deadline
DESCRIPTION:ACM SIGPLAN Symposium on Programming Language Design &Impleme
 ntation
URL:http://www.wikicfp.com/cfp/servlet/event.showcfp?eventid=56258&copyow
 nerid=90645
UID:cfp613671-D@wikicfp.com
END:VEVENT
BEGIN:VEVENT
DTSTAMP:20260422T154456Z
DTSTART;VALUE=DATE:20170412
SUMMARY:PLDI 2017 Notification Due
DESCRIPTION:ACM SIGPLAN Symposium on Programming Language Design &Impleme
 ntation
URL:http://www.wikicfp.com/cfp/servlet/event.showcfp?eventid=56258&copyow
 nerid=90645
UID:cfp613671-N@wikicfp.com
END:VEVENT
END:VCALENDAR
