BEGIN:VCALENDAR
PRODID:-//WikiCFP//fuhaojie0909 1.0//EN
VERSION:2.0
CALSCALE:GREGORIAN
BEGIN:VEVENT
DTSTAMP:20260425T170821Z
DTSTART;VALUE=DATE:20170520
DTEND;VALUE=DATE:20170529
SUMMARY:ICSE 2017
DESCRIPTION:39th International Conference on Software Engineering
URL:http://www.wikicfp.com/cfp/servlet/event.showcfp?eventid=54445&copyow
 nerid=90182
UID:cfp610827-E@wikicfp.com
END:VEVENT
BEGIN:VEVENT
DTSTAMP:20260425T170821Z
DTSTART;VALUE=DATE:20160826
SUMMARY:ICSE 2017 Deadline
DESCRIPTION:39th International Conference on Software Engineering
URL:http://www.wikicfp.com/cfp/servlet/event.showcfp?eventid=54445&copyow
 nerid=90182
UID:cfp610827-D@wikicfp.com
END:VEVENT
BEGIN:VEVENT
DTSTAMP:20260425T170821Z
DTSTART;VALUE=DATE:20161212
SUMMARY:ICSE 2017 Notification Due
DESCRIPTION:39th International Conference on Software Engineering
URL:http://www.wikicfp.com/cfp/servlet/event.showcfp?eventid=54445&copyow
 nerid=90182
UID:cfp610827-N@wikicfp.com
END:VEVENT
BEGIN:VEVENT
DTSTAMP:20260425T170821Z
DTSTART;VALUE=DATE:20170213
SUMMARY:ICSE 2017 Final Version Due
DESCRIPTION:39th International Conference on Software Engineering
URL:http://www.wikicfp.com/cfp/servlet/event.showcfp?eventid=54445&copyow
 nerid=90182
UID:cfp610827-N@wikicfp.com
END:VEVENT
BEGIN:VEVENT
DTSTAMP:20260425T170821Z
DTSTART;VALUE=DATE:20170115
DTEND;VALUE=DATE:20170118
SUMMARY:VMCAI 2017
DESCRIPTION:International Conference on Verification\, Model Checking\,an
 d Abstract Interpretation
URL:http://www.wikicfp.com/cfp/servlet/event.showcfp?eventid=56268&copyow
 nerid=90182
UID:cfp610919-E@wikicfp.com
END:VEVENT
BEGIN:VEVENT
DTSTAMP:20260425T170821Z
DTSTART;VALUE=DATE:20160918
SUMMARY:VMCAI 2017 Abstract Due
DESCRIPTION:International Conference on Verification\, Model Checking\,an
 d Abstract Interpretation
URL:http://www.wikicfp.com/cfp/servlet/event.showcfp?eventid=56268&copyow
 nerid=90182
UID:cfp610919-A@wikicfp.com
END:VEVENT
BEGIN:VEVENT
DTSTAMP:20260425T170821Z
DTSTART;VALUE=DATE:20160921
SUMMARY:VMCAI 2017 Deadline
DESCRIPTION:International Conference on Verification\, Model Checking\,an
 d Abstract Interpretation
URL:http://www.wikicfp.com/cfp/servlet/event.showcfp?eventid=56268&copyow
 nerid=90182
UID:cfp610919-D@wikicfp.com
END:VEVENT
BEGIN:VEVENT
DTSTAMP:20260425T170821Z
DTSTART;VALUE=DATE:20161114
SUMMARY:VMCAI 2017 Notification Due
DESCRIPTION:International Conference on Verification\, Model Checking\,an
 d Abstract Interpretation
URL:http://www.wikicfp.com/cfp/servlet/event.showcfp?eventid=56268&copyow
 nerid=90182
UID:cfp610919-N@wikicfp.com
END:VEVENT
BEGIN:VEVENT
DTSTAMP:20260425T170821Z
DTSTART;VALUE=DATE:20170220
DTEND;VALUE=DATE:20170225
SUMMARY:SANER 2017
DESCRIPTION:24th IEEE International Conference on Software Analysis\, Evo
 lution\, and Reengineering
URL:http://www.wikicfp.com/cfp/servlet/event.showcfp?eventid=50488&copyow
 nerid=90182
UID:cfp610920-E@wikicfp.com
END:VEVENT
BEGIN:VEVENT
DTSTAMP:20260425T170821Z
DTSTART;VALUE=DATE:20161012
SUMMARY:SANER 2017 Abstract Due
DESCRIPTION:24th IEEE International Conference on Software Analysis\, Evo
 lution\, and Reengineering
URL:http://www.wikicfp.com/cfp/servlet/event.showcfp?eventid=50488&copyow
 nerid=90182
UID:cfp610920-A@wikicfp.com
END:VEVENT
BEGIN:VEVENT
DTSTAMP:20260425T170821Z
DTSTART;VALUE=DATE:20161017
SUMMARY:SANER 2017 Deadline
DESCRIPTION:24th IEEE International Conference on Software Analysis\, Evo
 lution\, and Reengineering
URL:http://www.wikicfp.com/cfp/servlet/event.showcfp?eventid=50488&copyow
 nerid=90182
UID:cfp610920-D@wikicfp.com
END:VEVENT
BEGIN:VEVENT
DTSTAMP:20260425T170821Z
DTSTART;VALUE=DATE:20161123
SUMMARY:SANER 2017 Notification Due
DESCRIPTION:24th IEEE International Conference on Software Analysis\, Evo
 lution\, and Reengineering
URL:http://www.wikicfp.com/cfp/servlet/event.showcfp?eventid=50488&copyow
 nerid=90182
UID:cfp610920-N@wikicfp.com
END:VEVENT
BEGIN:VEVENT
DTSTAMP:20260425T170821Z
DTSTART;VALUE=DATE:20170422
DTEND;VALUE=DATE:20170430
SUMMARY:ETAPS 2017
DESCRIPTION:European Joint Conferences on Theory and Practice of software
 
URL:http://www.wikicfp.com/cfp/servlet/event.showcfp?eventid=56269&copyow
 nerid=90182
UID:cfp610921-E@wikicfp.com
END:VEVENT
BEGIN:VEVENT
DTSTAMP:20260425T170821Z
DTSTART;VALUE=DATE:20161014
SUMMARY:ETAPS 2017 Abstract Due
DESCRIPTION:European Joint Conferences on Theory and Practice of software
 
URL:http://www.wikicfp.com/cfp/servlet/event.showcfp?eventid=56269&copyow
 nerid=90182
UID:cfp610921-A@wikicfp.com
END:VEVENT
BEGIN:VEVENT
DTSTAMP:20260425T170821Z
DTSTART;VALUE=DATE:20161021
SUMMARY:ETAPS 2017 Deadline
DESCRIPTION:European Joint Conferences on Theory and Practice of software
 
URL:http://www.wikicfp.com/cfp/servlet/event.showcfp?eventid=56269&copyow
 nerid=90182
UID:cfp610921-D@wikicfp.com
END:VEVENT
BEGIN:VEVENT
DTSTAMP:20260425T170821Z
DTSTART;VALUE=DATE:20161222
SUMMARY:ETAPS 2017 Notification Due
DESCRIPTION:European Joint Conferences on Theory and Practice of software
 
URL:http://www.wikicfp.com/cfp/servlet/event.showcfp?eventid=56269&copyow
 nerid=90182
UID:cfp610921-N@wikicfp.com
END:VEVENT
BEGIN:VEVENT
DTSTAMP:20260425T170821Z
DTSTART;VALUE=DATE:20170619
DTEND;VALUE=DATE:20170624
SUMMARY:PLDI 2017
DESCRIPTION:ACM SIGPLAN Symposium on Programming Language Design &Impleme
 ntation
URL:http://www.wikicfp.com/cfp/servlet/event.showcfp?eventid=56258&copyow
 nerid=90182
UID:cfp610828-E@wikicfp.com
END:VEVENT
BEGIN:VEVENT
DTSTAMP:20260425T170821Z
DTSTART;VALUE=DATE:20161115
SUMMARY:PLDI 2017 Deadline
DESCRIPTION:ACM SIGPLAN Symposium on Programming Language Design &Impleme
 ntation
URL:http://www.wikicfp.com/cfp/servlet/event.showcfp?eventid=56258&copyow
 nerid=90182
UID:cfp610828-D@wikicfp.com
END:VEVENT
BEGIN:VEVENT
DTSTAMP:20260425T170821Z
DTSTART;VALUE=DATE:20170412
SUMMARY:PLDI 2017 Notification Due
DESCRIPTION:ACM SIGPLAN Symposium on Programming Language Design &Impleme
 ntation
URL:http://www.wikicfp.com/cfp/servlet/event.showcfp?eventid=56258&copyow
 nerid=90182
UID:cfp610828-N@wikicfp.com
END:VEVENT
BEGIN:VEVENT
DTSTAMP:20260425T170821Z
DTSTART;VALUE=DATE:20170612
DTEND;VALUE=DATE:20170617
SUMMARY:CAiSE 2017
DESCRIPTION:Conference on Advanced Information Systems Engineering
URL:http://www.wikicfp.com/cfp/servlet/event.showcfp?eventid=55958&copyow
 nerid=90182
UID:cfp610922-E@wikicfp.com
END:VEVENT
BEGIN:VEVENT
DTSTAMP:20260425T170821Z
DTSTART;VALUE=DATE:20161128
SUMMARY:CAiSE 2017 Abstract Due
DESCRIPTION:Conference on Advanced Information Systems Engineering
URL:http://www.wikicfp.com/cfp/servlet/event.showcfp?eventid=55958&copyow
 nerid=90182
UID:cfp610922-A@wikicfp.com
END:VEVENT
BEGIN:VEVENT
DTSTAMP:20260425T170821Z
DTSTART;VALUE=DATE:20161204
SUMMARY:CAiSE 2017 Deadline
DESCRIPTION:Conference on Advanced Information Systems Engineering
URL:http://www.wikicfp.com/cfp/servlet/event.showcfp?eventid=55958&copyow
 nerid=90182
UID:cfp610922-D@wikicfp.com
END:VEVENT
BEGIN:VEVENT
DTSTAMP:20260425T170821Z
DTSTART;VALUE=DATE:20170212
SUMMARY:CAiSE 2017 Notification Due
DESCRIPTION:Conference on Advanced Information Systems Engineering
URL:http://www.wikicfp.com/cfp/servlet/event.showcfp?eventid=55958&copyow
 nerid=90182
UID:cfp610922-N@wikicfp.com
END:VEVENT
BEGIN:VEVENT
DTSTAMP:20260425T170821Z
DTSTART;VALUE=DATE:20170520
DTEND;VALUE=DATE:20170529
SUMMARY:ICPC 2017
DESCRIPTION:International Conference on Program Comprehension
URL:http://www.wikicfp.com/cfp/servlet/event.showcfp?eventid=54632&copyow
 nerid=90182
UID:cfp610923-E@wikicfp.com
END:VEVENT
BEGIN:VEVENT
DTSTAMP:20260425T170821Z
DTSTART;VALUE=DATE:20161212
SUMMARY:ICPC 2017 Abstract Due
DESCRIPTION:International Conference on Program Comprehension
URL:http://www.wikicfp.com/cfp/servlet/event.showcfp?eventid=54632&copyow
 nerid=90182
UID:cfp610923-A@wikicfp.com
END:VEVENT
BEGIN:VEVENT
DTSTAMP:20260425T170821Z
DTSTART;VALUE=DATE:20161219
SUMMARY:ICPC 2017 Deadline
DESCRIPTION:International Conference on Program Comprehension
URL:http://www.wikicfp.com/cfp/servlet/event.showcfp?eventid=54632&copyow
 nerid=90182
UID:cfp610923-D@wikicfp.com
END:VEVENT
BEGIN:VEVENT
DTSTAMP:20260425T170821Z
DTSTART;VALUE=DATE:20170130
SUMMARY:ICPC 2017 Notification Due
DESCRIPTION:International Conference on Program Comprehension
URL:http://www.wikicfp.com/cfp/servlet/event.showcfp?eventid=54632&copyow
 nerid=90182
UID:cfp610923-N@wikicfp.com
END:VEVENT
BEGIN:VEVENT
DTSTAMP:20260425T170821Z
DTSTART;VALUE=DATE:20170227
SUMMARY:ICPC 2017 Final Version Due
DESCRIPTION:International Conference on Program Comprehension
URL:http://www.wikicfp.com/cfp/servlet/event.showcfp?eventid=54632&copyow
 nerid=90182
UID:cfp610923-N@wikicfp.com
END:VEVENT
BEGIN:VEVENT
DTSTAMP:20260425T170821Z
DTSTART;VALUE=DATE:20170619
DTEND;VALUE=DATE:20170624
SUMMARY:ECOOP 2017
DESCRIPTION:European Conference on Object-Oriented Programming
URL:http://www.wikicfp.com/cfp/servlet/event.showcfp?eventid=56259&copyow
 nerid=90182
UID:cfp610829-E@wikicfp.com
END:VEVENT
BEGIN:VEVENT
DTSTAMP:20260425T170821Z
DTSTART;VALUE=DATE:20170107
SUMMARY:ECOOP 2017 Abstract Due
DESCRIPTION:European Conference on Object-Oriented Programming
URL:http://www.wikicfp.com/cfp/servlet/event.showcfp?eventid=56259&copyow
 nerid=90182
UID:cfp610829-A@wikicfp.com
END:VEVENT
BEGIN:VEVENT
DTSTAMP:20260425T170821Z
DTSTART;VALUE=DATE:20170113
SUMMARY:ECOOP 2017 Deadline
DESCRIPTION:European Conference on Object-Oriented Programming
URL:http://www.wikicfp.com/cfp/servlet/event.showcfp?eventid=56259&copyow
 nerid=90182
UID:cfp610829-D@wikicfp.com
END:VEVENT
BEGIN:VEVENT
DTSTAMP:20260425T170821Z
DTSTART;VALUE=DATE:20170412
SUMMARY:ECOOP 2017 Notification Due
DESCRIPTION:European Conference on Object-Oriented Programming
URL:http://www.wikicfp.com/cfp/servlet/event.showcfp?eventid=56259&copyow
 nerid=90182
UID:cfp610829-N@wikicfp.com
END:VEVENT
END:VCALENDAR
