BEGIN:VCALENDAR
PRODID:-//WikiCFP//fengjiepku 1.0//EN
VERSION:2.0
CALSCALE:GREGORIAN
BEGIN:VEVENT
DTSTAMP:20260422T105038Z
DTSTART;VALUE=DATE:20170918
DTEND;VALUE=DATE:20170921
SUMMARY:ICIP 2017
DESCRIPTION:International Conference on Image Processing
URL:http://www.wikicfp.com/cfp/servlet/event.showcfp?eventid=53453&copyow
 nerid=89574
UID:cfp607341-E@wikicfp.com
END:VEVENT
BEGIN:VEVENT
DTSTAMP:20260422T105038Z
DTSTART;VALUE=DATE:20160226
DTEND;VALUE=DATE:20160229
SUMMARY:i3D 2016
DESCRIPTION:ACM Symposium on Interactive 3D Graphics
URL:http://www.wikicfp.com/cfp/servlet/event.showcfp?eventid=49294&copyow
 nerid=89574
UID:cfp607340-E@wikicfp.com
END:VEVENT
BEGIN:VEVENT
DTSTAMP:20260422T105038Z
DTSTART;VALUE=DATE:20151030
SUMMARY:i3D 2016 Deadline
DESCRIPTION:ACM Symposium on Interactive 3D Graphics
URL:http://www.wikicfp.com/cfp/servlet/event.showcfp?eventid=49294&copyow
 nerid=89574
UID:cfp607340-D@wikicfp.com
END:VEVENT
BEGIN:VEVENT
DTSTAMP:20260422T105038Z
DTSTART;VALUE=DATE:20151030
SUMMARY:i3D 2016 Notification Due
DESCRIPTION:ACM Symposium on Interactive 3D Graphics
URL:http://www.wikicfp.com/cfp/servlet/event.showcfp?eventid=49294&copyow
 nerid=89574
UID:cfp607340-N@wikicfp.com
END:VEVENT
BEGIN:VEVENT
DTSTAMP:20260422T105038Z
DTSTART;VALUE=DATE:20151030
SUMMARY:i3D 2016 Final Version Due
DESCRIPTION:ACM Symposium on Interactive 3D Graphics
URL:http://www.wikicfp.com/cfp/servlet/event.showcfp?eventid=49294&copyow
 nerid=89574
UID:cfp607340-N@wikicfp.com
END:VEVENT
BEGIN:VEVENT
DTSTAMP:20260422T105038Z
DTSTART;VALUE=DATE:20160626
DTEND;VALUE=DATE:20160702
SUMMARY:CVPR 2016
DESCRIPTION:CVPR 2016
URL:http://www.wikicfp.com/cfp/servlet/event.showcfp?eventid=46133&copyow
 nerid=89574
UID:cfp607349-E@wikicfp.com
END:VEVENT
BEGIN:VEVENT
DTSTAMP:20260422T105038Z
DTSTART;VALUE=DATE:20151106
SUMMARY:CVPR 2016 Deadline
DESCRIPTION:CVPR 2016
URL:http://www.wikicfp.com/cfp/servlet/event.showcfp?eventid=46133&copyow
 nerid=89574
UID:cfp607349-D@wikicfp.com
END:VEVENT
BEGIN:VEVENT
DTSTAMP:20260422T105038Z
DTSTART;VALUE=DATE:20160502
SUMMARY:CVPR 2016 Notification Due
DESCRIPTION:CVPR 2016
URL:http://www.wikicfp.com/cfp/servlet/event.showcfp?eventid=46133&copyow
 nerid=89574
UID:cfp607349-N@wikicfp.com
END:VEVENT
BEGIN:VEVENT
DTSTAMP:20260422T105038Z
DTSTART;VALUE=DATE:20160724
DTEND;VALUE=DATE:20160729
SUMMARY:SIGGRAPH 2016
DESCRIPTION:International Conference on Computer Graphics and Interactive
  Techniques
URL:http://www.wikicfp.com/cfp/servlet/event.showcfp?eventid=51517&copyow
 nerid=89574
UID:cfp607338-E@wikicfp.com
END:VEVENT
BEGIN:VEVENT
DTSTAMP:20260422T105038Z
DTSTART;VALUE=DATE:20160118
SUMMARY:SIGGRAPH 2016 Deadline
DESCRIPTION:International Conference on Computer Graphics and Interactive
  Techniques
URL:http://www.wikicfp.com/cfp/servlet/event.showcfp?eventid=51517&copyow
 nerid=89574
UID:cfp607338-D@wikicfp.com
END:VEVENT
BEGIN:VEVENT
DTSTAMP:20260422T105038Z
DTSTART;VALUE=DATE:20160119
SUMMARY:SIGGRAPH 2016 Final Version Due
DESCRIPTION:International Conference on Computer Graphics and Interactive
  Techniques
URL:http://www.wikicfp.com/cfp/servlet/event.showcfp?eventid=51517&copyow
 nerid=89574
UID:cfp607338-N@wikicfp.com
END:VEVENT
BEGIN:VEVENT
DTSTAMP:20260422T105038Z
DTSTART;VALUE=DATE:20160620
DTEND;VALUE=DATE:20160625
SUMMARY:SPM 2016
DESCRIPTION:Symposium on Solid & Physical Modeling 2016
URL:http://www.wikicfp.com/cfp/servlet/event.showcfp?eventid=52713&copyow
 nerid=89574
UID:cfp607355-E@wikicfp.com
END:VEVENT
BEGIN:VEVENT
DTSTAMP:20260422T105038Z
DTSTART;VALUE=DATE:20160131
SUMMARY:SPM 2016 Abstract Due
DESCRIPTION:Symposium on Solid & Physical Modeling 2016
URL:http://www.wikicfp.com/cfp/servlet/event.showcfp?eventid=52713&copyow
 nerid=89574
UID:cfp607355-A@wikicfp.com
END:VEVENT
BEGIN:VEVENT
DTSTAMP:20260422T105038Z
DTSTART;VALUE=DATE:20160207
SUMMARY:SPM 2016 Deadline
DESCRIPTION:Symposium on Solid & Physical Modeling 2016
URL:http://www.wikicfp.com/cfp/servlet/event.showcfp?eventid=52713&copyow
 nerid=89574
UID:cfp607355-D@wikicfp.com
END:VEVENT
BEGIN:VEVENT
DTSTAMP:20260422T105038Z
DTSTART;VALUE=DATE:20160401
SUMMARY:SPM 2016 Notification Due
DESCRIPTION:Symposium on Solid & Physical Modeling 2016
URL:http://www.wikicfp.com/cfp/servlet/event.showcfp?eventid=52713&copyow
 nerid=89574
UID:cfp607355-N@wikicfp.com
END:VEVENT
BEGIN:VEVENT
DTSTAMP:20260422T105038Z
DTSTART;VALUE=DATE:20160501
SUMMARY:SPM 2016 Final Version Due
DESCRIPTION:Symposium on Solid & Physical Modeling 2016
URL:http://www.wikicfp.com/cfp/servlet/event.showcfp?eventid=52713&copyow
 nerid=89574
UID:cfp607355-N@wikicfp.com
END:VEVENT
BEGIN:VEVENT
DTSTAMP:20260422T105038Z
DTSTART;VALUE=DATE:20160628
DTEND;VALUE=DATE:20160702
SUMMARY:CGI 2016
DESCRIPTION:Computer Graphics International
URL:http://www.wikicfp.com/cfp/servlet/event.showcfp?eventid=51519&copyow
 nerid=89574
UID:cfp607356-E@wikicfp.com
END:VEVENT
BEGIN:VEVENT
DTSTAMP:20260422T105038Z
DTSTART;VALUE=DATE:20160214
SUMMARY:CGI 2016 Deadline
DESCRIPTION:Computer Graphics International
URL:http://www.wikicfp.com/cfp/servlet/event.showcfp?eventid=51519&copyow
 nerid=89574
UID:cfp607356-D@wikicfp.com
END:VEVENT
BEGIN:VEVENT
DTSTAMP:20260422T105038Z
DTSTART;VALUE=DATE:20160325
SUMMARY:CGI 2016 Notification Due
DESCRIPTION:Computer Graphics International
URL:http://www.wikicfp.com/cfp/servlet/event.showcfp?eventid=51519&copyow
 nerid=89574
UID:cfp607356-N@wikicfp.com
END:VEVENT
BEGIN:VEVENT
DTSTAMP:20260422T105038Z
DTSTART;VALUE=DATE:20160408
SUMMARY:CGI 2016 Final Version Due
DESCRIPTION:Computer Graphics International
URL:http://www.wikicfp.com/cfp/servlet/event.showcfp?eventid=51519&copyow
 nerid=89574
UID:cfp607356-N@wikicfp.com
END:VEVENT
BEGIN:VEVENT
DTSTAMP:20260422T105038Z
DTSTART;VALUE=DATE:20160530
DTEND;VALUE=DATE:20160604
SUMMARY:WSCG 2016
DESCRIPTION:24. WSCG Int.Conf. on Computer Graphics\, Visualization and 
URL:http://www.wikicfp.com/cfp/servlet/event.showcfp?eventid=48359&copyow
 nerid=89574
UID:cfp607351-E@wikicfp.com
END:VEVENT
BEGIN:VEVENT
DTSTAMP:20260422T105038Z
DTSTART;VALUE=DATE:20160220
SUMMARY:WSCG 2016 Deadline
DESCRIPTION:24. WSCG Int.Conf. on Computer Graphics\, Visualization and 
URL:http://www.wikicfp.com/cfp/servlet/event.showcfp?eventid=48359&copyow
 nerid=89574
UID:cfp607351-D@wikicfp.com
END:VEVENT
BEGIN:VEVENT
DTSTAMP:20260422T105038Z
DTSTART;VALUE=DATE:20161008
DTEND;VALUE=DATE:20161017
SUMMARY:ECCV 2016
DESCRIPTION:European Conference on Computer Vision
URL:http://www.wikicfp.com/cfp/servlet/event.showcfp?eventid=46142&copyow
 nerid=89574
UID:cfp607350-E@wikicfp.com
END:VEVENT
BEGIN:VEVENT
DTSTAMP:20260422T105038Z
DTSTART;VALUE=DATE:20160314
SUMMARY:ECCV 2016 Deadline
DESCRIPTION:European Conference on Computer Vision
URL:http://www.wikicfp.com/cfp/servlet/event.showcfp?eventid=46142&copyow
 nerid=89574
UID:cfp607350-D@wikicfp.com
END:VEVENT
BEGIN:VEVENT
DTSTAMP:20260422T105038Z
DTSTART;VALUE=DATE:20160701
SUMMARY:ECCV 2016 Notification Due
DESCRIPTION:European Conference on Computer Vision
URL:http://www.wikicfp.com/cfp/servlet/event.showcfp?eventid=46142&copyow
 nerid=89574
UID:cfp607350-N@wikicfp.com
END:VEVENT
BEGIN:VEVENT
DTSTAMP:20260422T105038Z
DTSTART;VALUE=DATE:20160725
SUMMARY:ECCV 2016 Final Version Due
DESCRIPTION:European Conference on Computer Vision
URL:http://www.wikicfp.com/cfp/servlet/event.showcfp?eventid=46142&copyow
 nerid=89574
UID:cfp607350-N@wikicfp.com
END:VEVENT
BEGIN:VEVENT
DTSTAMP:20260422T105038Z
DTSTART;VALUE=DATE:20160620
DTEND;VALUE=DATE:20160625
SUMMARY:SMI 2016
DESCRIPTION:Shape Modeling International
URL:http://www.wikicfp.com/cfp/servlet/event.showcfp?eventid=52711&copyow
 nerid=89574
UID:cfp607354-E@wikicfp.com
END:VEVENT
BEGIN:VEVENT
DTSTAMP:20260422T105038Z
DTSTART;VALUE=DATE:20160314
SUMMARY:SMI 2016 Deadline
DESCRIPTION:Shape Modeling International
URL:http://www.wikicfp.com/cfp/servlet/event.showcfp?eventid=52711&copyow
 nerid=89574
UID:cfp607354-D@wikicfp.com
END:VEVENT
BEGIN:VEVENT
DTSTAMP:20260422T105038Z
DTSTART;VALUE=DATE:20160415
SUMMARY:SMI 2016 Notification Due
DESCRIPTION:Shape Modeling International
URL:http://www.wikicfp.com/cfp/servlet/event.showcfp?eventid=52711&copyow
 nerid=89574
UID:cfp607354-N@wikicfp.com
END:VEVENT
BEGIN:VEVENT
DTSTAMP:20260422T105038Z
DTSTART;VALUE=DATE:20160422
SUMMARY:SMI 2016 Final Version Due
DESCRIPTION:Shape Modeling International
URL:http://www.wikicfp.com/cfp/servlet/event.showcfp?eventid=52711&copyow
 nerid=89574
UID:cfp607354-N@wikicfp.com
END:VEVENT
BEGIN:VEVENT
DTSTAMP:20260422T105038Z
DTSTART;VALUE=DATE:20161204
DTEND;VALUE=DATE:20161209
SUMMARY:ICPR 2016
DESCRIPTION:IAPR International Conference on Pattern Recognition
URL:http://www.wikicfp.com/cfp/servlet/event.showcfp?eventid=47743&copyow
 nerid=89574
UID:cfp607342-E@wikicfp.com
END:VEVENT
BEGIN:VEVENT
DTSTAMP:20260422T105038Z
DTSTART;VALUE=DATE:20160403
SUMMARY:ICPR 2016 Deadline
DESCRIPTION:IAPR International Conference on Pattern Recognition
URL:http://www.wikicfp.com/cfp/servlet/event.showcfp?eventid=47743&copyow
 nerid=89574
UID:cfp607342-D@wikicfp.com
END:VEVENT
BEGIN:VEVENT
DTSTAMP:20260422T105038Z
DTSTART;VALUE=DATE:20160710
SUMMARY:ICPR 2016 Notification Due
DESCRIPTION:IAPR International Conference on Pattern Recognition
URL:http://www.wikicfp.com/cfp/servlet/event.showcfp?eventid=47743&copyow
 nerid=89574
UID:cfp607342-N@wikicfp.com
END:VEVENT
BEGIN:VEVENT
DTSTAMP:20260422T105038Z
DTSTART;VALUE=DATE:20160904
SUMMARY:ICPR 2016 Final Version Due
DESCRIPTION:IAPR International Conference on Pattern Recognition
URL:http://www.wikicfp.com/cfp/servlet/event.showcfp?eventid=47743&copyow
 nerid=89574
UID:cfp607342-N@wikicfp.com
END:VEVENT
BEGIN:VEVENT
DTSTAMP:20260422T105038Z
DTSTART;VALUE=DATE:20161015
DTEND;VALUE=DATE:20161020
SUMMARY:MM 2016
DESCRIPTION:ACM Multimedia Conference
URL:http://www.wikicfp.com/cfp/servlet/event.showcfp?eventid=49972&copyow
 nerid=89574
UID:cfp607358-E@wikicfp.com
END:VEVENT
BEGIN:VEVENT
DTSTAMP:20260422T105038Z
DTSTART;VALUE=DATE:20160327
SUMMARY:MM 2016 Abstract Due
DESCRIPTION:ACM Multimedia Conference
URL:http://www.wikicfp.com/cfp/servlet/event.showcfp?eventid=49972&copyow
 nerid=89574
UID:cfp607358-A@wikicfp.com
END:VEVENT
BEGIN:VEVENT
DTSTAMP:20260422T105038Z
DTSTART;VALUE=DATE:20160403
SUMMARY:MM 2016 Deadline
DESCRIPTION:ACM Multimedia Conference
URL:http://www.wikicfp.com/cfp/servlet/event.showcfp?eventid=49972&copyow
 nerid=89574
UID:cfp607358-D@wikicfp.com
END:VEVENT
BEGIN:VEVENT
DTSTAMP:20260422T105038Z
DTSTART;VALUE=DATE:20160620
DTEND;VALUE=DATE:20160625
SUMMARY:SGP 2016
DESCRIPTION:Symposium on Geometry Processing 2016
URL:http://www.wikicfp.com/cfp/servlet/event.showcfp?eventid=52712&copyow
 nerid=89574
UID:cfp607345-E@wikicfp.com
END:VEVENT
BEGIN:VEVENT
DTSTAMP:20260422T105038Z
DTSTART;VALUE=DATE:20160404
SUMMARY:SGP 2016 Abstract Due
DESCRIPTION:Symposium on Geometry Processing 2016
URL:http://www.wikicfp.com/cfp/servlet/event.showcfp?eventid=52712&copyow
 nerid=89574
UID:cfp607345-A@wikicfp.com
END:VEVENT
BEGIN:VEVENT
DTSTAMP:20260422T105038Z
DTSTART;VALUE=DATE:20160408
SUMMARY:SGP 2016 Deadline
DESCRIPTION:Symposium on Geometry Processing 2016
URL:http://www.wikicfp.com/cfp/servlet/event.showcfp?eventid=52712&copyow
 nerid=89574
UID:cfp607345-D@wikicfp.com
END:VEVENT
BEGIN:VEVENT
DTSTAMP:20260422T105038Z
DTSTART;VALUE=DATE:20160516
SUMMARY:SGP 2016 Notification Due
DESCRIPTION:Symposium on Geometry Processing 2016
URL:http://www.wikicfp.com/cfp/servlet/event.showcfp?eventid=52712&copyow
 nerid=89574
UID:cfp607345-N@wikicfp.com
END:VEVENT
BEGIN:VEVENT
DTSTAMP:20260422T105038Z
DTSTART;VALUE=DATE:20160523
SUMMARY:SGP 2016 Final Version Due
DESCRIPTION:Symposium on Geometry Processing 2016
URL:http://www.wikicfp.com/cfp/servlet/event.showcfp?eventid=52712&copyow
 nerid=89574
UID:cfp607345-N@wikicfp.com
END:VEVENT
BEGIN:VEVENT
DTSTAMP:20260422T105038Z
DTSTART;VALUE=DATE:20161127
DTEND;VALUE=DATE:20161201
SUMMARY:VCIP 2016
DESCRIPTION:International Conference on Visual Communications and Image P
 rocessing
URL:http://www.wikicfp.com/cfp/servlet/event.showcfp?eventid=51810&copyow
 nerid=89574
UID:cfp607352-E@wikicfp.com
END:VEVENT
BEGIN:VEVENT
DTSTAMP:20260422T105038Z
DTSTART;VALUE=DATE:20160425
SUMMARY:VCIP 2016 Deadline
DESCRIPTION:International Conference on Visual Communications and Image P
 rocessing
URL:http://www.wikicfp.com/cfp/servlet/event.showcfp?eventid=51810&copyow
 nerid=89574
UID:cfp607352-D@wikicfp.com
END:VEVENT
BEGIN:VEVENT
DTSTAMP:20260422T105038Z
DTSTART;VALUE=DATE:20160731
SUMMARY:VCIP 2016 Notification Due
DESCRIPTION:International Conference on Visual Communications and Image P
 rocessing
URL:http://www.wikicfp.com/cfp/servlet/event.showcfp?eventid=51810&copyow
 nerid=89574
UID:cfp607352-N@wikicfp.com
END:VEVENT
BEGIN:VEVENT
DTSTAMP:20260422T105038Z
DTSTART;VALUE=DATE:20160819
SUMMARY:VCIP 2016 Final Version Due
DESCRIPTION:International Conference on Visual Communications and Image P
 rocessing
URL:http://www.wikicfp.com/cfp/servlet/event.showcfp?eventid=51810&copyow
 nerid=89574
UID:cfp607352-N@wikicfp.com
END:VEVENT
BEGIN:VEVENT
DTSTAMP:20260422T105038Z
DTSTART;VALUE=DATE:20161121
DTEND;VALUE=DATE:20161124
SUMMARY:ACCV 2016
DESCRIPTION:Asian Conference on Computer Vision
URL:http://www.wikicfp.com/cfp/servlet/event.showcfp?eventid=49975&copyow
 nerid=89574
UID:cfp607353-E@wikicfp.com
END:VEVENT
BEGIN:VEVENT
DTSTAMP:20260422T105038Z
DTSTART;VALUE=DATE:20160527
SUMMARY:ACCV 2016 Deadline
DESCRIPTION:Asian Conference on Computer Vision
URL:http://www.wikicfp.com/cfp/servlet/event.showcfp?eventid=49975&copyow
 nerid=89574
UID:cfp607353-D@wikicfp.com
END:VEVENT
BEGIN:VEVENT
DTSTAMP:20260422T105038Z
DTSTART;VALUE=DATE:20161111
DTEND;VALUE=DATE:20161115
SUMMARY:PG 2016
DESCRIPTION:The 24th Pacific Conference on Computer Graphics and Applicat
 ions
URL:http://www.wikicfp.com/cfp/servlet/event.showcfp?eventid=51467&copyow
 nerid=89574
UID:cfp607357-E@wikicfp.com
END:VEVENT
BEGIN:VEVENT
DTSTAMP:20260422T105038Z
DTSTART;VALUE=DATE:20160527
SUMMARY:PG 2016 Abstract Due
DESCRIPTION:The 24th Pacific Conference on Computer Graphics and Applicat
 ions
URL:http://www.wikicfp.com/cfp/servlet/event.showcfp?eventid=51467&copyow
 nerid=89574
UID:cfp607357-A@wikicfp.com
END:VEVENT
BEGIN:VEVENT
DTSTAMP:20260422T105038Z
DTSTART;VALUE=DATE:20160603
SUMMARY:PG 2016 Deadline
DESCRIPTION:The 24th Pacific Conference on Computer Graphics and Applicat
 ions
URL:http://www.wikicfp.com/cfp/servlet/event.showcfp?eventid=51467&copyow
 nerid=89574
UID:cfp607357-D@wikicfp.com
END:VEVENT
BEGIN:VEVENT
DTSTAMP:20260422T105038Z
DTSTART;VALUE=DATE:20160717
SUMMARY:PG 2016 Notification Due
DESCRIPTION:The 24th Pacific Conference on Computer Graphics and Applicat
 ions
URL:http://www.wikicfp.com/cfp/servlet/event.showcfp?eventid=51467&copyow
 nerid=89574
UID:cfp607357-N@wikicfp.com
END:VEVENT
BEGIN:VEVENT
DTSTAMP:20260422T105038Z
DTSTART;VALUE=DATE:20160816
SUMMARY:PG 2016 Final Version Due
DESCRIPTION:The 24th Pacific Conference on Computer Graphics and Applicat
 ions
URL:http://www.wikicfp.com/cfp/servlet/event.showcfp?eventid=51467&copyow
 nerid=89574
UID:cfp607357-N@wikicfp.com
END:VEVENT
BEGIN:VEVENT
DTSTAMP:20260422T105038Z
DTSTART;VALUE=DATE:20170529
DTEND;VALUE=DATE:20170604
SUMMARY:ICRA 2017
DESCRIPTION:International Conference on Robotics and Automation
URL:http://www.wikicfp.com/cfp/servlet/event.showcfp?eventid=52343&copyow
 nerid=89574
UID:cfp607343-E@wikicfp.com
END:VEVENT
BEGIN:VEVENT
DTSTAMP:20260422T105038Z
DTSTART;VALUE=DATE:20160910
SUMMARY:ICRA 2017 Deadline
DESCRIPTION:International Conference on Robotics and Automation
URL:http://www.wikicfp.com/cfp/servlet/event.showcfp?eventid=52343&copyow
 nerid=89574
UID:cfp607343-D@wikicfp.com
END:VEVENT
BEGIN:VEVENT
DTSTAMP:20260422T105038Z
DTSTART;VALUE=DATE:20170115
SUMMARY:ICRA 2017 Notification Due
DESCRIPTION:International Conference on Robotics and Automation
URL:http://www.wikicfp.com/cfp/servlet/event.showcfp?eventid=52343&copyow
 nerid=89574
UID:cfp607343-N@wikicfp.com
END:VEVENT
BEGIN:VEVENT
DTSTAMP:20260422T105038Z
DTSTART;VALUE=DATE:20170225
SUMMARY:ICRA 2017 Final Version Due
DESCRIPTION:International Conference on Robotics and Automation
URL:http://www.wikicfp.com/cfp/servlet/event.showcfp?eventid=52343&copyow
 nerid=89574
UID:cfp607343-N@wikicfp.com
END:VEVENT
BEGIN:VEVENT
DTSTAMP:20260422T105038Z
DTSTART;VALUE=DATE:20170227
DTEND;VALUE=DATE:20170302
SUMMARY:GRAPP 2017
DESCRIPTION:12th International Conference on Computer Graphics Theory and
  Applications
URL:http://www.wikicfp.com/cfp/servlet/event.showcfp?eventid=55262&copyow
 nerid=89574
UID:cfp607347-E@wikicfp.com
END:VEVENT
BEGIN:VEVENT
DTSTAMP:20260422T105038Z
DTSTART;VALUE=DATE:20161020
SUMMARY:GRAPP 2017 Deadline
DESCRIPTION:12th International Conference on Computer Graphics Theory and
  Applications
URL:http://www.wikicfp.com/cfp/servlet/event.showcfp?eventid=55262&copyow
 nerid=89574
UID:cfp607347-D@wikicfp.com
END:VEVENT
BEGIN:VEVENT
DTSTAMP:20260422T105038Z
DTSTART;VALUE=DATE:20161122
SUMMARY:GRAPP 2017 Notification Due
DESCRIPTION:12th International Conference on Computer Graphics Theory and
  Applications
URL:http://www.wikicfp.com/cfp/servlet/event.showcfp?eventid=55262&copyow
 nerid=89574
UID:cfp607347-N@wikicfp.com
END:VEVENT
BEGIN:VEVENT
DTSTAMP:20260422T105038Z
DTSTART;VALUE=DATE:20151205
SUMMARY:GRAPP 2017 Final Version Due
DESCRIPTION:12th International Conference on Computer Graphics Theory and
  Applications
URL:http://www.wikicfp.com/cfp/servlet/event.showcfp?eventid=55262&copyow
 nerid=89574
UID:cfp607347-N@wikicfp.com
END:VEVENT
END:VCALENDAR
