BEGIN:VCALENDAR
PRODID:-//WikiCFP//ICTAI_malaman 1.0//EN
VERSION:2.0
CALSCALE:GREGORIAN
BEGIN:VEVENT
DTSTAMP:20260423T224705Z
DTSTART;VALUE=DATE:20161106
DTEND;VALUE=DATE:20161109
SUMMARY:ICTAI 2016
DESCRIPTION:IEEE International Conference on Tools with Artificial Intell
 igence
URL:http://www.wikicfp.com/cfp/servlet/event.showcfp?eventid=55552&copyow
 nerid=89409
UID:cfp606432-E@wikicfp.com
END:VEVENT
BEGIN:VEVENT
DTSTAMP:20260423T224705Z
DTSTART;VALUE=DATE:20160716
SUMMARY:ICTAI 2016 Deadline
DESCRIPTION:IEEE International Conference on Tools with Artificial Intell
 igence
URL:http://www.wikicfp.com/cfp/servlet/event.showcfp?eventid=55552&copyow
 nerid=89409
UID:cfp606432-D@wikicfp.com
END:VEVENT
BEGIN:VEVENT
DTSTAMP:20260423T224705Z
DTSTART;VALUE=DATE:20160816
SUMMARY:ICTAI 2016 Notification Due
DESCRIPTION:IEEE International Conference on Tools with Artificial Intell
 igence
URL:http://www.wikicfp.com/cfp/servlet/event.showcfp?eventid=55552&copyow
 nerid=89409
UID:cfp606432-N@wikicfp.com
END:VEVENT
BEGIN:VEVENT
DTSTAMP:20260423T224705Z
DTSTART;VALUE=DATE:20160830
SUMMARY:ICTAI 2016 Final Version Due
DESCRIPTION:IEEE International Conference on Tools with Artificial Intell
 igence
URL:http://www.wikicfp.com/cfp/servlet/event.showcfp?eventid=55552&copyow
 nerid=89409
UID:cfp606432-N@wikicfp.com
END:VEVENT
BEGIN:VEVENT
DTSTAMP:20260423T224705Z
DTSTART;VALUE=DATE:20171106
DTEND;VALUE=DATE:20171109
SUMMARY:IEEE ICTAI 2017
DESCRIPTION:29th IEEE International  Conference on Tools with Artificial 
 Intelligence
URL:http://www.wikicfp.com/cfp/servlet/event.showcfp?eventid=63005&copyow
 nerid=89409
UID:cfp659470-E@wikicfp.com
END:VEVENT
BEGIN:VEVENT
DTSTAMP:20260423T224705Z
DTSTART;VALUE=DATE:20170715
SUMMARY:IEEE ICTAI 2017 Deadline
DESCRIPTION:29th IEEE International  Conference on Tools with Artificial 
 Intelligence
URL:http://www.wikicfp.com/cfp/servlet/event.showcfp?eventid=63005&copyow
 nerid=89409
UID:cfp659470-D@wikicfp.com
END:VEVENT
BEGIN:VEVENT
DTSTAMP:20260423T224705Z
DTSTART;VALUE=DATE:20170815
SUMMARY:IEEE ICTAI 2017 Notification Due
DESCRIPTION:29th IEEE International  Conference on Tools with Artificial 
 Intelligence
URL:http://www.wikicfp.com/cfp/servlet/event.showcfp?eventid=63005&copyow
 nerid=89409
UID:cfp659470-N@wikicfp.com
END:VEVENT
BEGIN:VEVENT
DTSTAMP:20260423T224705Z
DTSTART;VALUE=DATE:20170830
SUMMARY:IEEE ICTAI 2017 Final Version Due
DESCRIPTION:29th IEEE International  Conference on Tools with Artificial 
 Intelligence
URL:http://www.wikicfp.com/cfp/servlet/event.showcfp?eventid=63005&copyow
 nerid=89409
UID:cfp659470-N@wikicfp.com
END:VEVENT
BEGIN:VEVENT
DTSTAMP:20260423T224705Z
DTSTART;VALUE=DATE:20171106
DTEND;VALUE=DATE:20171109
SUMMARY:WAAISC 2017
DESCRIPTION:1st Workshop on Applications of Artificial Intelligence in Sm
 art Cities
URL:http://www.wikicfp.com/cfp/servlet/event.showcfp?eventid=65100&copyow
 nerid=89409
UID:cfp672118-E@wikicfp.com
END:VEVENT
BEGIN:VEVENT
DTSTAMP:20260423T224705Z
DTSTART;VALUE=DATE:20170810
SUMMARY:WAAISC 2017 Deadline
DESCRIPTION:1st Workshop on Applications of Artificial Intelligence in Sm
 art Cities
URL:http://www.wikicfp.com/cfp/servlet/event.showcfp?eventid=65100&copyow
 nerid=89409
UID:cfp672118-D@wikicfp.com
END:VEVENT
BEGIN:VEVENT
DTSTAMP:20260423T224705Z
DTSTART;VALUE=DATE:20170827
SUMMARY:WAAISC 2017 Notification Due
DESCRIPTION:1st Workshop on Applications of Artificial Intelligence in Sm
 art Cities
URL:http://www.wikicfp.com/cfp/servlet/event.showcfp?eventid=65100&copyow
 nerid=89409
UID:cfp672118-N@wikicfp.com
END:VEVENT
BEGIN:VEVENT
DTSTAMP:20260423T224705Z
DTSTART;VALUE=DATE:20181105
DTEND;VALUE=DATE:20181108
SUMMARY:ICTAI 2018
DESCRIPTION:International Conference on Tools with Artificial Intelligenc
 e
URL:http://www.wikicfp.com/cfp/servlet/event.showcfp?eventid=73211&copyow
 nerid=89409
UID:cfp728573-E@wikicfp.com
END:VEVENT
BEGIN:VEVENT
DTSTAMP:20260423T224705Z
DTSTART;VALUE=DATE:20180625
SUMMARY:ICTAI 2018 Deadline
DESCRIPTION:International Conference on Tools with Artificial Intelligenc
 e
URL:http://www.wikicfp.com/cfp/servlet/event.showcfp?eventid=73211&copyow
 nerid=89409
UID:cfp728573-D@wikicfp.com
END:VEVENT
BEGIN:VEVENT
DTSTAMP:20260423T224705Z
DTSTART;VALUE=DATE:20180730
SUMMARY:ICTAI 2018 Notification Due
DESCRIPTION:International Conference on Tools with Artificial Intelligenc
 e
URL:http://www.wikicfp.com/cfp/servlet/event.showcfp?eventid=73211&copyow
 nerid=89409
UID:cfp728573-N@wikicfp.com
END:VEVENT
BEGIN:VEVENT
DTSTAMP:20260423T224705Z
DTSTART;VALUE=DATE:20181105
DTEND;VALUE=DATE:20181108
SUMMARY:AAISC 2018
DESCRIPTION:Applications of Artificial Intelligence in Smart Cities Track
 
URL:http://www.wikicfp.com/cfp/servlet/event.showcfp?eventid=74613&copyow
 nerid=89409
UID:cfp718430-E@wikicfp.com
END:VEVENT
BEGIN:VEVENT
DTSTAMP:20260423T224705Z
DTSTART;VALUE=DATE:20180625
SUMMARY:AAISC 2018 Deadline
DESCRIPTION:Applications of Artificial Intelligence in Smart Cities Track
 
URL:http://www.wikicfp.com/cfp/servlet/event.showcfp?eventid=74613&copyow
 nerid=89409
UID:cfp718430-D@wikicfp.com
END:VEVENT
BEGIN:VEVENT
DTSTAMP:20260423T224705Z
DTSTART;VALUE=DATE:20180730
SUMMARY:AAISC 2018 Notification Due
DESCRIPTION:Applications of Artificial Intelligence in Smart Cities Track
 
URL:http://www.wikicfp.com/cfp/servlet/event.showcfp?eventid=74613&copyow
 nerid=89409
UID:cfp718430-N@wikicfp.com
END:VEVENT
END:VCALENDAR
