BEGIN:VCALENDAR
PRODID:-//WikiCFP//vikimakaroshka 1.0//EN
VERSION:2.0
CALSCALE:GREGORIAN
BEGIN:VEVENT
DTSTAMP:20260422T202341Z
DTSTART;VALUE=DATE:20161215
SUMMARY:CfP:17ICH 2016 Deadline
DESCRIPTION:CfP: The 17th Issue of the ICH (International Crimes and Hist
 ory): Population Movements in the Balkans and the Making of Borders\, St
 ates\, and Identities
URL:http://www.wikicfp.com/cfp/servlet/event.showcfp?eventid=55419&copyow
 nerid=89233
UID:cfp605391-D@wikicfp.com
END:VEVENT
END:VCALENDAR
