BEGIN:VCALENDAR
PRODID:-//WikiCFP//Shreya_92 1.0//EN
VERSION:2.0
CALSCALE:GREGORIAN
BEGIN:VEVENT
DTSTAMP:20260424T140824Z
DTSTART;VALUE=DATE:20160922
DTEND;VALUE=DATE:20160925
SUMMARY:ICSEKD 2016
DESCRIPTION:International Conference on Software Engineering and Knowledg
 e Discovery
URL:http://www.wikicfp.com/cfp/servlet/event.showcfp?eventid=49538&copyow
 nerid=88337
UID:cfp599396-E@wikicfp.com
END:VEVENT
BEGIN:VEVENT
DTSTAMP:20260424T140824Z
DTSTART;VALUE=DATE:20160515
SUMMARY:ICSEKD 2016 Deadline
DESCRIPTION:International Conference on Software Engineering and Knowledg
 e Discovery
URL:http://www.wikicfp.com/cfp/servlet/event.showcfp?eventid=49538&copyow
 nerid=88337
UID:cfp599396-D@wikicfp.com
END:VEVENT
BEGIN:VEVENT
DTSTAMP:20260424T140824Z
DTSTART;VALUE=DATE:20160615
SUMMARY:ICSEKD 2016 Notification Due
DESCRIPTION:International Conference on Software Engineering and Knowledg
 e Discovery
URL:http://www.wikicfp.com/cfp/servlet/event.showcfp?eventid=49538&copyow
 nerid=88337
UID:cfp599396-N@wikicfp.com
END:VEVENT
BEGIN:VEVENT
DTSTAMP:20260424T140824Z
DTSTART;VALUE=DATE:20160701
SUMMARY:ICSEKD 2016 Final Version Due
DESCRIPTION:International Conference on Software Engineering and Knowledg
 e Discovery
URL:http://www.wikicfp.com/cfp/servlet/event.showcfp?eventid=49538&copyow
 nerid=88337
UID:cfp599396-N@wikicfp.com
END:VEVENT
BEGIN:VEVENT
DTSTAMP:20260424T140824Z
DTSTART;VALUE=DATE:20161004
DTEND;VALUE=DATE:20161006
SUMMARY:ISSE 2016
DESCRIPTION:2016 IEEE International Symposium on Systems Engineering
URL:http://www.wikicfp.com/cfp/servlet/event.showcfp?eventid=51487&copyow
 nerid=88337
UID:cfp599397-E@wikicfp.com
END:VEVENT
BEGIN:VEVENT
DTSTAMP:20260424T140824Z
DTSTART;VALUE=DATE:20160515
SUMMARY:ISSE 2016 Deadline
DESCRIPTION:2016 IEEE International Symposium on Systems Engineering
URL:http://www.wikicfp.com/cfp/servlet/event.showcfp?eventid=51487&copyow
 nerid=88337
UID:cfp599397-D@wikicfp.com
END:VEVENT
BEGIN:VEVENT
DTSTAMP:20260424T140824Z
DTSTART;VALUE=DATE:20160624
SUMMARY:ISSE 2016 Notification Due
DESCRIPTION:2016 IEEE International Symposium on Systems Engineering
URL:http://www.wikicfp.com/cfp/servlet/event.showcfp?eventid=51487&copyow
 nerid=88337
UID:cfp599397-N@wikicfp.com
END:VEVENT
BEGIN:VEVENT
DTSTAMP:20260424T140824Z
DTSTART;VALUE=DATE:20160824
SUMMARY:ISSE 2016 Final Version Due
DESCRIPTION:2016 IEEE International Symposium on Systems Engineering
URL:http://www.wikicfp.com/cfp/servlet/event.showcfp?eventid=51487&copyow
 nerid=88337
UID:cfp599397-N@wikicfp.com
END:VEVENT
BEGIN:VEVENT
DTSTAMP:20260424T140824Z
DTSTART;VALUE=DATE:20161109
DTEND;VALUE=DATE:20161112
SUMMARY:SETTA 2016
DESCRIPTION:Symposium on Dependable Software Engineering Theories\, Tools
  and Applications 2016
URL:http://www.wikicfp.com/cfp/servlet/event.showcfp?eventid=52075&copyow
 nerid=88337
UID:cfp599422-E@wikicfp.com
END:VEVENT
BEGIN:VEVENT
DTSTAMP:20260424T140824Z
DTSTART;VALUE=DATE:20160512
SUMMARY:SETTA 2016 Abstract Due
DESCRIPTION:Symposium on Dependable Software Engineering Theories\, Tools
  and Applications 2016
URL:http://www.wikicfp.com/cfp/servlet/event.showcfp?eventid=52075&copyow
 nerid=88337
UID:cfp599422-A@wikicfp.com
END:VEVENT
BEGIN:VEVENT
DTSTAMP:20260424T140824Z
DTSTART;VALUE=DATE:20160519
SUMMARY:SETTA 2016 Deadline
DESCRIPTION:Symposium on Dependable Software Engineering Theories\, Tools
  and Applications 2016
URL:http://www.wikicfp.com/cfp/servlet/event.showcfp?eventid=52075&copyow
 nerid=88337
UID:cfp599422-D@wikicfp.com
END:VEVENT
BEGIN:VEVENT
DTSTAMP:20260424T140824Z
DTSTART;VALUE=DATE:20160715
SUMMARY:SETTA 2016 Notification Due
DESCRIPTION:Symposium on Dependable Software Engineering Theories\, Tools
  and Applications 2016
URL:http://www.wikicfp.com/cfp/servlet/event.showcfp?eventid=52075&copyow
 nerid=88337
UID:cfp599422-N@wikicfp.com
END:VEVENT
BEGIN:VEVENT
DTSTAMP:20260424T140824Z
DTSTART;VALUE=DATE:20160806
SUMMARY:SETTA 2016 Final Version Due
DESCRIPTION:Symposium on Dependable Software Engineering Theories\, Tools
  and Applications 2016
URL:http://www.wikicfp.com/cfp/servlet/event.showcfp?eventid=52075&copyow
 nerid=88337
UID:cfp599422-N@wikicfp.com
END:VEVENT
BEGIN:VEVENT
DTSTAMP:20260424T140824Z
DTSTART;VALUE=DATE:20161124
DTEND;VALUE=DATE:20161126
SUMMARY:ICCASA  2016
DESCRIPTION:5th International Conference on Context-Aware Systems and App
 lications
URL:http://www.wikicfp.com/cfp/servlet/event.showcfp?eventid=50644&copyow
 nerid=88337
UID:cfp599423-E@wikicfp.com
END:VEVENT
BEGIN:VEVENT
DTSTAMP:20260424T140824Z
DTSTART;VALUE=DATE:20160617
SUMMARY:ICCASA  2016 Deadline
DESCRIPTION:5th International Conference on Context-Aware Systems and App
 lications
URL:http://www.wikicfp.com/cfp/servlet/event.showcfp?eventid=50644&copyow
 nerid=88337
UID:cfp599423-D@wikicfp.com
END:VEVENT
BEGIN:VEVENT
DTSTAMP:20260424T140824Z
DTSTART;VALUE=DATE:20160718
SUMMARY:ICCASA  2016 Notification Due
DESCRIPTION:5th International Conference on Context-Aware Systems and App
 lications
URL:http://www.wikicfp.com/cfp/servlet/event.showcfp?eventid=50644&copyow
 nerid=88337
UID:cfp599423-N@wikicfp.com
END:VEVENT
BEGIN:VEVENT
DTSTAMP:20260424T140824Z
DTSTART;VALUE=DATE:20160901
SUMMARY:ICCASA  2016 Final Version Due
DESCRIPTION:5th International Conference on Context-Aware Systems and App
 lications
URL:http://www.wikicfp.com/cfp/servlet/event.showcfp?eventid=50644&copyow
 nerid=88337
UID:cfp599423-N@wikicfp.com
END:VEVENT
END:VCALENDAR
