BEGIN:VCALENDAR
PRODID:-//WikiCFP//MohAnghabo 1.0//EN
VERSION:2.0
CALSCALE:GREGORIAN
BEGIN:VEVENT
DTSTAMP:20260421T194401Z
DTSTART;VALUE=DATE:20210412
DTEND;VALUE=DATE:20210417
SUMMARY:ICST 2021
DESCRIPTION:IEEE International Conference on Software Testing\, Verificat
 ion and Validation 2021
URL:http://www.wikicfp.com/cfp/servlet/event.showcfp?eventid=109804&copyo
 wnerid=88261
UID:cfp851794-E@wikicfp.com
END:VEVENT
BEGIN:VEVENT
DTSTAMP:20260421T194401Z
DTSTART;VALUE=DATE:20201005
SUMMARY:ICST 2021 Abstract Due
DESCRIPTION:IEEE International Conference on Software Testing\, Verificat
 ion and Validation 2021
URL:http://www.wikicfp.com/cfp/servlet/event.showcfp?eventid=109804&copyo
 wnerid=88261
UID:cfp851794-A@wikicfp.com
END:VEVENT
BEGIN:VEVENT
DTSTAMP:20260421T194401Z
DTSTART;VALUE=DATE:20201012
SUMMARY:ICST 2021 Deadline
DESCRIPTION:IEEE International Conference on Software Testing\, Verificat
 ion and Validation 2021
URL:http://www.wikicfp.com/cfp/servlet/event.showcfp?eventid=109804&copyo
 wnerid=88261
UID:cfp851794-D@wikicfp.com
END:VEVENT
BEGIN:VEVENT
DTSTAMP:20260421T194401Z
DTSTART;VALUE=DATE:20201211
SUMMARY:ICST 2021 Notification Due
DESCRIPTION:IEEE International Conference on Software Testing\, Verificat
 ion and Validation 2021
URL:http://www.wikicfp.com/cfp/servlet/event.showcfp?eventid=109804&copyo
 wnerid=88261
UID:cfp851794-N@wikicfp.com
END:VEVENT
BEGIN:VEVENT
DTSTAMP:20260421T194401Z
DTSTART;VALUE=DATE:20210120
SUMMARY:ICST 2021 Final Version Due
DESCRIPTION:IEEE International Conference on Software Testing\, Verificat
 ion and Validation 2021
URL:http://www.wikicfp.com/cfp/servlet/event.showcfp?eventid=109804&copyo
 wnerid=88261
UID:cfp851794-N@wikicfp.com
END:VEVENT
BEGIN:VEVENT
DTSTAMP:20260421T194401Z
DTSTART;VALUE=DATE:20201109
SUMMARY:JISA-CYBER-SEC 2020 Deadline
DESCRIPTION:Special Issue on Trends in Cybersecurity\, Journal of Informa
 tion Security and Applications\, Elsevier
URL:http://www.wikicfp.com/cfp/servlet/event.showcfp?eventid=102249&copyo
 wnerid=88261
UID:cfp851793-D@wikicfp.com
END:VEVENT
BEGIN:VEVENT
DTSTAMP:20260421T194401Z
DTSTART;VALUE=DATE:20210111
SUMMARY:JISA-CYBER-SEC 2020 Notification Due
DESCRIPTION:Special Issue on Trends in Cybersecurity\, Journal of Informa
 tion Security and Applications\, Elsevier
URL:http://www.wikicfp.com/cfp/servlet/event.showcfp?eventid=102249&copyo
 wnerid=88261
UID:cfp851793-N@wikicfp.com
END:VEVENT
END:VCALENDAR
