BEGIN:VCALENDAR
PRODID:-//WikiCFP//stiin 1.0//EN
VERSION:2.0
CALSCALE:GREGORIAN
BEGIN:VEVENT
DTSTAMP:20260421T113907Z
DTSTART;VALUE=DATE:20160828
DTEND;VALUE=DATE:20160905
SUMMARY:ISMW FRUCT 2016
DESCRIPTION:International FRUCT conference on Intelligence\, SoÑial Medi
 a and Web 
URL:http://www.wikicfp.com/cfp/servlet/event.showcfp?eventid=54234&copyow
 nerid=88003
UID:cfp597547-E@wikicfp.com
END:VEVENT
BEGIN:VEVENT
DTSTAMP:20260421T113907Z
DTSTART;VALUE=DATE:20160530
SUMMARY:ISMW FRUCT 2016 Deadline
DESCRIPTION:International FRUCT conference on Intelligence\, SoÑial Medi
 a and Web 
URL:http://www.wikicfp.com/cfp/servlet/event.showcfp?eventid=54234&copyow
 nerid=88003
UID:cfp597547-D@wikicfp.com
END:VEVENT
BEGIN:VEVENT
DTSTAMP:20260421T113907Z
DTSTART;VALUE=DATE:20160710
SUMMARY:ISMW FRUCT 2016 Notification Due
DESCRIPTION:International FRUCT conference on Intelligence\, SoÑial Medi
 a and Web 
URL:http://www.wikicfp.com/cfp/servlet/event.showcfp?eventid=54234&copyow
 nerid=88003
UID:cfp597547-N@wikicfp.com
END:VEVENT
BEGIN:VEVENT
DTSTAMP:20260421T113907Z
DTSTART;VALUE=DATE:20160722
SUMMARY:ISMW FRUCT 2016 Final Version Due
DESCRIPTION:International FRUCT conference on Intelligence\, SoÑial Medi
 a and Web 
URL:http://www.wikicfp.com/cfp/servlet/event.showcfp?eventid=54234&copyow
 nerid=88003
UID:cfp597547-N@wikicfp.com
END:VEVENT
BEGIN:VEVENT
DTSTAMP:20260421T113907Z
DTSTART;VALUE=DATE:20180517
DTEND;VALUE=DATE:20180519
SUMMARY:ISMW 2018
DESCRIPTION:22nd FRUCT Conference - Seminar on Intelligence\, Social Medi
 a and Web
URL:http://www.wikicfp.com/cfp/servlet/event.showcfp?eventid=70862&copyow
 nerid=88003
UID:cfp700278-E@wikicfp.com
END:VEVENT
BEGIN:VEVENT
DTSTAMP:20260421T113907Z
DTSTART;VALUE=DATE:20180302
SUMMARY:ISMW 2018 Deadline
DESCRIPTION:22nd FRUCT Conference - Seminar on Intelligence\, Social Medi
 a and Web
URL:http://www.wikicfp.com/cfp/servlet/event.showcfp?eventid=70862&copyow
 nerid=88003
UID:cfp700278-D@wikicfp.com
END:VEVENT
BEGIN:VEVENT
DTSTAMP:20260421T113907Z
DTSTART;VALUE=DATE:20180319
SUMMARY:ISMW 2018 Notification Due
DESCRIPTION:22nd FRUCT Conference - Seminar on Intelligence\, Social Medi
 a and Web
URL:http://www.wikicfp.com/cfp/servlet/event.showcfp?eventid=70862&copyow
 nerid=88003
UID:cfp700278-N@wikicfp.com
END:VEVENT
BEGIN:VEVENT
DTSTAMP:20260421T113907Z
DTSTART;VALUE=DATE:20180326
SUMMARY:ISMW 2018 Final Version Due
DESCRIPTION:22nd FRUCT Conference - Seminar on Intelligence\, Social Medi
 a and Web
URL:http://www.wikicfp.com/cfp/servlet/event.showcfp?eventid=70862&copyow
 nerid=88003
UID:cfp700278-N@wikicfp.com
END:VEVENT
BEGIN:VEVENT
DTSTAMP:20260421T113907Z
DTSTART;VALUE=DATE:20180820
DTEND;VALUE=DATE:20180826
SUMMARY:COLING 2018
DESCRIPTION:The 27th International Conference on Computational Linguistic
 s (COLING 2018) 
URL:http://www.wikicfp.com/cfp/servlet/event.showcfp?eventid=67398&copyow
 nerid=88003
UID:cfp702055-E@wikicfp.com
END:VEVENT
BEGIN:VEVENT
DTSTAMP:20260421T113907Z
DTSTART;VALUE=DATE:20180316
SUMMARY:COLING 2018 Deadline
DESCRIPTION:The 27th International Conference on Computational Linguistic
 s (COLING 2018) 
URL:http://www.wikicfp.com/cfp/servlet/event.showcfp?eventid=67398&copyow
 nerid=88003
UID:cfp702055-D@wikicfp.com
END:VEVENT
BEGIN:VEVENT
DTSTAMP:20260421T113907Z
DTSTART;VALUE=DATE:20180517
SUMMARY:COLING 2018 Notification Due
DESCRIPTION:The 27th International Conference on Computational Linguistic
 s (COLING 2018) 
URL:http://www.wikicfp.com/cfp/servlet/event.showcfp?eventid=67398&copyow
 nerid=88003
UID:cfp702055-N@wikicfp.com
END:VEVENT
BEGIN:VEVENT
DTSTAMP:20260421T113907Z
DTSTART;VALUE=DATE:20180611
SUMMARY:COLING 2018 Final Version Due
DESCRIPTION:The 27th International Conference on Computational Linguistic
 s (COLING 2018) 
URL:http://www.wikicfp.com/cfp/servlet/event.showcfp?eventid=67398&copyow
 nerid=88003
UID:cfp702055-N@wikicfp.com
END:VEVENT
BEGIN:VEVENT
DTSTAMP:20260421T113907Z
DTSTART;VALUE=DATE:20181115
DTEND;VALUE=DATE:20181117
SUMMARY:ISMW 2018
DESCRIPTION:23rd FRUCT Conference: Seminar on Intelligence\, Social Media
  and Web
URL:http://www.wikicfp.com/cfp/servlet/event.showcfp?eventid=77614&copyow
 nerid=88003
UID:cfp730325-E@wikicfp.com
END:VEVENT
BEGIN:VEVENT
DTSTAMP:20260421T113907Z
DTSTART;VALUE=DATE:20180914
SUMMARY:ISMW 2018 Deadline
DESCRIPTION:23rd FRUCT Conference: Seminar on Intelligence\, Social Media
  and Web
URL:http://www.wikicfp.com/cfp/servlet/event.showcfp?eventid=77614&copyow
 nerid=88003
UID:cfp730325-D@wikicfp.com
END:VEVENT
BEGIN:VEVENT
DTSTAMP:20260421T113907Z
DTSTART;VALUE=DATE:20181005
SUMMARY:ISMW 2018 Notification Due
DESCRIPTION:23rd FRUCT Conference: Seminar on Intelligence\, Social Media
  and Web
URL:http://www.wikicfp.com/cfp/servlet/event.showcfp?eventid=77614&copyow
 nerid=88003
UID:cfp730325-N@wikicfp.com
END:VEVENT
BEGIN:VEVENT
DTSTAMP:20260421T113907Z
DTSTART;VALUE=DATE:20181012
SUMMARY:ISMW 2018 Final Version Due
DESCRIPTION:23rd FRUCT Conference: Seminar on Intelligence\, Social Media
  and Web
URL:http://www.wikicfp.com/cfp/servlet/event.showcfp?eventid=77614&copyow
 nerid=88003
UID:cfp730325-N@wikicfp.com
END:VEVENT
BEGIN:VEVENT
DTSTAMP:20260421T113907Z
DTSTART;VALUE=DATE:20191107
DTEND;VALUE=DATE:20191109
SUMMARY:ISMW 2019
DESCRIPTION:25th IEEE FRUCT Conference: Seminar on Intelligence\, Social 
 Media and Web
URL:http://www.wikicfp.com/cfp/servlet/event.showcfp?eventid=91035&copyow
 nerid=88003
UID:cfp792827-E@wikicfp.com
END:VEVENT
BEGIN:VEVENT
DTSTAMP:20260421T113907Z
DTSTART;VALUE=DATE:20190916
SUMMARY:ISMW 2019 Deadline
DESCRIPTION:25th IEEE FRUCT Conference: Seminar on Intelligence\, Social 
 Media and Web
URL:http://www.wikicfp.com/cfp/servlet/event.showcfp?eventid=91035&copyow
 nerid=88003
UID:cfp792827-D@wikicfp.com
END:VEVENT
BEGIN:VEVENT
DTSTAMP:20260421T113907Z
DTSTART;VALUE=DATE:20191007
SUMMARY:ISMW 2019 Notification Due
DESCRIPTION:25th IEEE FRUCT Conference: Seminar on Intelligence\, Social 
 Media and Web
URL:http://www.wikicfp.com/cfp/servlet/event.showcfp?eventid=91035&copyow
 nerid=88003
UID:cfp792827-N@wikicfp.com
END:VEVENT
BEGIN:VEVENT
DTSTAMP:20260421T113907Z
DTSTART;VALUE=DATE:20191014
SUMMARY:ISMW 2019 Final Version Due
DESCRIPTION:25th IEEE FRUCT Conference: Seminar on Intelligence\, Social 
 Media and Web
URL:http://www.wikicfp.com/cfp/servlet/event.showcfp?eventid=91035&copyow
 nerid=88003
UID:cfp792827-N@wikicfp.com
END:VEVENT
BEGIN:VEVENT
DTSTAMP:20260421T113907Z
DTSTART;VALUE=DATE:20200423
DTEND;VALUE=DATE:20200425
SUMMARY:ISMW (FRUCT'26) 2020
DESCRIPTION:FRUCT'26 session on Intelligence\, Social Media and Web
URL:http://www.wikicfp.com/cfp/servlet/event.showcfp?eventid=99237&copyow
 nerid=88003
UID:cfp825369-E@wikicfp.com
END:VEVENT
BEGIN:VEVENT
DTSTAMP:20260421T113907Z
DTSTART;VALUE=DATE:20200228
SUMMARY:ISMW (FRUCT'26) 2020 Deadline
DESCRIPTION:FRUCT'26 session on Intelligence\, Social Media and Web
URL:http://www.wikicfp.com/cfp/servlet/event.showcfp?eventid=99237&copyow
 nerid=88003
UID:cfp825369-D@wikicfp.com
END:VEVENT
BEGIN:VEVENT
DTSTAMP:20260421T113907Z
DTSTART;VALUE=DATE:20200323
SUMMARY:ISMW (FRUCT'26) 2020 Notification Due
DESCRIPTION:FRUCT'26 session on Intelligence\, Social Media and Web
URL:http://www.wikicfp.com/cfp/servlet/event.showcfp?eventid=99237&copyow
 nerid=88003
UID:cfp825369-N@wikicfp.com
END:VEVENT
BEGIN:VEVENT
DTSTAMP:20260421T113907Z
DTSTART;VALUE=DATE:20200330
SUMMARY:ISMW (FRUCT'26) 2020 Final Version Due
DESCRIPTION:FRUCT'26 session on Intelligence\, Social Media and Web
URL:http://www.wikicfp.com/cfp/servlet/event.showcfp?eventid=99237&copyow
 nerid=88003
UID:cfp825369-N@wikicfp.com
END:VEVENT
BEGIN:VEVENT
DTSTAMP:20260421T113907Z
DTSTART;VALUE=DATE:20200423
DTEND;VALUE=DATE:20200425
SUMMARY:ISMW (FRUCT'26) 2020
DESCRIPTION:FRUCT'26 session on Intelligence\, Social Media and Web
URL:http://www.wikicfp.com/cfp/servlet/event.showcfp?eventid=99238&copyow
 nerid=88003
UID:cfp825370-E@wikicfp.com
END:VEVENT
BEGIN:VEVENT
DTSTAMP:20260421T113907Z
DTSTART;VALUE=DATE:20200228
SUMMARY:ISMW (FRUCT'26) 2020 Deadline
DESCRIPTION:FRUCT'26 session on Intelligence\, Social Media and Web
URL:http://www.wikicfp.com/cfp/servlet/event.showcfp?eventid=99238&copyow
 nerid=88003
UID:cfp825370-D@wikicfp.com
END:VEVENT
BEGIN:VEVENT
DTSTAMP:20260421T113907Z
DTSTART;VALUE=DATE:20200323
SUMMARY:ISMW (FRUCT'26) 2020 Notification Due
DESCRIPTION:FRUCT'26 session on Intelligence\, Social Media and Web
URL:http://www.wikicfp.com/cfp/servlet/event.showcfp?eventid=99238&copyow
 nerid=88003
UID:cfp825370-N@wikicfp.com
END:VEVENT
BEGIN:VEVENT
DTSTAMP:20260421T113907Z
DTSTART;VALUE=DATE:20200330
SUMMARY:ISMW (FRUCT'26) 2020 Final Version Due
DESCRIPTION:FRUCT'26 session on Intelligence\, Social Media and Web
URL:http://www.wikicfp.com/cfp/servlet/event.showcfp?eventid=99238&copyow
 nerid=88003
UID:cfp825370-N@wikicfp.com
END:VEVENT
END:VCALENDAR
