BEGIN:VCALENDAR
PRODID:-//WikiCFP//hornhaut 1.0//EN
VERSION:2.0
CALSCALE:GREGORIAN
BEGIN:VEVENT
DTSTAMP:20260425T161642Z
DTSTART;VALUE=DATE:20171022
DTEND;VALUE=DATE:20171026
SUMMARY:UIST 2017
DESCRIPTION: 30th ACM User Interface Software and Technology Symposium
URL:http://www.wikicfp.com/cfp/servlet/event.showcfp?eventid=57058&copyow
 nerid=87854
UID:cfp617024-E@wikicfp.com
END:VEVENT
BEGIN:VEVENT
DTSTAMP:20260425T161642Z
DTSTART;VALUE=DATE:20170610
DTEND;VALUE=DATE:20170615
SUMMARY:DIS 2017
DESCRIPTION:Designing Interactive Systems
URL:http://www.wikicfp.com/cfp/servlet/event.showcfp?eventid=56301&copyow
 nerid=87854
UID:cfp617001-E@wikicfp.com
END:VEVENT
BEGIN:VEVENT
DTSTAMP:20260425T161642Z
DTSTART;VALUE=DATE:20170109
SUMMARY:DIS 2017 Abstract Due
DESCRIPTION:Designing Interactive Systems
URL:http://www.wikicfp.com/cfp/servlet/event.showcfp?eventid=56301&copyow
 nerid=87854
UID:cfp617001-A@wikicfp.com
END:VEVENT
BEGIN:VEVENT
DTSTAMP:20260425T161642Z
DTSTART;VALUE=DATE:20170116
SUMMARY:DIS 2017 Deadline
DESCRIPTION:Designing Interactive Systems
URL:http://www.wikicfp.com/cfp/servlet/event.showcfp?eventid=56301&copyow
 nerid=87854
UID:cfp617001-D@wikicfp.com
END:VEVENT
BEGIN:VEVENT
DTSTAMP:20260425T161642Z
DTSTART;VALUE=DATE:20170313
SUMMARY:DIS 2017 Notification Due
DESCRIPTION:Designing Interactive Systems
URL:http://www.wikicfp.com/cfp/servlet/event.showcfp?eventid=56301&copyow
 nerid=87854
UID:cfp617001-N@wikicfp.com
END:VEVENT
BEGIN:VEVENT
DTSTAMP:20260425T161642Z
DTSTART;VALUE=DATE:20170407
SUMMARY:DIS 2017 Final Version Due
DESCRIPTION:Designing Interactive Systems
URL:http://www.wikicfp.com/cfp/servlet/event.showcfp?eventid=56301&copyow
 nerid=87854
UID:cfp617001-N@wikicfp.com
END:VEVENT
BEGIN:VEVENT
DTSTAMP:20260425T161642Z
DTSTART;VALUE=DATE:20170626
DTEND;VALUE=DATE:20170630
SUMMARY:EICS 2017
DESCRIPTION:ACM SIGCHI Symposium on Engineering Interactive Computing Sys
 tems
URL:http://www.wikicfp.com/cfp/servlet/event.showcfp?eventid=57054&copyow
 nerid=87854
UID:cfp617005-E@wikicfp.com
END:VEVENT
BEGIN:VEVENT
DTSTAMP:20260425T161642Z
DTSTART;VALUE=DATE:20170117
SUMMARY:EICS 2017 Deadline
DESCRIPTION:ACM SIGCHI Symposium on Engineering Interactive Computing Sys
 tems
URL:http://www.wikicfp.com/cfp/servlet/event.showcfp?eventid=57054&copyow
 nerid=87854
UID:cfp617005-D@wikicfp.com
END:VEVENT
BEGIN:VEVENT
DTSTAMP:20260425T161642Z
DTSTART;VALUE=DATE:20170904
DTEND;VALUE=DATE:20170908
SUMMARY:MobileHCI 2017
DESCRIPTION:The 19th International Conference on Human Computer Interacti
 on with Mobile Devices and Services
URL:http://www.wikicfp.com/cfp/servlet/event.showcfp?eventid=57055&copyow
 nerid=87854
UID:cfp617007-E@wikicfp.com
END:VEVENT
BEGIN:VEVENT
DTSTAMP:20260425T161642Z
DTSTART;VALUE=DATE:20170209
SUMMARY:MobileHCI 2017 Deadline
DESCRIPTION:The 19th International Conference on Human Computer Interacti
 on with Mobile Devices and Services
URL:http://www.wikicfp.com/cfp/servlet/event.showcfp?eventid=57055&copyow
 nerid=87854
UID:cfp617007-D@wikicfp.com
END:VEVENT
BEGIN:VEVENT
DTSTAMP:20260425T161642Z
DTSTART;VALUE=DATE:20170428
SUMMARY:MobileHCI 2017 Notification Due
DESCRIPTION:The 19th International Conference on Human Computer Interacti
 on with Mobile Devices and Services
URL:http://www.wikicfp.com/cfp/servlet/event.showcfp?eventid=57055&copyow
 nerid=87854
UID:cfp617007-N@wikicfp.com
END:VEVENT
BEGIN:VEVENT
DTSTAMP:20260425T161642Z
DTSTART;VALUE=DATE:20170529
SUMMARY:MobileHCI 2017 Final Version Due
DESCRIPTION:The 19th International Conference on Human Computer Interacti
 on with Mobile Devices and Services
URL:http://www.wikicfp.com/cfp/servlet/event.showcfp?eventid=57055&copyow
 nerid=87854
UID:cfp617007-N@wikicfp.com
END:VEVENT
BEGIN:VEVENT
DTSTAMP:20260425T161642Z
DTSTART;VALUE=DATE:20170920
DTEND;VALUE=DATE:20170923
SUMMARY:ECCE 2017
DESCRIPTION:European Conference on Cognitive Ergonomics 
URL:http://www.wikicfp.com/cfp/servlet/event.showcfp?eventid=59628&copyow
 nerid=87854
UID:cfp635563-E@wikicfp.com
END:VEVENT
BEGIN:VEVENT
DTSTAMP:20260425T161642Z
DTSTART;VALUE=DATE:20170228
SUMMARY:ECCE 2017 Deadline
DESCRIPTION:European Conference on Cognitive Ergonomics 
URL:http://www.wikicfp.com/cfp/servlet/event.showcfp?eventid=59628&copyow
 nerid=87854
UID:cfp635563-D@wikicfp.com
END:VEVENT
BEGIN:VEVENT
DTSTAMP:20260425T161642Z
DTSTART;VALUE=DATE:20170502
SUMMARY:ECCE 2017 Notification Due
DESCRIPTION:European Conference on Cognitive Ergonomics 
URL:http://www.wikicfp.com/cfp/servlet/event.showcfp?eventid=59628&copyow
 nerid=87854
UID:cfp635563-N@wikicfp.com
END:VEVENT
BEGIN:VEVENT
DTSTAMP:20260425T161642Z
DTSTART;VALUE=DATE:20170615
SUMMARY:ECCE 2017 Final Version Due
DESCRIPTION:European Conference on Cognitive Ergonomics 
URL:http://www.wikicfp.com/cfp/servlet/event.showcfp?eventid=59628&copyow
 nerid=87854
UID:cfp635563-N@wikicfp.com
END:VEVENT
BEGIN:VEVENT
DTSTAMP:20260425T161642Z
DTSTART;VALUE=DATE:20170911
DTEND;VALUE=DATE:20170916
SUMMARY:UbiComp 2017
DESCRIPTION: 2017 ACM International Joint Conference on Pervasive and Ubi
 quitous Computing
URL:http://www.wikicfp.com/cfp/servlet/event.showcfp?eventid=57056&copyow
 nerid=87854
UID:cfp617022-E@wikicfp.com
END:VEVENT
BEGIN:VEVENT
DTSTAMP:20260425T161642Z
DTSTART;VALUE=DATE:20170401
SUMMARY:UbiComp 2017 Deadline
DESCRIPTION: 2017 ACM International Joint Conference on Pervasive and Ubi
 quitous Computing
URL:http://www.wikicfp.com/cfp/servlet/event.showcfp?eventid=57056&copyow
 nerid=87854
UID:cfp617022-D@wikicfp.com
END:VEVENT
BEGIN:VEVENT
DTSTAMP:20260425T161642Z
DTSTART;VALUE=DATE:20171113
DTEND;VALUE=DATE:20171118
SUMMARY:ICMI 2017
DESCRIPTION:International Conference on Multimodal Interaction
URL:http://www.wikicfp.com/cfp/servlet/event.showcfp?eventid=59726&copyow
 nerid=87854
UID:cfp636096-E@wikicfp.com
END:VEVENT
BEGIN:VEVENT
DTSTAMP:20260425T161642Z
DTSTART;VALUE=DATE:20170512
SUMMARY:ICMI 2017 Deadline
DESCRIPTION:International Conference on Multimodal Interaction
URL:http://www.wikicfp.com/cfp/servlet/event.showcfp?eventid=59726&copyow
 nerid=87854
UID:cfp636096-D@wikicfp.com
END:VEVENT
BEGIN:VEVENT
DTSTAMP:20260425T161642Z
DTSTART;VALUE=DATE:20170825
SUMMARY:ICMI 2017 Notification Due
DESCRIPTION:International Conference on Multimodal Interaction
URL:http://www.wikicfp.com/cfp/servlet/event.showcfp?eventid=59726&copyow
 nerid=87854
UID:cfp636096-N@wikicfp.com
END:VEVENT
BEGIN:VEVENT
DTSTAMP:20260425T161642Z
DTSTART;VALUE=DATE:20170922
SUMMARY:ICMI 2017 Final Version Due
DESCRIPTION:International Conference on Multimodal Interaction
URL:http://www.wikicfp.com/cfp/servlet/event.showcfp?eventid=59726&copyow
 nerid=87854
UID:cfp636096-N@wikicfp.com
END:VEVENT
BEGIN:VEVENT
DTSTAMP:20260425T161642Z
DTSTART;VALUE=DATE:20171108
DTEND;VALUE=DATE:20171111
SUMMARY:VRST 2017
DESCRIPTION:The ACM Symposium on Virtual Reality Software and Technology 
 (VRST)
URL:http://www.wikicfp.com/cfp/servlet/event.showcfp?eventid=57057&copyow
 nerid=87854
UID:cfp617023-E@wikicfp.com
END:VEVENT
BEGIN:VEVENT
DTSTAMP:20260425T161642Z
DTSTART;VALUE=DATE:20170630
SUMMARY:VRST 2017 Deadline
DESCRIPTION:The ACM Symposium on Virtual Reality Software and Technology 
 (VRST)
URL:http://www.wikicfp.com/cfp/servlet/event.showcfp?eventid=57057&copyow
 nerid=87854
UID:cfp617023-D@wikicfp.com
END:VEVENT
BEGIN:VEVENT
DTSTAMP:20260425T161642Z
DTSTART;VALUE=DATE:20170815
SUMMARY:IMWUT (4) 2017 Deadline
DESCRIPTION:Proceedings of the ACM on Interactive\, Mobile\, Wearable and
  Ubiquitous Technologies (4)
URL:http://www.wikicfp.com/cfp/servlet/event.showcfp?eventid=63807&copyow
 nerid=87854
UID:cfp664367-D@wikicfp.com
END:VEVENT
BEGIN:VEVENT
DTSTAMP:20260425T161642Z
DTSTART;VALUE=DATE:20180421
DTEND;VALUE=DATE:20180427
SUMMARY:CHI 2018
DESCRIPTION:ACM CHI Conference on Human Factors in Computing Systems
URL:http://www.wikicfp.com/cfp/servlet/event.showcfp?eventid=62975&copyow
 nerid=87854
UID:cfp664360-E@wikicfp.com
END:VEVENT
BEGIN:VEVENT
DTSTAMP:20260425T161642Z
DTSTART;VALUE=DATE:20170912
SUMMARY:CHI 2018 Abstract Due
DESCRIPTION:ACM CHI Conference on Human Factors in Computing Systems
URL:http://www.wikicfp.com/cfp/servlet/event.showcfp?eventid=62975&copyow
 nerid=87854
UID:cfp664360-A@wikicfp.com
END:VEVENT
BEGIN:VEVENT
DTSTAMP:20260425T161642Z
DTSTART;VALUE=DATE:20170919
SUMMARY:CHI 2018 Deadline
DESCRIPTION:ACM CHI Conference on Human Factors in Computing Systems
URL:http://www.wikicfp.com/cfp/servlet/event.showcfp?eventid=62975&copyow
 nerid=87854
UID:cfp664360-D@wikicfp.com
END:VEVENT
BEGIN:VEVENT
DTSTAMP:20260425T161642Z
DTSTART;VALUE=DATE:20181016
DTEND;VALUE=DATE:20181017
SUMMARY:MVAR 2018
DESCRIPTION:2nd International Workshop on Multimodal Virtual Reality and 
 Augmented Reality (MVAR 2018) at ISMAR 2018
URL:http://www.wikicfp.com/cfp/servlet/event.showcfp?eventid=77572&copyow
 nerid=87854
UID:cfp730923-E@wikicfp.com
END:VEVENT
BEGIN:VEVENT
DTSTAMP:20260425T161642Z
DTSTART;VALUE=DATE:20180713
SUMMARY:MVAR 2018 Deadline
DESCRIPTION:2nd International Workshop on Multimodal Virtual Reality and 
 Augmented Reality (MVAR 2018) at ISMAR 2018
URL:http://www.wikicfp.com/cfp/servlet/event.showcfp?eventid=77572&copyow
 nerid=87854
UID:cfp730923-D@wikicfp.com
END:VEVENT
BEGIN:VEVENT
DTSTAMP:20260425T161642Z
DTSTART;VALUE=DATE:20180814
SUMMARY:MVAR 2018 Notification Due
DESCRIPTION:2nd International Workshop on Multimodal Virtual Reality and 
 Augmented Reality (MVAR 2018) at ISMAR 2018
URL:http://www.wikicfp.com/cfp/servlet/event.showcfp?eventid=77572&copyow
 nerid=87854
UID:cfp730923-N@wikicfp.com
END:VEVENT
BEGIN:VEVENT
DTSTAMP:20260425T161642Z
DTSTART;VALUE=DATE:20180904
SUMMARY:MVAR 2018 Final Version Due
DESCRIPTION:2nd International Workshop on Multimodal Virtual Reality and 
 Augmented Reality (MVAR 2018) at ISMAR 2018
URL:http://www.wikicfp.com/cfp/servlet/event.showcfp?eventid=77572&copyow
 nerid=87854
UID:cfp730923-N@wikicfp.com
END:VEVENT
BEGIN:VEVENT
DTSTAMP:20260425T161642Z
DTSTART;VALUE=DATE:20190311
DTEND;VALUE=DATE:20190313
SUMMARY:AH 2019
DESCRIPTION:Augmented Human 2019
URL:http://www.wikicfp.com/cfp/servlet/event.showcfp?eventid=74969&copyow
 nerid=87854
UID:cfp730922-E@wikicfp.com
END:VEVENT
BEGIN:VEVENT
DTSTAMP:20260425T161642Z
DTSTART;VALUE=DATE:20181101
SUMMARY:AH 2019 Deadline
DESCRIPTION:Augmented Human 2019
URL:http://www.wikicfp.com/cfp/servlet/event.showcfp?eventid=74969&copyow
 nerid=87854
UID:cfp730922-D@wikicfp.com
END:VEVENT
BEGIN:VEVENT
DTSTAMP:20260425T161642Z
DTSTART;VALUE=DATE:20181210
SUMMARY:AH 2019 Notification Due
DESCRIPTION:Augmented Human 2019
URL:http://www.wikicfp.com/cfp/servlet/event.showcfp?eventid=74969&copyow
 nerid=87854
UID:cfp730922-N@wikicfp.com
END:VEVENT
BEGIN:VEVENT
DTSTAMP:20260425T161642Z
DTSTART;VALUE=DATE:20190110
SUMMARY:AH 2019 Final Version Due
DESCRIPTION:Augmented Human 2019
URL:http://www.wikicfp.com/cfp/servlet/event.showcfp?eventid=74969&copyow
 nerid=87854
UID:cfp730922-N@wikicfp.com
END:VEVENT
END:VCALENDAR
