BEGIN:VCALENDAR
PRODID:-//WikiCFP//ECS 1.0//EN
VERSION:2.0
CALSCALE:GREGORIAN
BEGIN:VEVENT
DTSTAMP:20260420T172938Z
DTSTART;VALUE=DATE:20170709
DTEND;VALUE=DATE:20170715
SUMMARY:IFAC 2017
DESCRIPTION:20th World Congress of the International Federation of Automa
 tic Control
URL:http://www.wikicfp.com/cfp/servlet/event.showcfp?eventid=37910&copyow
 nerid=87645
UID:cfp604365-E@wikicfp.com
END:VEVENT
BEGIN:VEVENT
DTSTAMP:20260420T172938Z
DTSTART;VALUE=DATE:20170524
DTEND;VALUE=DATE:20170527
SUMMARY:ACC 2017
DESCRIPTION:American Control Conference
URL:http://www.wikicfp.com/cfp/servlet/event.showcfp?eventid=53852&copyow
 nerid=87645
UID:cfp595714-E@wikicfp.com
END:VEVENT
BEGIN:VEVENT
DTSTAMP:20260420T172938Z
DTSTART;VALUE=DATE:20160919
SUMMARY:ACC 2017 Deadline
DESCRIPTION:American Control Conference
URL:http://www.wikicfp.com/cfp/servlet/event.showcfp?eventid=53852&copyow
 nerid=87645
UID:cfp595714-D@wikicfp.com
END:VEVENT
BEGIN:VEVENT
DTSTAMP:20260420T172938Z
DTSTART;VALUE=DATE:20170115
SUMMARY:ACC 2017 Notification Due
DESCRIPTION:American Control Conference
URL:http://www.wikicfp.com/cfp/servlet/event.showcfp?eventid=53852&copyow
 nerid=87645
UID:cfp595714-N@wikicfp.com
END:VEVENT
BEGIN:VEVENT
DTSTAMP:20260420T172938Z
DTSTART;VALUE=DATE:20170228
SUMMARY:ACC 2017 Final Version Due
DESCRIPTION:American Control Conference
URL:http://www.wikicfp.com/cfp/servlet/event.showcfp?eventid=53852&copyow
 nerid=87645
UID:cfp595714-N@wikicfp.com
END:VEVENT
BEGIN:VEVENT
DTSTAMP:20260420T172938Z
DTSTART;VALUE=DATE:20170827
DTEND;VALUE=DATE:20170831
SUMMARY:CCTA 2017
DESCRIPTION:IEEE Conference on Control Technology and Applications 
URL:http://www.wikicfp.com/cfp/servlet/event.showcfp?eventid=52640&copyow
 nerid=87645
UID:cfp595713-E@wikicfp.com
END:VEVENT
BEGIN:VEVENT
DTSTAMP:20260420T172938Z
DTSTART;VALUE=DATE:20161201
SUMMARY:CCTA 2017 Deadline
DESCRIPTION:IEEE Conference on Control Technology and Applications 
URL:http://www.wikicfp.com/cfp/servlet/event.showcfp?eventid=52640&copyow
 nerid=87645
UID:cfp595713-D@wikicfp.com
END:VEVENT
BEGIN:VEVENT
DTSTAMP:20260420T172938Z
DTSTART;VALUE=DATE:20170301
SUMMARY:CCTA 2017 Notification Due
DESCRIPTION:IEEE Conference on Control Technology and Applications 
URL:http://www.wikicfp.com/cfp/servlet/event.showcfp?eventid=52640&copyow
 nerid=87645
UID:cfp595713-N@wikicfp.com
END:VEVENT
BEGIN:VEVENT
DTSTAMP:20260420T172938Z
DTSTART;VALUE=DATE:20170515
SUMMARY:CCTA 2017 Final Version Due
DESCRIPTION:IEEE Conference on Control Technology and Applications 
URL:http://www.wikicfp.com/cfp/servlet/event.showcfp?eventid=52640&copyow
 nerid=87645
UID:cfp595713-N@wikicfp.com
END:VEVENT
BEGIN:VEVENT
DTSTAMP:20260420T172938Z
DTSTART;VALUE=DATE:20170703
DTEND;VALUE=DATE:20170708
SUMMARY:AIM 2017
DESCRIPTION:International Conference on Advanced Intelligent Mechatronics
 
URL:http://www.wikicfp.com/cfp/servlet/event.showcfp?eventid=56159&copyow
 nerid=87645
UID:cfp619746-E@wikicfp.com
END:VEVENT
BEGIN:VEVENT
DTSTAMP:20260420T172938Z
DTSTART;VALUE=DATE:20170228
SUMMARY:AIM 2017 Deadline
DESCRIPTION:International Conference on Advanced Intelligent Mechatronics
 
URL:http://www.wikicfp.com/cfp/servlet/event.showcfp?eventid=56159&copyow
 nerid=87645
UID:cfp619746-D@wikicfp.com
END:VEVENT
BEGIN:VEVENT
DTSTAMP:20260420T172938Z
DTSTART;VALUE=DATE:20170415
SUMMARY:AIM 2017 Notification Due
DESCRIPTION:International Conference on Advanced Intelligent Mechatronics
 
URL:http://www.wikicfp.com/cfp/servlet/event.showcfp?eventid=56159&copyow
 nerid=87645
UID:cfp619746-N@wikicfp.com
END:VEVENT
BEGIN:VEVENT
DTSTAMP:20260420T172938Z
DTSTART;VALUE=DATE:20170515
SUMMARY:AIM 2017 Final Version Due
DESCRIPTION:International Conference on Advanced Intelligent Mechatronics
 
URL:http://www.wikicfp.com/cfp/servlet/event.showcfp?eventid=56159&copyow
 nerid=87645
UID:cfp619746-N@wikicfp.com
END:VEVENT
END:VCALENDAR
