BEGIN:VCALENDAR
PRODID:-//WikiCFP//nadiasaber 1.0//EN
VERSION:2.0
CALSCALE:GREGORIAN
BEGIN:VEVENT
DTSTAMP:20260424T020023Z
DTSTART;VALUE=DATE:20160428
DTEND;VALUE=DATE:20160429
SUMMARY:NN 2016
DESCRIPTION:The First International Conference on Neural Networks and App
 lications
URL:http://www.wikicfp.com/cfp/servlet/event.showcfp?eventid=49492&copyow
 nerid=87401
UID:cfp594087-E@wikicfp.com
END:VEVENT
BEGIN:VEVENT
DTSTAMP:20260424T020023Z
DTSTART;VALUE=DATE:20160410
SUMMARY:NN 2016 Deadline
DESCRIPTION:The First International Conference on Neural Networks and App
 lications
URL:http://www.wikicfp.com/cfp/servlet/event.showcfp?eventid=49492&copyow
 nerid=87401
UID:cfp594087-D@wikicfp.com
END:VEVENT
BEGIN:VEVENT
DTSTAMP:20260424T020023Z
DTSTART;VALUE=DATE:20160824
DTEND;VALUE=DATE:20160827
SUMMARY:IEEE CSE 2016
DESCRIPTION:19th IEEE International Conference on Computational Science a
 nd Engineering (CSE 2016)
URL:http://www.wikicfp.com/cfp/servlet/event.showcfp?eventid=51865&copyow
 nerid=87401
UID:cfp594088-E@wikicfp.com
END:VEVENT
BEGIN:VEVENT
DTSTAMP:20260424T020023Z
DTSTART;VALUE=DATE:20160429
SUMMARY:IEEE CSE 2016 Deadline
DESCRIPTION:19th IEEE International Conference on Computational Science a
 nd Engineering (CSE 2016)
URL:http://www.wikicfp.com/cfp/servlet/event.showcfp?eventid=51865&copyow
 nerid=87401
UID:cfp594088-D@wikicfp.com
END:VEVENT
BEGIN:VEVENT
DTSTAMP:20260424T020023Z
DTSTART;VALUE=DATE:20160623
SUMMARY:IEEE CSE 2016 Notification Due
DESCRIPTION:19th IEEE International Conference on Computational Science a
 nd Engineering (CSE 2016)
URL:http://www.wikicfp.com/cfp/servlet/event.showcfp?eventid=51865&copyow
 nerid=87401
UID:cfp594088-N@wikicfp.com
END:VEVENT
BEGIN:VEVENT
DTSTAMP:20260424T020023Z
DTSTART;VALUE=DATE:20160715
SUMMARY:IEEE CSE 2016 Final Version Due
DESCRIPTION:19th IEEE International Conference on Computational Science a
 nd Engineering (CSE 2016)
URL:http://www.wikicfp.com/cfp/servlet/event.showcfp?eventid=51865&copyow
 nerid=87401
UID:cfp594088-N@wikicfp.com
END:VEVENT
END:VCALENDAR
