BEGIN:VCALENDAR
PRODID:-//WikiCFP//juichung 1.0//EN
VERSION:2.0
CALSCALE:GREGORIAN
BEGIN:VEVENT
DTSTAMP:20260423T003018Z
DTSTART;VALUE=DATE:20160704
DTEND;VALUE=DATE:20160708
SUMMARY:DS4IDS@ICCSA 2016
DESCRIPTION:Data Science for Intelligent Decision Support
URL:http://www.wikicfp.com/cfp/servlet/event.showcfp?eventid=50557&copyow
 nerid=87265
UID:cfp593223-E@wikicfp.com
END:VEVENT
BEGIN:VEVENT
DTSTAMP:20260423T003018Z
DTSTART;VALUE=DATE:20160331
SUMMARY:DS4IDS@ICCSA 2016 Deadline
DESCRIPTION:Data Science for Intelligent Decision Support
URL:http://www.wikicfp.com/cfp/servlet/event.showcfp?eventid=50557&copyow
 nerid=87265
UID:cfp593223-D@wikicfp.com
END:VEVENT
BEGIN:VEVENT
DTSTAMP:20260423T003018Z
DTSTART;VALUE=DATE:20160420
SUMMARY:DS4IDS@ICCSA 2016 Notification Due
DESCRIPTION:Data Science for Intelligent Decision Support
URL:http://www.wikicfp.com/cfp/servlet/event.showcfp?eventid=50557&copyow
 nerid=87265
UID:cfp593223-N@wikicfp.com
END:VEVENT
BEGIN:VEVENT
DTSTAMP:20260423T003018Z
DTSTART;VALUE=DATE:20160515
SUMMARY:DS4IDS@ICCSA 2016 Final Version Due
DESCRIPTION:Data Science for Intelligent Decision Support
URL:http://www.wikicfp.com/cfp/servlet/event.showcfp?eventid=50557&copyow
 nerid=87265
UID:cfp593223-N@wikicfp.com
END:VEVENT
BEGIN:VEVENT
DTSTAMP:20260423T003018Z
DTSTART;VALUE=DATE:20160623
DTEND;VALUE=DATE:20160626
SUMMARY:ICAME 2016
DESCRIPTION:SCOPUS & Ei--2016 the 5th International Conference on Advance
 s in Mechanics Engineering (ICAME 2016)
URL:http://www.wikicfp.com/cfp/servlet/event.showcfp?eventid=50085&copyow
 nerid=87265
UID:cfp593222-E@wikicfp.com
END:VEVENT
BEGIN:VEVENT
DTSTAMP:20260423T003018Z
DTSTART;VALUE=DATE:20160430
SUMMARY:ICAME 2016 Deadline
DESCRIPTION:SCOPUS & Ei--2016 the 5th International Conference on Advance
 s in Mechanics Engineering (ICAME 2016)
URL:http://www.wikicfp.com/cfp/servlet/event.showcfp?eventid=50085&copyow
 nerid=87265
UID:cfp593222-D@wikicfp.com
END:VEVENT
BEGIN:VEVENT
DTSTAMP:20260423T003018Z
DTSTART;VALUE=DATE:20160727
DTEND;VALUE=DATE:20160730
SUMMARY:CCSSE 2016
DESCRIPTION:(IEEE Xplore and Ei Compendex) 2016 2nd International Confere
 nce on Control Science and Systems Engineering (CCSSE 2016)
URL:http://www.wikicfp.com/cfp/servlet/event.showcfp?eventid=49659&copyow
 nerid=87265
UID:cfp593221-E@wikicfp.com
END:VEVENT
BEGIN:VEVENT
DTSTAMP:20260423T003018Z
DTSTART;VALUE=DATE:20160520
SUMMARY:CCSSE 2016 Deadline
DESCRIPTION:(IEEE Xplore and Ei Compendex) 2016 2nd International Confere
 nce on Control Science and Systems Engineering (CCSSE 2016)
URL:http://www.wikicfp.com/cfp/servlet/event.showcfp?eventid=49659&copyow
 nerid=87265
UID:cfp593221-D@wikicfp.com
END:VEVENT
BEGIN:VEVENT
DTSTAMP:20260423T003018Z
DTSTART;VALUE=DATE:20160714
DTEND;VALUE=DATE:20160719
SUMMARY:ACMME 2016
DESCRIPTION:Ei\,ISI\,Scopu--2016 4th Asia Conference on Mechanical and Ma
 terials Engineering (ACMME 2016)
URL:http://www.wikicfp.com/cfp/servlet/event.showcfp?eventid=50675&copyow
 nerid=87265
UID:cfp593219-E@wikicfp.com
END:VEVENT
BEGIN:VEVENT
DTSTAMP:20260423T003018Z
DTSTART;VALUE=DATE:20160525
SUMMARY:ACMME 2016 Deadline
DESCRIPTION:Ei\,ISI\,Scopu--2016 4th Asia Conference on Mechanical and Ma
 terials Engineering (ACMME 2016)
URL:http://www.wikicfp.com/cfp/servlet/event.showcfp?eventid=50675&copyow
 nerid=87265
UID:cfp593219-D@wikicfp.com
END:VEVENT
BEGIN:VEVENT
DTSTAMP:20260423T003018Z
DTSTART;VALUE=DATE:20160820
DTEND;VALUE=DATE:20160823
SUMMARY:ICIAE 2016
DESCRIPTION:2016 International Conference on Intelligent Automotive Engin
 eering (ICIAE 2016)--IEEE Xplore & Ei Compendex
URL:http://www.wikicfp.com/cfp/servlet/event.showcfp?eventid=51735&copyow
 nerid=87265
UID:cfp593224-E@wikicfp.com
END:VEVENT
BEGIN:VEVENT
DTSTAMP:20260423T003018Z
DTSTART;VALUE=DATE:20160610
SUMMARY:ICIAE 2016 Deadline
DESCRIPTION:2016 International Conference on Intelligent Automotive Engin
 eering (ICIAE 2016)--IEEE Xplore & Ei Compendex
URL:http://www.wikicfp.com/cfp/servlet/event.showcfp?eventid=51735&copyow
 nerid=87265
UID:cfp593224-D@wikicfp.com
END:VEVENT
BEGIN:VEVENT
DTSTAMP:20260423T003018Z
DTSTART;VALUE=DATE:20160820
DTEND;VALUE=DATE:20160823
SUMMARY:ICITE  2016
DESCRIPTION:2016 International Conference on Intelligent Transportation E
 ngineering (ICITE 2016)--IEEE Xplore\, Ei Compendex
URL:http://www.wikicfp.com/cfp/servlet/event.showcfp?eventid=51736&copyow
 nerid=87265
UID:cfp593225-E@wikicfp.com
END:VEVENT
BEGIN:VEVENT
DTSTAMP:20260423T003018Z
DTSTART;VALUE=DATE:20160630
SUMMARY:ICITE  2016 Deadline
DESCRIPTION:2016 International Conference on Intelligent Transportation E
 ngineering (ICITE 2016)--IEEE Xplore\, Ei Compendex
URL:http://www.wikicfp.com/cfp/servlet/event.showcfp?eventid=51736&copyow
 nerid=87265
UID:cfp593225-D@wikicfp.com
END:VEVENT
BEGIN:VEVENT
DTSTAMP:20260423T003018Z
DTSTART;VALUE=DATE:20160827
DTEND;VALUE=DATE:20160830
SUMMARY:ICCIA-Ei 2016
DESCRIPTION:EI compendex--2016 International Conference on Computational 
 Intelligence and Applications (ICCIA 2016)
URL:http://www.wikicfp.com/cfp/servlet/event.showcfp?eventid=52593&copyow
 nerid=87265
UID:cfp593220-E@wikicfp.com
END:VEVENT
BEGIN:VEVENT
DTSTAMP:20260423T003018Z
DTSTART;VALUE=DATE:20160701
SUMMARY:ICCIA-Ei 2016 Deadline
DESCRIPTION:EI compendex--2016 International Conference on Computational 
 Intelligence and Applications (ICCIA 2016)
URL:http://www.wikicfp.com/cfp/servlet/event.showcfp?eventid=52593&copyow
 nerid=87265
UID:cfp593220-D@wikicfp.com
END:VEVENT
END:VCALENDAR
