BEGIN:VCALENDAR
PRODID:-//WikiCFP//Schneider_TUKL 1.0//EN
VERSION:2.0
CALSCALE:GREGORIAN
BEGIN:VEVENT
DTSTAMP:20260420T151709Z
DTSTART;VALUE=DATE:20161118
DTEND;VALUE=DATE:20161121
SUMMARY:MEMOCODE 2016
DESCRIPTION:ACM-IEEE International Conference on Formal Methods and Model
 s for System Design
URL:http://www.wikicfp.com/cfp/servlet/event.showcfp?eventid=53558&copyow
 nerid=87239
UID:cfp592949-E@wikicfp.com
END:VEVENT
BEGIN:VEVENT
DTSTAMP:20260420T151709Z
DTSTART;VALUE=DATE:20160722
SUMMARY:MEMOCODE 2016 Abstract Due
DESCRIPTION:ACM-IEEE International Conference on Formal Methods and Model
 s for System Design
URL:http://www.wikicfp.com/cfp/servlet/event.showcfp?eventid=53558&copyow
 nerid=87239
UID:cfp592949-A@wikicfp.com
END:VEVENT
BEGIN:VEVENT
DTSTAMP:20260420T151709Z
DTSTART;VALUE=DATE:20160729
SUMMARY:MEMOCODE 2016 Deadline
DESCRIPTION:ACM-IEEE International Conference on Formal Methods and Model
 s for System Design
URL:http://www.wikicfp.com/cfp/servlet/event.showcfp?eventid=53558&copyow
 nerid=87239
UID:cfp592949-D@wikicfp.com
END:VEVENT
BEGIN:VEVENT
DTSTAMP:20260420T151709Z
DTSTART;VALUE=DATE:20160909
SUMMARY:MEMOCODE 2016 Notification Due
DESCRIPTION:ACM-IEEE International Conference on Formal Methods and Model
 s for System Design
URL:http://www.wikicfp.com/cfp/servlet/event.showcfp?eventid=53558&copyow
 nerid=87239
UID:cfp592949-N@wikicfp.com
END:VEVENT
BEGIN:VEVENT
DTSTAMP:20260420T151709Z
DTSTART;VALUE=DATE:20161007
SUMMARY:MEMOCODE 2016 Final Version Due
DESCRIPTION:ACM-IEEE International Conference on Formal Methods and Model
 s for System Design
URL:http://www.wikicfp.com/cfp/servlet/event.showcfp?eventid=53558&copyow
 nerid=87239
UID:cfp592949-N@wikicfp.com
END:VEVENT
BEGIN:VEVENT
DTSTAMP:20260420T151709Z
DTSTART;VALUE=DATE:20170626
DTEND;VALUE=DATE:20170701
SUMMARY:ACSD 2017
DESCRIPTION:Application of Concurrency to System Design
URL:http://www.wikicfp.com/cfp/servlet/event.showcfp?eventid=59375&copyow
 nerid=87239
UID:cfp634273-E@wikicfp.com
END:VEVENT
BEGIN:VEVENT
DTSTAMP:20260420T151709Z
DTSTART;VALUE=DATE:20170113
SUMMARY:ACSD 2017 Abstract Due
DESCRIPTION:Application of Concurrency to System Design
URL:http://www.wikicfp.com/cfp/servlet/event.showcfp?eventid=59375&copyow
 nerid=87239
UID:cfp634273-A@wikicfp.com
END:VEVENT
BEGIN:VEVENT
DTSTAMP:20260420T151709Z
DTSTART;VALUE=DATE:20170120
SUMMARY:ACSD 2017 Deadline
DESCRIPTION:Application of Concurrency to System Design
URL:http://www.wikicfp.com/cfp/servlet/event.showcfp?eventid=59375&copyow
 nerid=87239
UID:cfp634273-D@wikicfp.com
END:VEVENT
BEGIN:VEVENT
DTSTAMP:20260420T151709Z
DTSTART;VALUE=DATE:20170317
SUMMARY:ACSD 2017 Notification Due
DESCRIPTION:Application of Concurrency to System Design
URL:http://www.wikicfp.com/cfp/servlet/event.showcfp?eventid=59375&copyow
 nerid=87239
UID:cfp634273-N@wikicfp.com
END:VEVENT
BEGIN:VEVENT
DTSTAMP:20260420T151709Z
DTSTART;VALUE=DATE:20170415
SUMMARY:ACSD 2017 Final Version Due
DESCRIPTION:Application of Concurrency to System Design
URL:http://www.wikicfp.com/cfp/servlet/event.showcfp?eventid=59375&copyow
 nerid=87239
UID:cfp634273-N@wikicfp.com
END:VEVENT
BEGIN:VEVENT
DTSTAMP:20260420T151709Z
DTSTART;VALUE=DATE:20170929
DTEND;VALUE=DATE:20171003
SUMMARY:MEMOCODE 2017
DESCRIPTION:15th ACM/IEEE International Conference on Formal Methods and 
 Models for System Design
URL:http://www.wikicfp.com/cfp/servlet/event.showcfp?eventid=62329&copyow
 nerid=87239
UID:cfp655040-E@wikicfp.com
END:VEVENT
BEGIN:VEVENT
DTSTAMP:20260420T151709Z
DTSTART;VALUE=DATE:20170512
SUMMARY:MEMOCODE 2017 Abstract Due
DESCRIPTION:15th ACM/IEEE International Conference on Formal Methods and 
 Models for System Design
URL:http://www.wikicfp.com/cfp/servlet/event.showcfp?eventid=62329&copyow
 nerid=87239
UID:cfp655040-A@wikicfp.com
END:VEVENT
BEGIN:VEVENT
DTSTAMP:20260420T151709Z
DTSTART;VALUE=DATE:20170519
SUMMARY:MEMOCODE 2017 Deadline
DESCRIPTION:15th ACM/IEEE International Conference on Formal Methods and 
 Models for System Design
URL:http://www.wikicfp.com/cfp/servlet/event.showcfp?eventid=62329&copyow
 nerid=87239
UID:cfp655040-D@wikicfp.com
END:VEVENT
BEGIN:VEVENT
DTSTAMP:20260420T151709Z
DTSTART;VALUE=DATE:20170710
SUMMARY:MEMOCODE 2017 Notification Due
DESCRIPTION:15th ACM/IEEE International Conference on Formal Methods and 
 Models for System Design
URL:http://www.wikicfp.com/cfp/servlet/event.showcfp?eventid=62329&copyow
 nerid=87239
UID:cfp655040-N@wikicfp.com
END:VEVENT
BEGIN:VEVENT
DTSTAMP:20260420T151709Z
DTSTART;VALUE=DATE:20170728
SUMMARY:MEMOCODE 2017 Final Version Due
DESCRIPTION:15th ACM/IEEE International Conference on Formal Methods and 
 Models for System Design
URL:http://www.wikicfp.com/cfp/servlet/event.showcfp?eventid=62329&copyow
 nerid=87239
UID:cfp655040-N@wikicfp.com
END:VEVENT
END:VCALENDAR
