BEGIN:VCALENDAR
PRODID:-//WikiCFP//dlm14 1.0//EN
VERSION:2.0
CALSCALE:GREGORIAN
BEGIN:VEVENT
DTSTAMP:20260422T210630Z
DTSTART;VALUE=DATE:20160206
DTEND;VALUE=DATE:20160208
SUMMARY:DMS 2016
DESCRIPTION:Seventh International conference on Database Management Syste
 ms
URL:http://www.wikicfp.com/cfp/servlet/event.showcfp?eventid=51030&copyow
 nerid=87211
UID:cfp592739-E@wikicfp.com
END:VEVENT
BEGIN:VEVENT
DTSTAMP:20260422T210630Z
DTSTART;VALUE=DATE:20160119
SUMMARY:DMS 2016 Deadline
DESCRIPTION:Seventh International conference on Database Management Syste
 ms
URL:http://www.wikicfp.com/cfp/servlet/event.showcfp?eventid=51030&copyow
 nerid=87211
UID:cfp592739-D@wikicfp.com
END:VEVENT
BEGIN:VEVENT
DTSTAMP:20260422T210630Z
DTSTART;VALUE=DATE:20160130
SUMMARY:DMS 2016 Notification Due
DESCRIPTION:Seventh International conference on Database Management Syste
 ms
URL:http://www.wikicfp.com/cfp/servlet/event.showcfp?eventid=51030&copyow
 nerid=87211
UID:cfp592739-N@wikicfp.com
END:VEVENT
BEGIN:VEVENT
DTSTAMP:20260422T210630Z
DTSTART;VALUE=DATE:20160202
SUMMARY:DMS 2016 Final Version Due
DESCRIPTION:Seventh International conference on Database Management Syste
 ms
URL:http://www.wikicfp.com/cfp/servlet/event.showcfp?eventid=51030&copyow
 nerid=87211
UID:cfp592739-N@wikicfp.com
END:VEVENT
BEGIN:VEVENT
DTSTAMP:20260422T210630Z
DTSTART;VALUE=DATE:20151005
DTEND;VALUE=DATE:20151008
SUMMARY:SoCC 2016
DESCRIPTION:ACM Symposium on Cloud Computing (SoCC) 2016
URL:http://www.wikicfp.com/cfp/servlet/event.showcfp?eventid=52831&copyow
 nerid=87211
UID:cfp592741-E@wikicfp.com
END:VEVENT
BEGIN:VEVENT
DTSTAMP:20260422T210630Z
DTSTART;VALUE=DATE:20160517
SUMMARY:SoCC 2016 Abstract Due
DESCRIPTION:ACM Symposium on Cloud Computing (SoCC) 2016
URL:http://www.wikicfp.com/cfp/servlet/event.showcfp?eventid=52831&copyow
 nerid=87211
UID:cfp592741-A@wikicfp.com
END:VEVENT
BEGIN:VEVENT
DTSTAMP:20260422T210630Z
DTSTART;VALUE=DATE:20160524
SUMMARY:SoCC 2016 Deadline
DESCRIPTION:ACM Symposium on Cloud Computing (SoCC) 2016
URL:http://www.wikicfp.com/cfp/servlet/event.showcfp?eventid=52831&copyow
 nerid=87211
UID:cfp592741-D@wikicfp.com
END:VEVENT
BEGIN:VEVENT
DTSTAMP:20260422T210630Z
DTSTART;VALUE=DATE:20160729
SUMMARY:SoCC 2016 Notification Due
DESCRIPTION:ACM Symposium on Cloud Computing (SoCC) 2016
URL:http://www.wikicfp.com/cfp/servlet/event.showcfp?eventid=52831&copyow
 nerid=87211
UID:cfp592741-N@wikicfp.com
END:VEVENT
BEGIN:VEVENT
DTSTAMP:20260422T210630Z
DTSTART;VALUE=DATE:20180826
SUMMARY:SoCC 2016 Final Version Due
DESCRIPTION:ACM Symposium on Cloud Computing (SoCC) 2016
URL:http://www.wikicfp.com/cfp/servlet/event.showcfp?eventid=52831&copyow
 nerid=87211
UID:cfp592741-N@wikicfp.com
END:VEVENT
BEGIN:VEVENT
DTSTAMP:20260422T210630Z
DTSTART;VALUE=DATE:20170225
SUMMARY:OPTLJ 2017 Deadline
DESCRIPTION:Integrated Optics and Lightwave : An International Journal
URL:http://www.wikicfp.com/cfp/servlet/event.showcfp?eventid=52654&copyow
 nerid=87211
UID:cfp592740-D@wikicfp.com
END:VEVENT
BEGIN:VEVENT
DTSTAMP:20260422T210630Z
DTSTART;VALUE=DATE:20170325
SUMMARY:OPTLJ 2017 Notification Due
DESCRIPTION:Integrated Optics and Lightwave : An International Journal
URL:http://www.wikicfp.com/cfp/servlet/event.showcfp?eventid=52654&copyow
 nerid=87211
UID:cfp592740-N@wikicfp.com
END:VEVENT
BEGIN:VEVENT
DTSTAMP:20260422T210630Z
DTSTART;VALUE=DATE:20170403
SUMMARY:OPTLJ 2017 Final Version Due
DESCRIPTION:Integrated Optics and Lightwave : An International Journal
URL:http://www.wikicfp.com/cfp/servlet/event.showcfp?eventid=52654&copyow
 nerid=87211
UID:cfp592740-N@wikicfp.com
END:VEVENT
END:VCALENDAR
