BEGIN:VCALENDAR
PRODID:-//WikiCFP//lorenzo_belussi 1.0//EN
VERSION:2.0
CALSCALE:GREGORIAN
BEGIN:VEVENT
DTSTAMP:20260423T130518Z
DTSTART;VALUE=DATE:20161107
DTEND;VALUE=DATE:20161111
SUMMARY:SenseApp 2016
DESCRIPTION:Eleventh IEEE International Workshop on Practical Issues in B
 uilding Sensor Network Applications
URL:http://www.wikicfp.com/cfp/servlet/event.showcfp?eventid=53259&copyow
 nerid=87203
UID:cfp592711-E@wikicfp.com
END:VEVENT
BEGIN:VEVENT
DTSTAMP:20260423T130518Z
DTSTART;VALUE=DATE:20160523
SUMMARY:SenseApp 2016 Deadline
DESCRIPTION:Eleventh IEEE International Workshop on Practical Issues in B
 uilding Sensor Network Applications
URL:http://www.wikicfp.com/cfp/servlet/event.showcfp?eventid=53259&copyow
 nerid=87203
UID:cfp592711-D@wikicfp.com
END:VEVENT
BEGIN:VEVENT
DTSTAMP:20260423T130518Z
DTSTART;VALUE=DATE:20160725
SUMMARY:SenseApp 2016 Notification Due
DESCRIPTION:Eleventh IEEE International Workshop on Practical Issues in B
 uilding Sensor Network Applications
URL:http://www.wikicfp.com/cfp/servlet/event.showcfp?eventid=53259&copyow
 nerid=87203
UID:cfp592711-N@wikicfp.com
END:VEVENT
BEGIN:VEVENT
DTSTAMP:20260423T130518Z
DTSTART;VALUE=DATE:20160815
SUMMARY:SenseApp 2016 Final Version Due
DESCRIPTION:Eleventh IEEE International Workshop on Practical Issues in B
 uilding Sensor Network Applications
URL:http://www.wikicfp.com/cfp/servlet/event.showcfp?eventid=53259&copyow
 nerid=87203
UID:cfp592711-N@wikicfp.com
END:VEVENT
BEGIN:VEVENT
DTSTAMP:20260423T130518Z
DTSTART;VALUE=DATE:20161106
DTEND;VALUE=DATE:20161108
SUMMARY:BuildSys 2016
DESCRIPTION:3rd ACM International Conference on Systems for Energy-Effici
 ent Built Environments
URL:http://www.wikicfp.com/cfp/servlet/event.showcfp?eventid=51483&copyow
 nerid=87203
UID:cfp592719-E@wikicfp.com
END:VEVENT
BEGIN:VEVENT
DTSTAMP:20260423T130518Z
DTSTART;VALUE=DATE:20160610
SUMMARY:BuildSys 2016 Abstract Due
DESCRIPTION:3rd ACM International Conference on Systems for Energy-Effici
 ent Built Environments
URL:http://www.wikicfp.com/cfp/servlet/event.showcfp?eventid=51483&copyow
 nerid=87203
UID:cfp592719-A@wikicfp.com
END:VEVENT
BEGIN:VEVENT
DTSTAMP:20260423T130518Z
DTSTART;VALUE=DATE:20160617
SUMMARY:BuildSys 2016 Deadline
DESCRIPTION:3rd ACM International Conference on Systems for Energy-Effici
 ent Built Environments
URL:http://www.wikicfp.com/cfp/servlet/event.showcfp?eventid=51483&copyow
 nerid=87203
UID:cfp592719-D@wikicfp.com
END:VEVENT
BEGIN:VEVENT
DTSTAMP:20260423T130518Z
DTSTART;VALUE=DATE:20160815
SUMMARY:BuildSys 2016 Notification Due
DESCRIPTION:3rd ACM International Conference on Systems for Energy-Effici
 ent Built Environments
URL:http://www.wikicfp.com/cfp/servlet/event.showcfp?eventid=51483&copyow
 nerid=87203
UID:cfp592719-N@wikicfp.com
END:VEVENT
BEGIN:VEVENT
DTSTAMP:20260423T130518Z
DTSTART;VALUE=DATE:20160914
SUMMARY:BuildSys 2016 Final Version Due
DESCRIPTION:3rd ACM International Conference on Systems for Energy-Effici
 ent Built Environments
URL:http://www.wikicfp.com/cfp/servlet/event.showcfp?eventid=51483&copyow
 nerid=87203
UID:cfp592719-N@wikicfp.com
END:VEVENT
BEGIN:VEVENT
DTSTAMP:20260423T130518Z
DTSTART;VALUE=DATE:20160630
SUMMARY:SIMPAT Smart Cities and IoT 2016 Deadline
DESCRIPTION:SIMULATION MODELLING PRACTICE AND THEORY SPECIAL ISSUE ON â
 Smart Cities and Internet of Thingsâ
URL:http://www.wikicfp.com/cfp/servlet/event.showcfp?eventid=52890&copyow
 nerid=87203
UID:cfp592713-D@wikicfp.com
END:VEVENT
BEGIN:VEVENT
DTSTAMP:20260423T130518Z
DTSTART;VALUE=DATE:20160831
SUMMARY:SIMPAT Smart Cities and IoT 2016 Notification Due
DESCRIPTION:SIMULATION MODELLING PRACTICE AND THEORY SPECIAL ISSUE ON â
 Smart Cities and Internet of Thingsâ
URL:http://www.wikicfp.com/cfp/servlet/event.showcfp?eventid=52890&copyow
 nerid=87203
UID:cfp592713-N@wikicfp.com
END:VEVENT
BEGIN:VEVENT
DTSTAMP:20260423T130518Z
DTSTART;VALUE=DATE:20161031
SUMMARY:SIMPAT Smart Cities and IoT 2016 Final Version Due
DESCRIPTION:SIMULATION MODELLING PRACTICE AND THEORY SPECIAL ISSUE ON â
 Smart Cities and Internet of Thingsâ
URL:http://www.wikicfp.com/cfp/servlet/event.showcfp?eventid=52890&copyow
 nerid=87203
UID:cfp592713-N@wikicfp.com
END:VEVENT
BEGIN:VEVENT
DTSTAMP:20260423T130518Z
DTSTART;VALUE=DATE:20160907
DTEND;VALUE=DATE:20160910
SUMMARY:Heat Transfer 2016
DESCRIPTION:14th International Conference on Simulation and Experiments i
 n  Heat Transfer and its Applications
URL:http://www.wikicfp.com/cfp/servlet/event.showcfp?eventid=45848&copyow
 nerid=87203
UID:cfp592717-E@wikicfp.com
END:VEVENT
BEGIN:VEVENT
DTSTAMP:20260423T130518Z
DTSTART;VALUE=DATE:20160807
SUMMARY:Heat Transfer 2016 Deadline
DESCRIPTION:14th International Conference on Simulation and Experiments i
 n  Heat Transfer and its Applications
URL:http://www.wikicfp.com/cfp/servlet/event.showcfp?eventid=45848&copyow
 nerid=87203
UID:cfp592717-D@wikicfp.com
END:VEVENT
END:VCALENDAR
