BEGIN:VCALENDAR
PRODID:-//WikiCFP//cfpuser1 1.0//EN
VERSION:2.0
CALSCALE:GREGORIAN
BEGIN:VEVENT
DTSTAMP:20260419T212029Z
DTSTART;VALUE=DATE:20160714
DTEND;VALUE=DATE:20160716
SUMMARY:IJCAI-SBD 2016
DESCRIPTION:IJCAI 2016 Workshop on Scholarly Big Data: AI Perspectives\, 
 Challenges\, and Ideas 
URL:http://www.wikicfp.com/cfp/servlet/event.showcfp?eventid=53513&copyow
 nerid=87191
UID:cfp592640-E@wikicfp.com
END:VEVENT
BEGIN:VEVENT
DTSTAMP:20260419T212029Z
DTSTART;VALUE=DATE:20160415
SUMMARY:IJCAI-SBD 2016 Deadline
DESCRIPTION:IJCAI 2016 Workshop on Scholarly Big Data: AI Perspectives\, 
 Challenges\, and Ideas 
URL:http://www.wikicfp.com/cfp/servlet/event.showcfp?eventid=53513&copyow
 nerid=87191
UID:cfp592640-D@wikicfp.com
END:VEVENT
BEGIN:VEVENT
DTSTAMP:20260419T212029Z
DTSTART;VALUE=DATE:20160515
SUMMARY:IJCAI-SBD 2016 Notification Due
DESCRIPTION:IJCAI 2016 Workshop on Scholarly Big Data: AI Perspectives\, 
 Challenges\, and Ideas 
URL:http://www.wikicfp.com/cfp/servlet/event.showcfp?eventid=53513&copyow
 nerid=87191
UID:cfp592640-N@wikicfp.com
END:VEVENT
BEGIN:VEVENT
DTSTAMP:20260419T212029Z
DTSTART;VALUE=DATE:20160606
SUMMARY:IJCAI-SBD 2016 Final Version Due
DESCRIPTION:IJCAI 2016 Workshop on Scholarly Big Data: AI Perspectives\, 
 Challenges\, and Ideas 
URL:http://www.wikicfp.com/cfp/servlet/event.showcfp?eventid=53513&copyow
 nerid=87191
UID:cfp592640-N@wikicfp.com
END:VEVENT
END:VCALENDAR
