BEGIN:VCALENDAR
PRODID:-//WikiCFP//PetrasCFP 1.0//EN
VERSION:2.0
CALSCALE:GREGORIAN
BEGIN:VEVENT
DTSTAMP:20260423T045816Z
DTSTART;VALUE=DATE:20160816
DTEND;VALUE=DATE:20160820
SUMMARY:WCSNE 2016
DESCRIPTION:World Congress on Special Needs Education
URL:http://www.wikicfp.com/cfp/servlet/event.showcfp?eventid=51652&copyow
 nerid=86814
UID:cfp590388-E@wikicfp.com
END:VEVENT
BEGIN:VEVENT
DTSTAMP:20260423T045816Z
DTSTART;VALUE=DATE:20160331
SUMMARY:WCSNE 2016 Deadline
DESCRIPTION:World Congress on Special Needs Education
URL:http://www.wikicfp.com/cfp/servlet/event.showcfp?eventid=51652&copyow
 nerid=86814
UID:cfp590388-D@wikicfp.com
END:VEVENT
BEGIN:VEVENT
DTSTAMP:20260423T045816Z
DTSTART;VALUE=DATE:20160415
SUMMARY:WCSNE 2016 Notification Due
DESCRIPTION:World Congress on Special Needs Education
URL:http://www.wikicfp.com/cfp/servlet/event.showcfp?eventid=51652&copyow
 nerid=86814
UID:cfp590388-N@wikicfp.com
END:VEVENT
BEGIN:VEVENT
DTSTAMP:20260423T045816Z
DTSTART;VALUE=DATE:20160630
SUMMARY:WCSNE 2016 Final Version Due
DESCRIPTION:World Congress on Special Needs Education
URL:http://www.wikicfp.com/cfp/servlet/event.showcfp?eventid=51652&copyow
 nerid=86814
UID:cfp590388-N@wikicfp.com
END:VEVENT
BEGIN:VEVENT
DTSTAMP:20260423T045816Z
DTSTART;VALUE=DATE:20160606
DTEND;VALUE=DATE:20160611
SUMMARY:CEPD 2016
DESCRIPTION:Special Session on Collaborative Environments and Technologie
 s for the Elderly and People with Disabilities
URL:http://www.wikicfp.com/cfp/servlet/event.showcfp?eventid=52695&copyow
 nerid=86814
UID:cfp590387-E@wikicfp.com
END:VEVENT
BEGIN:VEVENT
DTSTAMP:20260423T045816Z
DTSTART;VALUE=DATE:20160401
SUMMARY:CEPD 2016 Deadline
DESCRIPTION:Special Session on Collaborative Environments and Technologie
 s for the Elderly and People with Disabilities
URL:http://www.wikicfp.com/cfp/servlet/event.showcfp?eventid=52695&copyow
 nerid=86814
UID:cfp590387-D@wikicfp.com
END:VEVENT
BEGIN:VEVENT
DTSTAMP:20260423T045816Z
DTSTART;VALUE=DATE:20160415
SUMMARY:CEPD 2016 Notification Due
DESCRIPTION:Special Session on Collaborative Environments and Technologie
 s for the Elderly and People with Disabilities
URL:http://www.wikicfp.com/cfp/servlet/event.showcfp?eventid=52695&copyow
 nerid=86814
UID:cfp590387-N@wikicfp.com
END:VEVENT
BEGIN:VEVENT
DTSTAMP:20260423T045816Z
DTSTART;VALUE=DATE:20160501
SUMMARY:CEPD 2016 Final Version Due
DESCRIPTION:Special Session on Collaborative Environments and Technologie
 s for the Elderly and People with Disabilities
URL:http://www.wikicfp.com/cfp/servlet/event.showcfp?eventid=52695&copyow
 nerid=86814
UID:cfp590387-N@wikicfp.com
END:VEVENT
BEGIN:VEVENT
DTSTAMP:20260423T045816Z
DTSTART;VALUE=DATE:20160610
DTEND;VALUE=DATE:20160613
SUMMARY:ICCCM 2016
DESCRIPTION:2016 International Conference on Computer Communication and M
 anagement (ICCCM 2016)
URL:http://www.wikicfp.com/cfp/servlet/event.showcfp?eventid=49652&copyow
 nerid=86814
UID:cfp590385-E@wikicfp.com
END:VEVENT
BEGIN:VEVENT
DTSTAMP:20260423T045816Z
DTSTART;VALUE=DATE:20160415
SUMMARY:ICCCM 2016 Deadline
DESCRIPTION:2016 International Conference on Computer Communication and M
 anagement (ICCCM 2016)
URL:http://www.wikicfp.com/cfp/servlet/event.showcfp?eventid=49652&copyow
 nerid=86814
UID:cfp590385-D@wikicfp.com
END:VEVENT
BEGIN:VEVENT
DTSTAMP:20260423T045816Z
DTSTART;VALUE=DATE:20161030
DTEND;VALUE=DATE:20161104
SUMMARY:HCOMP 2016
DESCRIPTION:Conference on Human Computation and Crowdsourcing
URL:http://www.wikicfp.com/cfp/servlet/event.showcfp?eventid=52647&copyow
 nerid=86814
UID:cfp590386-E@wikicfp.com
END:VEVENT
BEGIN:VEVENT
DTSTAMP:20260423T045816Z
DTSTART;VALUE=DATE:20160517
SUMMARY:HCOMP 2016 Deadline
DESCRIPTION:Conference on Human Computation and Crowdsourcing
URL:http://www.wikicfp.com/cfp/servlet/event.showcfp?eventid=52647&copyow
 nerid=86814
UID:cfp590386-D@wikicfp.com
END:VEVENT
BEGIN:VEVENT
DTSTAMP:20260423T045816Z
DTSTART;VALUE=DATE:20160615
SUMMARY:HCOMP 2016 Notification Due
DESCRIPTION:Conference on Human Computation and Crowdsourcing
URL:http://www.wikicfp.com/cfp/servlet/event.showcfp?eventid=52647&copyow
 nerid=86814
UID:cfp590386-N@wikicfp.com
END:VEVENT
BEGIN:VEVENT
DTSTAMP:20260423T045816Z
DTSTART;VALUE=DATE:20160801
SUMMARY:HCOMP 2016 Final Version Due
DESCRIPTION:Conference on Human Computation and Crowdsourcing
URL:http://www.wikicfp.com/cfp/servlet/event.showcfp?eventid=52647&copyow
 nerid=86814
UID:cfp590386-N@wikicfp.com
END:VEVENT
BEGIN:VEVENT
DTSTAMP:20260423T045816Z
DTSTART;VALUE=DATE:20161030
DTEND;VALUE=DATE:20161031
SUMMARY:SNSS 2016
DESCRIPTION:Social Network and Surveillance for Society\, Springer
URL:http://www.wikicfp.com/cfp/servlet/event.showcfp?eventid=49672&copyow
 nerid=86814
UID:cfp590407-E@wikicfp.com
END:VEVENT
BEGIN:VEVENT
DTSTAMP:20260423T045816Z
DTSTART;VALUE=DATE:20160315
SUMMARY:SNSS 2016 Abstract Due
DESCRIPTION:Social Network and Surveillance for Society\, Springer
URL:http://www.wikicfp.com/cfp/servlet/event.showcfp?eventid=49672&copyow
 nerid=86814
UID:cfp590407-A@wikicfp.com
END:VEVENT
BEGIN:VEVENT
DTSTAMP:20260423T045816Z
DTSTART;VALUE=DATE:20160530
SUMMARY:SNSS 2016 Deadline
DESCRIPTION:Social Network and Surveillance for Society\, Springer
URL:http://www.wikicfp.com/cfp/servlet/event.showcfp?eventid=49672&copyow
 nerid=86814
UID:cfp590407-D@wikicfp.com
END:VEVENT
BEGIN:VEVENT
DTSTAMP:20260423T045816Z
DTSTART;VALUE=DATE:20160630
SUMMARY:SNSS 2016 Notification Due
DESCRIPTION:Social Network and Surveillance for Society\, Springer
URL:http://www.wikicfp.com/cfp/servlet/event.showcfp?eventid=49672&copyow
 nerid=86814
UID:cfp590407-N@wikicfp.com
END:VEVENT
BEGIN:VEVENT
DTSTAMP:20260423T045816Z
DTSTART;VALUE=DATE:20160720
SUMMARY:SNSS 2016 Final Version Due
DESCRIPTION:Social Network and Surveillance for Society\, Springer
URL:http://www.wikicfp.com/cfp/servlet/event.showcfp?eventid=49672&copyow
 nerid=86814
UID:cfp590407-N@wikicfp.com
END:VEVENT
END:VCALENDAR
