BEGIN:VCALENDAR
PRODID:-//WikiCFP//ear_breakfast 1.0//EN
VERSION:2.0
CALSCALE:GREGORIAN
BEGIN:VEVENT
DTSTAMP:20260422T014744Z
DTSTART;VALUE=DATE:20190408
DTEND;VALUE=DATE:20190413
SUMMARY:ICDE 2019
DESCRIPTION:International Conference on Data Engineering
URL:http://www.wikicfp.com/cfp/servlet/event.showcfp?eventid=75795&copyow
 nerid=86809
UID:cfp723408-E@wikicfp.com
END:VEVENT
BEGIN:VEVENT
DTSTAMP:20260422T014744Z
DTSTART;VALUE=DATE:20180525
SUMMARY:ICDE 2019 Abstract Due
DESCRIPTION:International Conference on Data Engineering
URL:http://www.wikicfp.com/cfp/servlet/event.showcfp?eventid=75795&copyow
 nerid=86809
UID:cfp723408-A@wikicfp.com
END:VEVENT
BEGIN:VEVENT
DTSTAMP:20260422T014744Z
DTSTART;VALUE=DATE:20180601
SUMMARY:ICDE 2019 Deadline
DESCRIPTION:International Conference on Data Engineering
URL:http://www.wikicfp.com/cfp/servlet/event.showcfp?eventid=75795&copyow
 nerid=86809
UID:cfp723408-D@wikicfp.com
END:VEVENT
BEGIN:VEVENT
DTSTAMP:20260422T014744Z
DTSTART;VALUE=DATE:20180810
SUMMARY:ICDE 2019 Notification Due
DESCRIPTION:International Conference on Data Engineering
URL:http://www.wikicfp.com/cfp/servlet/event.showcfp?eventid=75795&copyow
 nerid=86809
UID:cfp723408-N@wikicfp.com
END:VEVENT
BEGIN:VEVENT
DTSTAMP:20260422T014744Z
DTSTART;VALUE=DATE:20181019
SUMMARY:ICDE 2019 Final Version Due
DESCRIPTION:International Conference on Data Engineering
URL:http://www.wikicfp.com/cfp/servlet/event.showcfp?eventid=75795&copyow
 nerid=86809
UID:cfp723408-N@wikicfp.com
END:VEVENT
END:VCALENDAR
