BEGIN:VCALENDAR
PRODID:-//WikiCFP//alii 1.0//EN
VERSION:2.0
CALSCALE:GREGORIAN
BEGIN:VEVENT
DTSTAMP:20260420T073929Z
DTSTART;VALUE=DATE:20100322
DTEND;VALUE=DATE:20100324
SUMMARY:ISETC 2010
DESCRIPTION:International Solar Energy Technology Conference
URL:http://www.wikicfp.com/cfp/servlet/event.showcfp?eventid=7980&copyown
 erid=8677
UID:cfp63661-E@wikicfp.com
END:VEVENT
BEGIN:VEVENT
DTSTAMP:20260420T073929Z
DTSTART;VALUE=DATE:20100903
DTEND;VALUE=DATE:20100905
SUMMARY:ASQED 2010
DESCRIPTION:Asia Symposium on Quality Electronic Design
URL:http://www.wikicfp.com/cfp/servlet/event.showcfp?eventid=7981&copyown
 erid=8677
UID:cfp63662-E@wikicfp.com
END:VEVENT
BEGIN:VEVENT
DTSTAMP:20260420T073929Z
DTSTART;VALUE=DATE:20100316
SUMMARY:ASQED 2010 Deadline
DESCRIPTION:Asia Symposium on Quality Electronic Design
URL:http://www.wikicfp.com/cfp/servlet/event.showcfp?eventid=7981&copyown
 erid=8677
UID:cfp63662-D@wikicfp.com
END:VEVENT
BEGIN:VEVENT
DTSTAMP:20260420T073929Z
DTSTART;VALUE=DATE:20100424
SUMMARY:ASQED 2010 Notification Due
DESCRIPTION:Asia Symposium on Quality Electronic Design
URL:http://www.wikicfp.com/cfp/servlet/event.showcfp?eventid=7981&copyown
 erid=8677
UID:cfp63662-N@wikicfp.com
END:VEVENT
BEGIN:VEVENT
DTSTAMP:20260420T073929Z
DTSTART;VALUE=DATE:20100602
SUMMARY:ASQED 2010 Final Version Due
DESCRIPTION:Asia Symposium on Quality Electronic Design
URL:http://www.wikicfp.com/cfp/servlet/event.showcfp?eventid=7981&copyown
 erid=8677
UID:cfp63662-N@wikicfp.com
END:VEVENT
END:VCALENDAR
