BEGIN:VCALENDAR
PRODID:-//WikiCFP//qs 1.0//EN
VERSION:2.0
CALSCALE:GREGORIAN
BEGIN:VEVENT
DTSTAMP:20260423T052758Z
DTSTART;VALUE=DATE:20151116
DTEND;VALUE=DATE:20151118
SUMMARY:HotNets 2016
DESCRIPTION:HotNets 2015: 14th ACM Workshop on Hot Topics in Networks
URL:http://www.wikicfp.com/cfp/servlet/event.showcfp?eventid=47061&copyow
 nerid=86729
UID:cfp589858-E@wikicfp.com
END:VEVENT
BEGIN:VEVENT
DTSTAMP:20260423T052758Z
DTSTART;VALUE=DATE:20150710
SUMMARY:HotNets 2016 Abstract Due
DESCRIPTION:HotNets 2015: 14th ACM Workshop on Hot Topics in Networks
URL:http://www.wikicfp.com/cfp/servlet/event.showcfp?eventid=47061&copyow
 nerid=86729
UID:cfp589858-A@wikicfp.com
END:VEVENT
BEGIN:VEVENT
DTSTAMP:20260423T052758Z
DTSTART;VALUE=DATE:20150717
SUMMARY:HotNets 2016 Deadline
DESCRIPTION:HotNets 2015: 14th ACM Workshop on Hot Topics in Networks
URL:http://www.wikicfp.com/cfp/servlet/event.showcfp?eventid=47061&copyow
 nerid=86729
UID:cfp589858-D@wikicfp.com
END:VEVENT
BEGIN:VEVENT
DTSTAMP:20260423T052758Z
DTSTART;VALUE=DATE:20150921
SUMMARY:HotNets 2016 Notification Due
DESCRIPTION:HotNets 2015: 14th ACM Workshop on Hot Topics in Networks
URL:http://www.wikicfp.com/cfp/servlet/event.showcfp?eventid=47061&copyow
 nerid=86729
UID:cfp589858-N@wikicfp.com
END:VEVENT
BEGIN:VEVENT
DTSTAMP:20260423T052758Z
DTSTART;VALUE=DATE:20151016
SUMMARY:HotNets 2016 Final Version Due
DESCRIPTION:HotNets 2015: 14th ACM Workshop on Hot Topics in Networks
URL:http://www.wikicfp.com/cfp/servlet/event.showcfp?eventid=47061&copyow
 nerid=86729
UID:cfp589858-N@wikicfp.com
END:VEVENT
BEGIN:VEVENT
DTSTAMP:20260423T052758Z
DTSTART;VALUE=DATE:20160425
DTEND;VALUE=DATE:20160430
SUMMARY:NOMS 2016
DESCRIPTION:The 15th IEEE/IFIP Network Operations and Management Symposiu
 m
URL:http://www.wikicfp.com/cfp/servlet/event.showcfp?eventid=47158&copyow
 nerid=86729
UID:cfp589857-E@wikicfp.com
END:VEVENT
BEGIN:VEVENT
DTSTAMP:20260423T052758Z
DTSTART;VALUE=DATE:20150901
SUMMARY:NOMS 2016 Deadline
DESCRIPTION:The 15th IEEE/IFIP Network Operations and Management Symposiu
 m
URL:http://www.wikicfp.com/cfp/servlet/event.showcfp?eventid=47158&copyow
 nerid=86729
UID:cfp589857-D@wikicfp.com
END:VEVENT
BEGIN:VEVENT
DTSTAMP:20260423T052758Z
DTSTART;VALUE=DATE:20151120
SUMMARY:NOMS 2016 Notification Due
DESCRIPTION:The 15th IEEE/IFIP Network Operations and Management Symposiu
 m
URL:http://www.wikicfp.com/cfp/servlet/event.showcfp?eventid=47158&copyow
 nerid=86729
UID:cfp589857-N@wikicfp.com
END:VEVENT
BEGIN:VEVENT
DTSTAMP:20260423T052758Z
DTSTART;VALUE=DATE:20160115
SUMMARY:NOMS 2016 Final Version Due
DESCRIPTION:The 15th IEEE/IFIP Network Operations and Management Symposiu
 m
URL:http://www.wikicfp.com/cfp/servlet/event.showcfp?eventid=47158&copyow
 nerid=86729
UID:cfp589857-N@wikicfp.com
END:VEVENT
BEGIN:VEVENT
DTSTAMP:20260423T052758Z
DTSTART;VALUE=DATE:20160331
DTEND;VALUE=DATE:20160402
SUMMARY:PAM 2016
DESCRIPTION:Passive and Active Network Measurement
URL:http://www.wikicfp.com/cfp/servlet/event.showcfp?eventid=47909&copyow
 nerid=86729
UID:cfp589855-E@wikicfp.com
END:VEVENT
BEGIN:VEVENT
DTSTAMP:20260423T052758Z
DTSTART;VALUE=DATE:20151009
SUMMARY:PAM 2016 Abstract Due
DESCRIPTION:Passive and Active Network Measurement
URL:http://www.wikicfp.com/cfp/servlet/event.showcfp?eventid=47909&copyow
 nerid=86729
UID:cfp589855-A@wikicfp.com
END:VEVENT
BEGIN:VEVENT
DTSTAMP:20260423T052758Z
DTSTART;VALUE=DATE:20151016
SUMMARY:PAM 2016 Deadline
DESCRIPTION:Passive and Active Network Measurement
URL:http://www.wikicfp.com/cfp/servlet/event.showcfp?eventid=47909&copyow
 nerid=86729
UID:cfp589855-D@wikicfp.com
END:VEVENT
BEGIN:VEVENT
DTSTAMP:20260423T052758Z
DTSTART;VALUE=DATE:20151218
SUMMARY:PAM 2016 Notification Due
DESCRIPTION:Passive and Active Network Measurement
URL:http://www.wikicfp.com/cfp/servlet/event.showcfp?eventid=47909&copyow
 nerid=86729
UID:cfp589855-N@wikicfp.com
END:VEVENT
BEGIN:VEVENT
DTSTAMP:20260423T052758Z
DTSTART;VALUE=DATE:20160407
DTEND;VALUE=DATE:20160409
SUMMARY:TMA 2016
DESCRIPTION:8th International Workshop on Traffic Monitoring and Analysis
 
URL:http://www.wikicfp.com/cfp/servlet/event.showcfp?eventid=48794&copyow
 nerid=86729
UID:cfp589856-E@wikicfp.com
END:VEVENT
BEGIN:VEVENT
DTSTAMP:20260423T052758Z
DTSTART;VALUE=DATE:20160111
SUMMARY:TMA 2016 Deadline
DESCRIPTION:8th International Workshop on Traffic Monitoring and Analysis
 
URL:http://www.wikicfp.com/cfp/servlet/event.showcfp?eventid=48794&copyow
 nerid=86729
UID:cfp589856-D@wikicfp.com
END:VEVENT
BEGIN:VEVENT
DTSTAMP:20260423T052758Z
DTSTART;VALUE=DATE:20160215
SUMMARY:TMA 2016 Notification Due
DESCRIPTION:8th International Workshop on Traffic Monitoring and Analysis
 
URL:http://www.wikicfp.com/cfp/servlet/event.showcfp?eventid=48794&copyow
 nerid=86729
UID:cfp589856-N@wikicfp.com
END:VEVENT
BEGIN:VEVENT
DTSTAMP:20260423T052758Z
DTSTART;VALUE=DATE:20160229
SUMMARY:TMA 2016 Final Version Due
DESCRIPTION:8th International Workshop on Traffic Monitoring and Analysis
 
URL:http://www.wikicfp.com/cfp/servlet/event.showcfp?eventid=48794&copyow
 nerid=86729
UID:cfp589856-N@wikicfp.com
END:VEVENT
END:VCALENDAR
