BEGIN:VCALENDAR
PRODID:-//WikiCFP//CoKo 1.0//EN
VERSION:2.0
CALSCALE:GREGORIAN
BEGIN:VEVENT
DTSTAMP:20260422T200734Z
DTSTART;VALUE=DATE:20130131
SUMMARY:SAIPD_CRC 2013 Abstract Due
DESCRIPTION:The State of the Art in Intrusion Prevention and Detection
URL:http://www.wikicfp.com/cfp/servlet/event.showcfp?eventid=28229&copyow
 nerid=86449
UID:cfp588763-A@wikicfp.com
END:VEVENT
BEGIN:VEVENT
DTSTAMP:20260422T200734Z
DTSTART;VALUE=DATE:20130405
SUMMARY:SAIPD_CRC 2013 Deadline
DESCRIPTION:The State of the Art in Intrusion Prevention and Detection
URL:http://www.wikicfp.com/cfp/servlet/event.showcfp?eventid=28229&copyow
 nerid=86449
UID:cfp588763-D@wikicfp.com
END:VEVENT
BEGIN:VEVENT
DTSTAMP:20260422T200734Z
DTSTART;VALUE=DATE:20130505
SUMMARY:SAIPD_CRC 2013 Notification Due
DESCRIPTION:The State of the Art in Intrusion Prevention and Detection
URL:http://www.wikicfp.com/cfp/servlet/event.showcfp?eventid=28229&copyow
 nerid=86449
UID:cfp588763-N@wikicfp.com
END:VEVENT
BEGIN:VEVENT
DTSTAMP:20260422T200734Z
DTSTART;VALUE=DATE:20130605
SUMMARY:SAIPD_CRC 2013 Final Version Due
DESCRIPTION:The State of the Art in Intrusion Prevention and Detection
URL:http://www.wikicfp.com/cfp/servlet/event.showcfp?eventid=28229&copyow
 nerid=86449
UID:cfp588763-N@wikicfp.com
END:VEVENT
BEGIN:VEVENT
DTSTAMP:20260422T200734Z
DTSTART;VALUE=DATE:20141028
DTEND;VALUE=DATE:20141029
SUMMARY:SaSeIoT 2014
DESCRIPTION:First International Conference on Safety and Security in Inte
 rnet of Things
URL:http://www.wikicfp.com/cfp/servlet/event.showcfp?eventid=38438&copyow
 nerid=86449
UID:cfp588762-E@wikicfp.com
END:VEVENT
BEGIN:VEVENT
DTSTAMP:20260422T200734Z
DTSTART;VALUE=DATE:20140831
SUMMARY:SaSeIoT 2014 Deadline
DESCRIPTION:First International Conference on Safety and Security in Inte
 rnet of Things
URL:http://www.wikicfp.com/cfp/servlet/event.showcfp?eventid=38438&copyow
 nerid=86449
UID:cfp588762-D@wikicfp.com
END:VEVENT
BEGIN:VEVENT
DTSTAMP:20260422T200734Z
DTSTART;VALUE=DATE:20140915
SUMMARY:SaSeIoT 2014 Notification Due
DESCRIPTION:First International Conference on Safety and Security in Inte
 rnet of Things
URL:http://www.wikicfp.com/cfp/servlet/event.showcfp?eventid=38438&copyow
 nerid=86449
UID:cfp588762-N@wikicfp.com
END:VEVENT
BEGIN:VEVENT
DTSTAMP:20260422T200734Z
DTSTART;VALUE=DATE:20140930
SUMMARY:SaSeIoT 2014 Final Version Due
DESCRIPTION:First International Conference on Safety and Security in Inte
 rnet of Things
URL:http://www.wikicfp.com/cfp/servlet/event.showcfp?eventid=38438&copyow
 nerid=86449
UID:cfp588762-N@wikicfp.com
END:VEVENT
BEGIN:VEVENT
DTSTAMP:20260422T200734Z
DTSTART;VALUE=DATE:20150927
DTEND;VALUE=DATE:20151001
SUMMARY:NetSID 2015
DESCRIPTION:The 2nd International Workshop on Network Surveillance and In
 truder Detection Technologies
URL:http://www.wikicfp.com/cfp/servlet/event.showcfp?eventid=44324&copyow
 nerid=86449
UID:cfp588761-E@wikicfp.com
END:VEVENT
BEGIN:VEVENT
DTSTAMP:20260422T200734Z
DTSTART;VALUE=DATE:20150506
SUMMARY:NetSID 2015 Deadline
DESCRIPTION:The 2nd International Workshop on Network Surveillance and In
 truder Detection Technologies
URL:http://www.wikicfp.com/cfp/servlet/event.showcfp?eventid=44324&copyow
 nerid=86449
UID:cfp588761-D@wikicfp.com
END:VEVENT
BEGIN:VEVENT
DTSTAMP:20260422T200734Z
DTSTART;VALUE=DATE:20150626
SUMMARY:NetSID 2015 Notification Due
DESCRIPTION:The 2nd International Workshop on Network Surveillance and In
 truder Detection Technologies
URL:http://www.wikicfp.com/cfp/servlet/event.showcfp?eventid=44324&copyow
 nerid=86449
UID:cfp588761-N@wikicfp.com
END:VEVENT
BEGIN:VEVENT
DTSTAMP:20260422T200734Z
DTSTART;VALUE=DATE:20150722
SUMMARY:NetSID 2015 Final Version Due
DESCRIPTION:The 2nd International Workshop on Network Surveillance and In
 truder Detection Technologies
URL:http://www.wikicfp.com/cfp/servlet/event.showcfp?eventid=44324&copyow
 nerid=86449
UID:cfp588761-N@wikicfp.com
END:VEVENT
BEGIN:VEVENT
DTSTAMP:20260422T200734Z
DTSTART;VALUE=DATE:20150810
DTEND;VALUE=DATE:20150811
SUMMARY:ODDx3 2015
DESCRIPTION:KDD 2015 Workshop on Outlier Definition\, Detection\, and Des
 cription
URL:http://www.wikicfp.com/cfp/servlet/event.showcfp?eventid=45398&copyow
 nerid=86449
UID:cfp588757-E@wikicfp.com
END:VEVENT
BEGIN:VEVENT
DTSTAMP:20260422T200734Z
DTSTART;VALUE=DATE:20150612
SUMMARY:ODDx3 2015 Deadline
DESCRIPTION:KDD 2015 Workshop on Outlier Definition\, Detection\, and Des
 cription
URL:http://www.wikicfp.com/cfp/servlet/event.showcfp?eventid=45398&copyow
 nerid=86449
UID:cfp588757-D@wikicfp.com
END:VEVENT
BEGIN:VEVENT
DTSTAMP:20260422T200734Z
DTSTART;VALUE=DATE:20150630
SUMMARY:ODDx3 2015 Notification Due
DESCRIPTION:KDD 2015 Workshop on Outlier Definition\, Detection\, and Des
 cription
URL:http://www.wikicfp.com/cfp/servlet/event.showcfp?eventid=45398&copyow
 nerid=86449
UID:cfp588757-N@wikicfp.com
END:VEVENT
BEGIN:VEVENT
DTSTAMP:20260422T200734Z
DTSTART;VALUE=DATE:20150710
SUMMARY:ODDx3 2015 Final Version Due
DESCRIPTION:KDD 2015 Workshop on Outlier Definition\, Detection\, and Des
 cription
URL:http://www.wikicfp.com/cfp/servlet/event.showcfp?eventid=45398&copyow
 nerid=86449
UID:cfp588757-N@wikicfp.com
END:VEVENT
BEGIN:VEVENT
DTSTAMP:20260422T200734Z
DTSTART;VALUE=DATE:20160707
DTEND;VALUE=DATE:20160709
SUMMARY:DIMVA 2016
DESCRIPTION:13th International Conference on Detection of Intrusions and 
 Malware & Vulnerability Assessment
URL:http://www.wikicfp.com/cfp/servlet/event.showcfp?eventid=50260&copyow
 nerid=86449
UID:cfp588754-E@wikicfp.com
END:VEVENT
BEGIN:VEVENT
DTSTAMP:20260422T200734Z
DTSTART;VALUE=DATE:20160208
SUMMARY:DIMVA 2016 Deadline
DESCRIPTION:13th International Conference on Detection of Intrusions and 
 Malware & Vulnerability Assessment
URL:http://www.wikicfp.com/cfp/servlet/event.showcfp?eventid=50260&copyow
 nerid=86449
UID:cfp588754-D@wikicfp.com
END:VEVENT
BEGIN:VEVENT
DTSTAMP:20260422T200734Z
DTSTART;VALUE=DATE:20160328
SUMMARY:DIMVA 2016 Notification Due
DESCRIPTION:13th International Conference on Detection of Intrusions and 
 Malware & Vulnerability Assessment
URL:http://www.wikicfp.com/cfp/servlet/event.showcfp?eventid=50260&copyow
 nerid=86449
UID:cfp588754-N@wikicfp.com
END:VEVENT
BEGIN:VEVENT
DTSTAMP:20260422T200734Z
DTSTART;VALUE=DATE:20160428
SUMMARY:DIMVA 2016 Final Version Due
DESCRIPTION:13th International Conference on Detection of Intrusions and 
 Malware & Vulnerability Assessment
URL:http://www.wikicfp.com/cfp/servlet/event.showcfp?eventid=50260&copyow
 nerid=86449
UID:cfp588754-N@wikicfp.com
END:VEVENT
BEGIN:VEVENT
DTSTAMP:20260422T200734Z
DTSTART;VALUE=DATE:20160718
DTEND;VALUE=DATE:20160721
SUMMARY:WiSec 2016
DESCRIPTION:9th ACM Conference on Security and Privacy in Wireless and Mo
 bile Networks
URL:http://www.wikicfp.com/cfp/servlet/event.showcfp?eventid=50241&copyow
 nerid=86449
UID:cfp588210-E@wikicfp.com
END:VEVENT
BEGIN:VEVENT
DTSTAMP:20260422T200734Z
DTSTART;VALUE=DATE:20160226
SUMMARY:WiSec 2016 Abstract Due
DESCRIPTION:9th ACM Conference on Security and Privacy in Wireless and Mo
 bile Networks
URL:http://www.wikicfp.com/cfp/servlet/event.showcfp?eventid=50241&copyow
 nerid=86449
UID:cfp588210-A@wikicfp.com
END:VEVENT
BEGIN:VEVENT
DTSTAMP:20260422T200734Z
DTSTART;VALUE=DATE:20160304
SUMMARY:WiSec 2016 Deadline
DESCRIPTION:9th ACM Conference on Security and Privacy in Wireless and Mo
 bile Networks
URL:http://www.wikicfp.com/cfp/servlet/event.showcfp?eventid=50241&copyow
 nerid=86449
UID:cfp588210-D@wikicfp.com
END:VEVENT
BEGIN:VEVENT
DTSTAMP:20260422T200734Z
DTSTART;VALUE=DATE:20160425
SUMMARY:WiSec 2016 Notification Due
DESCRIPTION:9th ACM Conference on Security and Privacy in Wireless and Mo
 bile Networks
URL:http://www.wikicfp.com/cfp/servlet/event.showcfp?eventid=50241&copyow
 nerid=86449
UID:cfp588210-N@wikicfp.com
END:VEVENT
BEGIN:VEVENT
DTSTAMP:20260422T200734Z
DTSTART;VALUE=DATE:20160520
SUMMARY:WiSec 2016 Final Version Due
DESCRIPTION:9th ACM Conference on Security and Privacy in Wireless and Mo
 bile Networks
URL:http://www.wikicfp.com/cfp/servlet/event.showcfp?eventid=50241&copyow
 nerid=86449
UID:cfp588210-N@wikicfp.com
END:VEVENT
BEGIN:VEVENT
DTSTAMP:20260422T200734Z
DTSTART;VALUE=DATE:20160622
DTEND;VALUE=DATE:20160625
SUMMARY:SOUPS 2016
DESCRIPTION:Symposium On Usable Privacy and Security
URL:http://www.wikicfp.com/cfp/servlet/event.showcfp?eventid=51231&copyow
 nerid=86449
UID:cfp588211-E@wikicfp.com
END:VEVENT
BEGIN:VEVENT
DTSTAMP:20260422T200734Z
DTSTART;VALUE=DATE:20160301
SUMMARY:SOUPS 2016 Abstract Due
DESCRIPTION:Symposium On Usable Privacy and Security
URL:http://www.wikicfp.com/cfp/servlet/event.showcfp?eventid=51231&copyow
 nerid=86449
UID:cfp588211-A@wikicfp.com
END:VEVENT
BEGIN:VEVENT
DTSTAMP:20260422T200734Z
DTSTART;VALUE=DATE:20160304
SUMMARY:SOUPS 2016 Deadline
DESCRIPTION:Symposium On Usable Privacy and Security
URL:http://www.wikicfp.com/cfp/servlet/event.showcfp?eventid=51231&copyow
 nerid=86449
UID:cfp588211-D@wikicfp.com
END:VEVENT
BEGIN:VEVENT
DTSTAMP:20260422T200734Z
DTSTART;VALUE=DATE:20160511
SUMMARY:SOUPS 2016 Notification Due
DESCRIPTION:Symposium On Usable Privacy and Security
URL:http://www.wikicfp.com/cfp/servlet/event.showcfp?eventid=51231&copyow
 nerid=86449
UID:cfp588211-N@wikicfp.com
END:VEVENT
BEGIN:VEVENT
DTSTAMP:20260422T200734Z
DTSTART;VALUE=DATE:20160605
SUMMARY:SOUPS 2016 Final Version Due
DESCRIPTION:Symposium On Usable Privacy and Security
URL:http://www.wikicfp.com/cfp/servlet/event.showcfp?eventid=51231&copyow
 nerid=86449
UID:cfp588211-N@wikicfp.com
END:VEVENT
BEGIN:VEVENT
DTSTAMP:20260422T200734Z
DTSTART;VALUE=DATE:20160926
DTEND;VALUE=DATE:20160929
SUMMARY:Connect Security World 2016
DESCRIPTION:Connect Security World\, Embedded Security for IoT Systems\, 
 Networks and Devices
URL:http://www.wikicfp.com/cfp/servlet/event.showcfp?eventid=52002&copyow
 nerid=86449
UID:cfp588206-E@wikicfp.com
END:VEVENT
BEGIN:VEVENT
DTSTAMP:20260422T200734Z
DTSTART;VALUE=DATE:20160331
SUMMARY:Connect Security World 2016 Deadline
DESCRIPTION:Connect Security World\, Embedded Security for IoT Systems\, 
 Networks and Devices
URL:http://www.wikicfp.com/cfp/servlet/event.showcfp?eventid=52002&copyow
 nerid=86449
UID:cfp588206-D@wikicfp.com
END:VEVENT
BEGIN:VEVENT
DTSTAMP:20260422T200734Z
DTSTART;VALUE=DATE:20160430
SUMMARY:Connect Security World 2016 Notification Due
DESCRIPTION:Connect Security World\, Embedded Security for IoT Systems\, 
 Networks and Devices
URL:http://www.wikicfp.com/cfp/servlet/event.showcfp?eventid=52002&copyow
 nerid=86449
UID:cfp588206-N@wikicfp.com
END:VEVENT
BEGIN:VEVENT
DTSTAMP:20260422T200734Z
DTSTART;VALUE=DATE:20160826
SUMMARY:Connect Security World 2016 Final Version Due
DESCRIPTION:Connect Security World\, Embedded Security for IoT Systems\, 
 Networks and Devices
URL:http://www.wikicfp.com/cfp/servlet/event.showcfp?eventid=52002&copyow
 nerid=86449
UID:cfp588206-N@wikicfp.com
END:VEVENT
BEGIN:VEVENT
DTSTAMP:20260422T200734Z
DTSTART;VALUE=DATE:20160919
DTEND;VALUE=DATE:20160922
SUMMARY:RAID 2016
DESCRIPTION:19th International Symposium on Research  in Attacks\, Intrus
 ions and Defenses 
URL:http://www.wikicfp.com/cfp/servlet/event.showcfp?eventid=52191&copyow
 nerid=86449
UID:cfp588212-E@wikicfp.com
END:VEVENT
BEGIN:VEVENT
DTSTAMP:20260422T200734Z
DTSTART;VALUE=DATE:20160401
SUMMARY:RAID 2016 Deadline
DESCRIPTION:19th International Symposium on Research  in Attacks\, Intrus
 ions and Defenses 
URL:http://www.wikicfp.com/cfp/servlet/event.showcfp?eventid=52191&copyow
 nerid=86449
UID:cfp588212-D@wikicfp.com
END:VEVENT
BEGIN:VEVENT
DTSTAMP:20260422T200734Z
DTSTART;VALUE=DATE:20160603
SUMMARY:RAID 2016 Notification Due
DESCRIPTION:19th International Symposium on Research  in Attacks\, Intrus
 ions and Defenses 
URL:http://www.wikicfp.com/cfp/servlet/event.showcfp?eventid=52191&copyow
 nerid=86449
UID:cfp588212-N@wikicfp.com
END:VEVENT
BEGIN:VEVENT
DTSTAMP:20260422T200734Z
DTSTART;VALUE=DATE:20160708
SUMMARY:RAID 2016 Final Version Due
DESCRIPTION:19th International Symposium on Research  in Attacks\, Intrus
 ions and Defenses 
URL:http://www.wikicfp.com/cfp/servlet/event.showcfp?eventid=52191&copyow
 nerid=86449
UID:cfp588212-N@wikicfp.com
END:VEVENT
BEGIN:VEVENT
DTSTAMP:20260422T200734Z
DTSTART;VALUE=DATE:20161214
DTEND;VALUE=DATE:20161217
SUMMARY:CSS 2016
DESCRIPTION:8th International Symposium on Cyberspace and Security
URL:http://www.wikicfp.com/cfp/servlet/event.showcfp?eventid=51174&copyow
 nerid=86449
UID:cfp588213-E@wikicfp.com
END:VEVENT
BEGIN:VEVENT
DTSTAMP:20260422T200734Z
DTSTART;VALUE=DATE:20160515
SUMMARY:CSS 2016 Deadline
DESCRIPTION:8th International Symposium on Cyberspace and Security
URL:http://www.wikicfp.com/cfp/servlet/event.showcfp?eventid=51174&copyow
 nerid=86449
UID:cfp588213-D@wikicfp.com
END:VEVENT
BEGIN:VEVENT
DTSTAMP:20260422T200734Z
DTSTART;VALUE=DATE:20160915
SUMMARY:CSS 2016 Notification Due
DESCRIPTION:8th International Symposium on Cyberspace and Security
URL:http://www.wikicfp.com/cfp/servlet/event.showcfp?eventid=51174&copyow
 nerid=86449
UID:cfp588213-N@wikicfp.com
END:VEVENT
BEGIN:VEVENT
DTSTAMP:20260422T200734Z
DTSTART;VALUE=DATE:20161115
SUMMARY:CSS 2016 Final Version Due
DESCRIPTION:8th International Symposium on Cyberspace and Security
URL:http://www.wikicfp.com/cfp/servlet/event.showcfp?eventid=51174&copyow
 nerid=86449
UID:cfp588213-N@wikicfp.com
END:VEVENT
BEGIN:VEVENT
DTSTAMP:20260422T200734Z
DTSTART;VALUE=DATE:20160823
DTEND;VALUE=DATE:20160827
SUMMARY:EFINS 2016
DESCRIPTION:The 3rd International Workshop on  the Emerging Future Intern
 et and Network Security
URL:http://www.wikicfp.com/cfp/servlet/event.showcfp?eventid=52843&copyow
 nerid=86449
UID:cfp588207-E@wikicfp.com
END:VEVENT
BEGIN:VEVENT
DTSTAMP:20260422T200734Z
DTSTART;VALUE=DATE:20160515
SUMMARY:EFINS 2016 Deadline
DESCRIPTION:The 3rd International Workshop on  the Emerging Future Intern
 et and Network Security
URL:http://www.wikicfp.com/cfp/servlet/event.showcfp?eventid=52843&copyow
 nerid=86449
UID:cfp588207-D@wikicfp.com
END:VEVENT
BEGIN:VEVENT
DTSTAMP:20260422T200734Z
DTSTART;VALUE=DATE:20160615
SUMMARY:EFINS 2016 Notification Due
DESCRIPTION:The 3rd International Workshop on  the Emerging Future Intern
 et and Network Security
URL:http://www.wikicfp.com/cfp/servlet/event.showcfp?eventid=52843&copyow
 nerid=86449
UID:cfp588207-N@wikicfp.com
END:VEVENT
BEGIN:VEVENT
DTSTAMP:20260422T200734Z
DTSTART;VALUE=DATE:20160701
SUMMARY:EFINS 2016 Final Version Due
DESCRIPTION:The 3rd International Workshop on  the Emerging Future Intern
 et and Network Security
URL:http://www.wikicfp.com/cfp/servlet/event.showcfp?eventid=52843&copyow
 nerid=86449
UID:cfp588207-N@wikicfp.com
END:VEVENT
BEGIN:VEVENT
DTSTAMP:20260422T200734Z
DTSTART;VALUE=DATE:20161026
DTEND;VALUE=DATE:20161029
SUMMARY:SaSeIoT 2016
DESCRIPTION:3rd EAI International Conference on Safety and Security in In
 ternet of Things
URL:http://www.wikicfp.com/cfp/servlet/event.showcfp?eventid=52534&copyow
 nerid=86449
UID:cfp588204-E@wikicfp.com
END:VEVENT
BEGIN:VEVENT
DTSTAMP:20260422T200734Z
DTSTART;VALUE=DATE:20160527
SUMMARY:SaSeIoT 2016 Deadline
DESCRIPTION:3rd EAI International Conference on Safety and Security in In
 ternet of Things
URL:http://www.wikicfp.com/cfp/servlet/event.showcfp?eventid=52534&copyow
 nerid=86449
UID:cfp588204-D@wikicfp.com
END:VEVENT
BEGIN:VEVENT
DTSTAMP:20260422T200734Z
DTSTART;VALUE=DATE:20160701
SUMMARY:SaSeIoT 2016 Notification Due
DESCRIPTION:3rd EAI International Conference on Safety and Security in In
 ternet of Things
URL:http://www.wikicfp.com/cfp/servlet/event.showcfp?eventid=52534&copyow
 nerid=86449
UID:cfp588204-N@wikicfp.com
END:VEVENT
BEGIN:VEVENT
DTSTAMP:20260422T200734Z
DTSTART;VALUE=DATE:20160729
SUMMARY:SaSeIoT 2016 Final Version Due
DESCRIPTION:3rd EAI International Conference on Safety and Security in In
 ternet of Things
URL:http://www.wikicfp.com/cfp/servlet/event.showcfp?eventid=52534&copyow
 nerid=86449
UID:cfp588204-N@wikicfp.com
END:VEVENT
BEGIN:VEVENT
DTSTAMP:20260422T200734Z
DTSTART;VALUE=DATE:20161205
DTEND;VALUE=DATE:20161207
SUMMARY:SSR 2016
DESCRIPTION:Security Standardisation Research 2016
URL:http://www.wikicfp.com/cfp/servlet/event.showcfp?eventid=52761&copyow
 nerid=86449
UID:cfp588214-E@wikicfp.com
END:VEVENT
BEGIN:VEVENT
DTSTAMP:20260422T200734Z
DTSTART;VALUE=DATE:20160530
SUMMARY:SSR 2016 Deadline
DESCRIPTION:Security Standardisation Research 2016
URL:http://www.wikicfp.com/cfp/servlet/event.showcfp?eventid=52761&copyow
 nerid=86449
UID:cfp588214-D@wikicfp.com
END:VEVENT
BEGIN:VEVENT
DTSTAMP:20260422T200734Z
DTSTART;VALUE=DATE:20160808
SUMMARY:SSR 2016 Notification Due
DESCRIPTION:Security Standardisation Research 2016
URL:http://www.wikicfp.com/cfp/servlet/event.showcfp?eventid=52761&copyow
 nerid=86449
UID:cfp588214-N@wikicfp.com
END:VEVENT
BEGIN:VEVENT
DTSTAMP:20260422T200734Z
DTSTART;VALUE=DATE:20160919
SUMMARY:SSR 2016 Final Version Due
DESCRIPTION:Security Standardisation Research 2016
URL:http://www.wikicfp.com/cfp/servlet/event.showcfp?eventid=52761&copyow
 nerid=86449
UID:cfp588214-N@wikicfp.com
END:VEVENT
BEGIN:VEVENT
DTSTAMP:20260422T200734Z
DTSTART;VALUE=DATE:20161205
DTEND;VALUE=DATE:20161210
SUMMARY:ACSAC 2016
DESCRIPTION:Annual Computer Security Applications Conference 2016
URL:http://www.wikicfp.com/cfp/servlet/event.showcfp?eventid=52168&copyow
 nerid=86449
UID:cfp588215-E@wikicfp.com
END:VEVENT
BEGIN:VEVENT
DTSTAMP:20260422T200734Z
DTSTART;VALUE=DATE:20160601
SUMMARY:ACSAC 2016 Deadline
DESCRIPTION:Annual Computer Security Applications Conference 2016
URL:http://www.wikicfp.com/cfp/servlet/event.showcfp?eventid=52168&copyow
 nerid=86449
UID:cfp588215-D@wikicfp.com
END:VEVENT
BEGIN:VEVENT
DTSTAMP:20260422T200734Z
DTSTART;VALUE=DATE:20160815
SUMMARY:ACSAC 2016 Notification Due
DESCRIPTION:Annual Computer Security Applications Conference 2016
URL:http://www.wikicfp.com/cfp/servlet/event.showcfp?eventid=52168&copyow
 nerid=86449
UID:cfp588215-N@wikicfp.com
END:VEVENT
END:VCALENDAR
